BEGIN:VCALENDAR
VERSION:2.0
PRODID:-//ÖFR-Österreichische Gesellschaft für Familien- und regionalgeschichtliche Forschung - ECPv6.15.20//NONSGML v1.0//EN
CALSCALE:GREGORIAN
METHOD:PUBLISH
X-ORIGINAL-URL:https://oefr.at
X-WR-CALDESC:Veranstaltungen für ÖFR-Österreichische Gesellschaft für Familien- und regionalgeschichtliche Forschung
REFRESH-INTERVAL;VALUE=DURATION:PT1H
X-Robots-Tag:noindex
X-PUBLISHED-TTL:PT1H
BEGIN:VTIMEZONE
TZID:Europe/Vienna
BEGIN:DAYLIGHT
TZOFFSETFROM:+0100
TZOFFSETTO:+0200
TZNAME:CEST
DTSTART:20240331T010000
END:DAYLIGHT
BEGIN:STANDARD
TZOFFSETFROM:+0200
TZOFFSETTO:+0100
TZNAME:CET
DTSTART:20241027T010000
END:STANDARD
BEGIN:DAYLIGHT
TZOFFSETFROM:+0100
TZOFFSETTO:+0200
TZNAME:CEST
DTSTART:20250330T010000
END:DAYLIGHT
BEGIN:STANDARD
TZOFFSETFROM:+0200
TZOFFSETTO:+0100
TZNAME:CET
DTSTART:20251026T010000
END:STANDARD
BEGIN:DAYLIGHT
TZOFFSETFROM:+0100
TZOFFSETTO:+0200
TZNAME:CEST
DTSTART:20260329T010000
END:DAYLIGHT
BEGIN:STANDARD
TZOFFSETFROM:+0200
TZOFFSETTO:+0100
TZNAME:CET
DTSTART:20261025T010000
END:STANDARD
END:VTIMEZONE
BEGIN:VEVENT
DTSTART;TZID=Europe/Vienna:20251217T190000
DTEND;TZID=Europe/Vienna:20251217T210000
DTSTAMP:20260423T042343
CREATED:20251116T163839Z
LAST-MODIFIED:20251116T163839Z
UID:16213-1765998000-1766005200@oefr.at
SUMMARY:Ahnenforschung in Tschechien - 230. ÖFR-Online-Genealogiestammtisch
DESCRIPTION:Forschen in Tschechien? Böhmen\, Mähren\, Schlesien? – Sudetenland? – Nichts einfacher als das! \nIn den letzten Jahren wurde von den tschechischen Archiven eine Unzahl von Beständen online gestellt. Wie beginnen\, wie zurechtfinden? \nSie werden überrascht sein\, dass vieles einfacher ist als angenommen. Diesmal bringen wir Ihnen eine Einführung sowohl für alle\, die sich bisher gescheut haben ihre Vorfahren in Tschechien zu suchen\, aber auch viel\, was fortgeschrittenen Forscherinnen und Forschern hilft. \nDipl.-Ing. Leopold Strenn \nAhnenforschung in Tschechien – eine Einführung \nMittwoch\, 17. Dezember 2025\, 19.00 Uhr\, Einlass etwa ab 18.50 Uhr \n(online über Zoom) \n  \nHier kommen Sie zur Anmeldung:\nRegistrieren Sie sich bitte hier:\nhttps://us02web.zoom.us/meeting/register/KIgMe60uS3-HW8yasfXOUA  \nNach der Registrierung erhalten Sie eine Bestätigungs-E-Mail mit dem Zugangslink. Bitte kommen Sie zeitgerecht\, Einlass ab 18.50 Uhr\, da es ab 19.00 Uhr zu Wartezeiten kommen kann! \nDie Teilnahme ist kostenlos und an keine Mitgliedschaft gebunden. \nAlle Informationen zu unseren Veranstaltungen finden Sie auf unserer Website unter: https://oefr.at/events/ \nWir freuen uns über Ihre Teilnahme \nBild: Kronjuwelen Böhmens – K. Pacovsky\, CC BY-SA 4.0 \, via Wikimedia Commons \nteilen teilen teilen 
URL:https://oefr.at/event/ahnenforschung-in-tschechien-230-oefr-online-genealogiestammtisch/
LOCATION:Zoom
CATEGORIES:Genealogenstammtisch,Vortrag,Workshop
ATTACH;FMTTYPE=image/jpeg:https://oefr.at/wp-content/uploads/Kronjuwelen-Boehmens.jpg
END:VEVENT
END:VCALENDAR