BEGIN:VCALENDAR
VERSION:2.0
PRODID:-//ÖFR-Österreichische Gesellschaft für Familien- und regionalgeschichtliche Forschung - ECPv6.15.20//NONSGML v1.0//EN
CALSCALE:GREGORIAN
METHOD:PUBLISH
X-ORIGINAL-URL:https://oefr.at
X-WR-CALDESC:Veranstaltungen für ÖFR-Österreichische Gesellschaft für Familien- und regionalgeschichtliche Forschung
REFRESH-INTERVAL;VALUE=DURATION:PT1H
X-Robots-Tag:noindex
X-PUBLISHED-TTL:PT1H
BEGIN:VTIMEZONE
TZID:Europe/Vienna
BEGIN:DAYLIGHT
TZOFFSETFROM:+0100
TZOFFSETTO:+0200
TZNAME:CEST
DTSTART:20250330T010000
END:DAYLIGHT
BEGIN:STANDARD
TZOFFSETFROM:+0200
TZOFFSETTO:+0100
TZNAME:CET
DTSTART:20251026T010000
END:STANDARD
BEGIN:DAYLIGHT
TZOFFSETFROM:+0100
TZOFFSETTO:+0200
TZNAME:CEST
DTSTART:20260329T010000
END:DAYLIGHT
BEGIN:STANDARD
TZOFFSETFROM:+0200
TZOFFSETTO:+0100
TZNAME:CET
DTSTART:20261025T010000
END:STANDARD
BEGIN:DAYLIGHT
TZOFFSETFROM:+0100
TZOFFSETTO:+0200
TZNAME:CEST
DTSTART:20270328T010000
END:DAYLIGHT
BEGIN:STANDARD
TZOFFSETFROM:+0200
TZOFFSETTO:+0100
TZNAME:CET
DTSTART:20271031T010000
END:STANDARD
END:VTIMEZONE
BEGIN:VEVENT
DTSTART;TZID=Europe/Vienna:20260304T190000
DTEND;TZID=Europe/Vienna:20260304T210000
DTSTAMP:20260420T073947
CREATED:20260224T101315Z
LAST-MODIFIED:20260224T101315Z
UID:16538-1772650800-1772658000@oefr.at
SUMMARY:Strategien gegen genealogische Sackgassen anhand von Beispielen – 239. ÖFR-Genealogiestammtisch über Zoom
DESCRIPTION:Mittwoch\, 4. März 2026\, 19.00 Uhr online über ZOOM \nMit Ing. Wolfgang Zehetner\, BA. \nWas tun\, wenn Herkunftsangaben unklar sind\, Einträge fehlen oder sich eine Spur im Nichts verliert? \nAnhand konkreter Beispiele wird gezeigt\, wie sich Forschungslücken durch systematisches Vorgehen\, die Kombination unterschiedlicher Quellen und den gezielten Einsatz moderner Hilfsmittel schließen lassen. Ein Abend über Irrwege\, Aha-Momente – und darüber\, warum manche Rätsel (noch) ungelöst bleiben. \nIm Anschluss an die Präsentation wird es auch ausreichend Zeit für Diskussionen\, Fragen Ihrerseits und Erfahrungsaustausch geben. \nWieder eine Gelegenheit Neues zu erfahren\, Erfahrungen auszutauschen\, Bekannte\, Forscherkolleginnen und -kollegen zu treffen. \nHier kommen Sie zur Anmeldung: \nhttps://us02web.zoom.us/meeting/register/tTPx0sSNSXaMOKuh74uNdg \nNach der Registrierung erhalten Sie ein Bestätigungs-E-Mail mit dem Zugangslink. \nEinlass ab 18.50 Uhr. Bitte kommen Sie zeitgerecht\, ab 19.00 Uhr kann es zu Wartezeiten kommen. \nMit der Teilnahme an unseren Veranstaltungen stimmen Sie der Veröffentlichung von Fotos\, Video- und Audioaufzeichnungen\, die im Rahmen der Veranstaltungen entstehen\, zu. \nAlle Informationen zu unseren Veranstaltungen finden Sie auf unserer Website unter: https://oefr.at/events/ \nDie Teilnahme ist natürlich kostenlos und an keinerlei Mitgliedschaft gebunden. \nWir freuen uns Sie online zu treffen! \nBild: \nGeneriert mit ChatGPT. \nteilen teilen teilen 
URL:https://oefr.at/event/strategien-gegen-genealogische-sackgassen-anhand-von-beispielen-239-oefr-genealogiestammtisch-ueber-zoom/
LOCATION:Zoom
CATEGORIES:Genealogenstammtisch,Vortrag
ATTACH;FMTTYPE=image/jpeg:https://oefr.at/wp-content/uploads/Sackgasse-Chat-GPT.jpg
END:VEVENT
END:VCALENDAR