BEGIN:VCALENDAR
VERSION:2.0
PRODID:-//ÖFR-Österreichische Gesellschaft für Familien- und regionalgeschichtliche Forschung - ECPv6.15.20//NONSGML v1.0//EN
CALSCALE:GREGORIAN
METHOD:PUBLISH
X-ORIGINAL-URL:https://oefr.at
X-WR-CALDESC:Veranstaltungen für ÖFR-Österreichische Gesellschaft für Familien- und regionalgeschichtliche Forschung
REFRESH-INTERVAL;VALUE=DURATION:PT1H
X-Robots-Tag:noindex
X-PUBLISHED-TTL:PT1H
BEGIN:VTIMEZONE
TZID:Europe/Vienna
BEGIN:DAYLIGHT
TZOFFSETFROM:+0100
TZOFFSETTO:+0200
TZNAME:CEST
DTSTART:20250330T010000
END:DAYLIGHT
BEGIN:STANDARD
TZOFFSETFROM:+0200
TZOFFSETTO:+0100
TZNAME:CET
DTSTART:20251026T010000
END:STANDARD
BEGIN:DAYLIGHT
TZOFFSETFROM:+0100
TZOFFSETTO:+0200
TZNAME:CEST
DTSTART:20260329T010000
END:DAYLIGHT
BEGIN:STANDARD
TZOFFSETFROM:+0200
TZOFFSETTO:+0100
TZNAME:CET
DTSTART:20261025T010000
END:STANDARD
BEGIN:DAYLIGHT
TZOFFSETFROM:+0100
TZOFFSETTO:+0200
TZNAME:CEST
DTSTART:20270328T010000
END:DAYLIGHT
BEGIN:STANDARD
TZOFFSETFROM:+0200
TZOFFSETTO:+0100
TZNAME:CET
DTSTART:20271031T010000
END:STANDARD
END:VTIMEZONE
BEGIN:VEVENT
DTSTART;TZID=Europe/Vienna:20260121T190000
DTEND;TZID=Europe/Vienna:20260121T210000
DTSTAMP:20260422T021047
CREATED:20251220T184807Z
LAST-MODIFIED:20251220T191732Z
UID:16311-1769022000-1769029200@oefr.at
SUMMARY:Vorstellung Jahrbuch 2026 (233. ÖFR-Online-Genealogiestammtisch)
DESCRIPTION:Autorinnen und Autoren des Jahrbuchs berichten über ihren Beitrag. \nMittwoch\, 21.1.2026\, 19.00 Uhr (online über Zoom) \nWie kam es zum Thema\, welche Schwierigkeiten gab es bei den Recherchen\, welche Überraschungen gab es dabei? Wie ging es in der Endphase und welche Tipps können sie aus  den Erfahrungen anderen geben? \nNatürlich soll auch das Feedback der Leserinnen und Leser nicht zu kurz kommen. \nSchlussendlich: Welche Tipps können wir zukünftigen Autorinnen und Autoren geben. \nIm Anschluss natürlich wie immer Möglichkeit Ihre Fragen einer Lösung zuzuführen. Bereiten Sie sie vor\, dass wir Ihnen erfolgreich helfen können (Was ist bekannt? Ausgangsdaten mit Quellenhinweis\, möglichst auch Link\, was suchen Sie?). \nHier kommen Sie zur Anmeldung:\nRegistrieren Sie sich bitte hier ehestmöglich\, die Teilnehmerzahl ist beschränkt: \nhttps://us02web.zoom.us/meeting/register/wdRwuIHnTP2t8xdcva3W0w \nNach der Registrierung erhalten Sie ein Bestätigungs-E-Mail mit dem Zugangslink. Wir ersuchen Sie um pünktliches Erscheinen\, ab 19.00 Uhr kann es zu Wartezeiten kommen. \nMit der Teilnahme an unseren Veranstaltungen stimmen Sie der Veröffentlichung von Fotos\, Video- und Audioaufzeichnungen\, die im Rahmen der Veranstaltungen entstehen\, zu. \nAlle Informationen zu unseren Veranstaltungen finden Sie auf unserer Website unter: https://oefr.at/events/ \nDiese Veranstaltung ist allgemein zugänglich und an keine Mitgliedschaft bei ÖFR gebunden. Wir freuen uns über Ihre Teilnahme. \n  \nteilen teilen teilen 
URL:https://oefr.at/event/vorstellung-jahrbuch-2026-233-oefr-online-genealogiestammtisch/
LOCATION:online
CATEGORIES:Workshop
ATTACH;FMTTYPE=image/jpeg:https://oefr.at/wp-content/uploads/Jahrbuch-2026-Titel-2025-12-20-191546.jpg
END:VEVENT
END:VCALENDAR