BEGIN:VCALENDAR
VERSION:2.0
PRODID:-//ÖFR-Österreichische Gesellschaft für Familien- und regionalgeschichtliche Forschung - ECPv6.15.20//NONSGML v1.0//EN
CALSCALE:GREGORIAN
METHOD:PUBLISH
X-WR-CALNAME:ÖFR-Österreichische Gesellschaft für Familien- und regionalgeschichtliche Forschung
X-ORIGINAL-URL:https://oefr.at
X-WR-CALDESC:Veranstaltungen für ÖFR-Österreichische Gesellschaft für Familien- und regionalgeschichtliche Forschung
REFRESH-INTERVAL;VALUE=DURATION:PT1H
X-Robots-Tag:noindex
X-PUBLISHED-TTL:PT1H
BEGIN:VTIMEZONE
TZID:Europe/Vienna
BEGIN:DAYLIGHT
TZOFFSETFROM:+0100
TZOFFSETTO:+0200
TZNAME:CEST
DTSTART:20250330T010000
END:DAYLIGHT
BEGIN:STANDARD
TZOFFSETFROM:+0200
TZOFFSETTO:+0100
TZNAME:CET
DTSTART:20251026T010000
END:STANDARD
BEGIN:DAYLIGHT
TZOFFSETFROM:+0100
TZOFFSETTO:+0200
TZNAME:CEST
DTSTART:20260329T010000
END:DAYLIGHT
BEGIN:STANDARD
TZOFFSETFROM:+0200
TZOFFSETTO:+0100
TZNAME:CET
DTSTART:20261025T010000
END:STANDARD
BEGIN:DAYLIGHT
TZOFFSETFROM:+0100
TZOFFSETTO:+0200
TZNAME:CEST
DTSTART:20270328T010000
END:DAYLIGHT
BEGIN:STANDARD
TZOFFSETFROM:+0200
TZOFFSETTO:+0100
TZNAME:CET
DTSTART:20271031T010000
END:STANDARD
END:VTIMEZONE
BEGIN:VEVENT
DTSTART;TZID=Europe/Vienna:20260107T090000
DTEND;TZID=Europe/Vienna:20260107T103000
DTSTAMP:20260422T162918
CREATED:20251218T182829Z
LAST-MODIFIED:20251218T182829Z
UID:16288-1767776400-1767781800@oefr.at
SUMMARY:262. ÖFR-Ahnenforschungs-Café über Zoom
DESCRIPTION:Zum 1. Mal in diesem Jahr: Diskutieren über Familienforschung\, Neues erfahren\, Fragen klären\, Lesehilfe erhalten\, wieder Bekannte treffen\, und noch viel mehr. \nMittwoch\, 7. Jänner 2026\, 09.00 bis 10.30 Uhr\, Einlass ab 08.55 Uhr \nWir freuen uns Euch zu treffen\, Teilnahme ist natürlich kostenlos und an keinerlei Mitgliedschaft gebunden. \nHier die Zugangsdaten: \nhttps://us02web.zoom.us/j/81302020900?pwd=UEtYaHNpbkJVTHp1LzZ0U082THcxQT09 \nMeeting-ID: 813 0202 0900 \nKenncode: 343002 \n  \nteilen teilen teilen 
URL:https://oefr.at/event/262-oefr-ahnenforschungs-cafe-ueber-zoom/
LOCATION:online
CATEGORIES:Genealogenstammtisch,Workshop
ATTACH;FMTTYPE=image/jpeg:https://oefr.at/wp-content/uploads/brigitte-tohm-yRH0JI2S2KA-unsplash-scaled-e1735316901704.jpg
END:VEVENT
BEGIN:VEVENT
DTSTART;TZID=Europe/Vienna:20260120T183000
DTEND;TZID=Europe/Vienna:20260120T210000
DTSTAMP:20260422T162918
CREATED:20251223T183614Z
LAST-MODIFIED:20251226T213353Z
UID:16332-1768933800-1768942800@oefr.at
SUMMARY:53. ÖFR-Genealogenstammtisch im Bezirk Mistelbach
DESCRIPTION:DNA-Genealogie – Überblick\, Plattformen und Werkzeuge \nVortragender: MinR Mag. Markus Pasterk\, Gastprof.\, Präsident der ÖFR \nDienstag\, 20.1.2026 um 18:30 Uhr in Gaweinstal\, \nGasthof zum Schwarzen Adler\, Hauptplatz 29\, 2191 Gaweinstal http://www.klapka.at/ \nImmer mehr Menschen nutzen die Möglichkeiten der DNA-Testung\, Unternehmen wachsen wie Pilze aus dem Stamm\, versprechen Klärung von Gesundheits- und Erkrankungsmerkmalen\, oder geben vor\, den ethnologischen Ursprung erklären zu können. \nWas sind die Grundlagen der DNA-Testung\, welche Unternehmen sind die Platzhirsche\, und wie kann DNA-Testung bei der Hilfe von genealogischen Fragen helfen\, darüber soll der Vortrag informieren. Zusätzlich stellen wir genealogische Plattformen wie MyHeritage\, Ancestry\, FamilySearch sowie DNA-Hilfsprogramme wie den DNA-Painter und ähnliches vor. \nIm Anschluss ausreichend Zeit für Diskussionen\, gegenseitige Hilfe\, Erfahrungsaustausch und gemütliches Beisammensein. \nUm für ausreichend Platz zu sorgen\, sind wir dankbar\, wenn Sie uns Ihr Kommen ankündigen. Wir ersuchen deshalb um Anmeldung mit dem Betreff “Mistelbach 53” an mailto:members@oefr.at \nWir freuen uns einander wieder zu sehen. \nBild: C.Stadler/Bwag\, Gaweinstal – Kirchenplatz (2)\, CC BY-SA 4.0 \n  \nteilen teilen teilen 
URL:https://oefr.at/event/53-oefr-genealogenstammtisch-im-bezirk-mistelbach/
LOCATION:Gasthof zum Schwarzen Adler\, Hauptplatz 29\, Gaweinstal\, Niederösterreich\, 2191\, Austria
CATEGORIES:Genealogenstammtisch
ATTACH;FMTTYPE=image/jpeg:https://oefr.at/wp-content/uploads/Gaweinstal_-_Kirchenplatz_2.jpg
END:VEVENT
BEGIN:VEVENT
DTSTART;TZID=Europe/Vienna:20260121T090000
DTEND;TZID=Europe/Vienna:20260121T103000
DTSTAMP:20260422T162918
CREATED:20251218T183546Z
LAST-MODIFIED:20251218T183546Z
UID:16292-1768986000-1768991400@oefr.at
SUMMARY:264. ÖFR-Ahnenforschungs-Café über Zoom
DESCRIPTION:Zum 3. Mal in diesem Jahr: Diskutieren über Familienforschung\, Neues erfahren\, Fragen klären\, Lesehilfe erhalten\, wieder Bekannte treffen\, und noch viel mehr. \nMittwoch\, 21. Jänner 2026\, 09.00 bis 10.30 Uhr\, Einlass ab 08.55 Uhr \nWir freuen uns Euch zu treffen\, Teilnahme ist natürlich kostenlos und an keinerlei Mitgliedschaft gebunden. \nHier die Zugangsdaten: \nhttps://us02web.zoom.us/j/81302020900?pwd=UEtYaHNpbkJVTHp1LzZ0U082THcxQT09 \nMeeting-ID: 813 0202 0900 \nKenncode: 343002 \nteilen teilen teilen 
URL:https://oefr.at/event/264-oefr-ahnenforschungs-cafe-ueber-zoom/
LOCATION:online
CATEGORIES:Genealogenstammtisch,Workshop
ATTACH;FMTTYPE=image/jpeg:https://oefr.at/wp-content/uploads/startup-gf165d9f1b_1280.jpg
END:VEVENT
BEGIN:VEVENT
DTSTART;TZID=Europe/Vienna:20260128T090000
DTEND;TZID=Europe/Vienna:20260128T103000
DTSTAMP:20260422T162918
CREATED:20251218T183955Z
LAST-MODIFIED:20251218T183955Z
UID:16294-1769590800-1769596200@oefr.at
SUMMARY:265. ÖFR-Ahnenforschungs-Café über Zoom
DESCRIPTION:Zum 4. Mal in diesem Jahr: Diskutieren über Familienforschung\, Neues erfahren\, Fragen klären\, Lesehilfe erhalten\, wieder Bekannte treffen\, und noch viel mehr. \nMittwoch\, 28. Jänner 2026\, 09.00 bis 10.30 Uhr\, Einlass ab 08.55 Uhr \nWir freuen uns Euch zu treffen\, Teilnahme ist natürlich kostenlos und an keinerlei Mitgliedschaft gebunden. \nHier die Zugangsdaten: \nhttps://us02web.zoom.us/j/81302020900?pwd=UEtYaHNpbkJVTHp1LzZ0U082THcxQT09 \nMeeting-ID: 813 0202 0900 \nKenncode: 343002 \n  \nteilen teilen teilen 
URL:https://oefr.at/event/265-oefr-ahnenforschungs-cafe-ueber-zoom/
LOCATION:online
CATEGORIES:Genealogenstammtisch,Workshop
ATTACH;FMTTYPE=image/jpeg:https://oefr.at/wp-content/uploads/business-g7d021c8eb_1280.jpg
END:VEVENT
BEGIN:VEVENT
DTSTART;TZID=Europe/Vienna:20260128T190000
DTEND;TZID=Europe/Vienna:20260128T210000
DTSTAMP:20260422T162918
CREATED:20251227T175953Z
LAST-MODIFIED:20251227T181016Z
UID:16349-1769626800-1769634000@oefr.at
SUMMARY:Alte Schriften erfolgreich lesen (234. ÖFR-Online-Genealogiestammtisch)
DESCRIPTION:Immer wieder haben wir Probleme beim Lesen von Handschriften\, sei es die heutige übliche Lateinschrift oder die früher übliche Sütterlin- oder Kurrentschrift. \nWie funktioniert das Lesen eigentlich? Gibt es dazu auch einige Tipps und Tricks\, die uns beim Lesen helfen? \nDies und einiges mehr zum Thema werden wir diesmal behandeln: \nAlte Schriften erfolgreich lesen \nMittwoch\, 28.1.2026\, 19.00 Uhr (online über Zoom) \nmit Dipl.-Ing. Leopold Strenn \nBringen Sie Ihre Beispiele mit\, die Ihnen Probleme beim Lesen machen. Schreiben Sie sich die Quelle (z.B. Archiv\, Pfarre\, Buch-Signatur und Seite sowie den Link) auf\, dass wir Ihnen zügig helfen können. \nIm Anschluss wie immer Möglichkeit Ihre Fragen jedweder Art einer Lösung zuzuführen. Bereiten Sie sie vor\, dass wir Ihnen erfolgreich helfen können (Was ist bekannt? Ausgangsdaten mit Quellenhinweis\, möglichst auch Link\, was suchen Sie?). \nHier kommen Sie zur Anmeldung: \nRegistrieren Sie sich bitte hier ehestmöglich\, die Teilnehmerzahl ist beschränkt: \nhttps://us02web.zoom.us/j/83229968263?pwd=db3ZI6XyNbGi4WbIwwST1S9s6qs7a9.1 \nNach der Registrierung erhalten Sie ein Bestätigungs-E-Mail mit dem Zugangslink. Wir ersuchen Sie um pünktliches Erscheinen\, ab 19.00 Uhr kann es zu Wartezeiten kommen. \nMit der Teilnahme an unseren Veranstaltungen stimmen Sie der Veröffentlichung von Fotos\, Video- und Audioaufzeichnungen\, die im Rahmen der Veranstaltungen entstehen\, zu. \nAlle Informationen zu unseren Veranstaltungen finden Sie auf unserer Website unter: https://oefr.at/events/ \nDiese Veranstaltung ist allgemein zugänglich und an keine Mitgliedschaft bei ÖFR gebunden. Wir freuen uns über Ihre Teilnahme. \nteilen teilen teilen 
URL:https://oefr.at/event/alte-schriften-erfolgreich-lesen-234-oefr-online-genealogiestammtisch/
LOCATION:Zoom
CATEGORIES:Workshop
ATTACH;FMTTYPE=image/jpeg:https://oefr.at/wp-content/uploads/Die-teutsche-Kurrent-Kanzlei-und-Fraktur-Schrift_Titel.jpg
END:VEVENT
END:VCALENDAR