BEGIN:VCALENDAR
VERSION:2.0
PRODID:-//ÖFR-Österreichische Gesellschaft für Familien- und regionalgeschichtliche Forschung - ECPv6.15.20//NONSGML v1.0//EN
CALSCALE:GREGORIAN
METHOD:PUBLISH
X-WR-CALNAME:ÖFR-Österreichische Gesellschaft für Familien- und regionalgeschichtliche Forschung
X-ORIGINAL-URL:https://oefr.at
X-WR-CALDESC:Veranstaltungen für ÖFR-Österreichische Gesellschaft für Familien- und regionalgeschichtliche Forschung
REFRESH-INTERVAL;VALUE=DURATION:PT1H
X-Robots-Tag:noindex
X-PUBLISHED-TTL:PT1H
BEGIN:VTIMEZONE
TZID:Europe/Vienna
BEGIN:DAYLIGHT
TZOFFSETFROM:+0100
TZOFFSETTO:+0200
TZNAME:CEST
DTSTART:20240331T010000
END:DAYLIGHT
BEGIN:STANDARD
TZOFFSETFROM:+0200
TZOFFSETTO:+0100
TZNAME:CET
DTSTART:20241027T010000
END:STANDARD
BEGIN:DAYLIGHT
TZOFFSETFROM:+0100
TZOFFSETTO:+0200
TZNAME:CEST
DTSTART:20250330T010000
END:DAYLIGHT
BEGIN:STANDARD
TZOFFSETFROM:+0200
TZOFFSETTO:+0100
TZNAME:CET
DTSTART:20251026T010000
END:STANDARD
BEGIN:DAYLIGHT
TZOFFSETFROM:+0100
TZOFFSETTO:+0200
TZNAME:CEST
DTSTART:20260329T010000
END:DAYLIGHT
BEGIN:STANDARD
TZOFFSETFROM:+0200
TZOFFSETTO:+0100
TZNAME:CET
DTSTART:20261025T010000
END:STANDARD
END:VTIMEZONE
BEGIN:VEVENT
DTSTART;TZID=Europe/Vienna:20251203T163000
DTEND;TZID=Europe/Vienna:20251203T203000
DTSTAMP:20260422T144817
CREATED:20251021T092245Z
LAST-MODIFIED:20251119T103545Z
UID:16097-1764779400-1764793800@oefr.at
SUMMARY:ÖFR-Genealogiestammtisch in Graz mit Führung im Landesarchiv
DESCRIPTION:Achtung! – Dieser Termin ist bereits ausgebucht. Anmeldungen sind nicht mehr möglich!\nDiesmal freuen wir uns einander in Graz zu treffen. \nAm Mittwoch\, 3.12.2025\, 16.30 Uhr haben wir die Gelegenheit das Steiermärkische Landesarchiv im Rahmen einer Führung zu besichtigen. Bitte seien Sie pünktlich anwesend\, da ein späterer Zutritt nicht möglich sein wird. \nIm Anschluss findet ab 18.15 Uhr der Genealogiestammtisch in der Pizzeria Ristorante Santa Catharina\, Sporgasse 32\, 8010 Graz statt. \nDie Führung ist zahlenmäßig beschränkt. Wir ersuchen deshalb um Anmeldung mit dem Betreff “Graz 01” an members@oefr.at \nWir freuen uns einander zu treffen und viele Erfahrungen austauschen zu können. \nDiese Veranstaltung ist allgemein zugänglich und an keine Mitgliedschaft gebunden. Wir freuen uns über Ihre Teilnahme. \n  \nSteiermärkisches Landesarchiv\, 8010 Graz\, Karmeliterplatz 3 \nPizzeria Ristorante Santa Catharina\, Sporgasse 32\, 8010 Graz. \n  \nPhoto: Andreas Praefcke\, Graz Landesarchiv 1\, CC BY 3.0 \nteilen teilen teilen 
URL:https://oefr.at/event/oefr-genealogiestammtisch-in-graz-mit-fuehrung-im-landesarchiv/
LOCATION:Steiermärkisches Landesarchiv\, Karmeliterplatz 3\, Graz\, Steiermark\, 8010
CATEGORIES:Führung,Genealogenstammtisch
ATTACH;FMTTYPE=image/jpeg:https://oefr.at/wp-content/uploads/Graz_Landesarchiv_1.jpg
END:VEVENT
BEGIN:VEVENT
DTSTART;TZID=Europe/Vienna:20251203T190000
DTEND;TZID=Europe/Vienna:20251203T210000
DTSTAMP:20260422T144817
CREATED:20251014T161451Z
LAST-MODIFIED:20251028T091406Z
UID:16066-1764788400-1764795600@oefr.at
SUMMARY:Wie Ahnenblatt die Genealogische Forschung unterstützen kann – Einführung\, Tools und Neuerungen (228. ÖFR-Online-Genealogiestammtisch)
DESCRIPTION:Mittwoch\, 03.12.2025\, 19:00 Uhr online über Zoom \nmit Dirk Böttcher\, Ahnenblatt \nAhnenblatt \n\nist eine Windows-Software für Familienforscher zur Organisation\, Verwaltung und Ausgabe der eigenen Familiendaten – entwickelt in Deutschland seit 2001.\nAhnenblatt unterstützt bei der Eingabe der Daten u.a. mit einer Plausibilitätsprüfung. Dabei sind der Dateneingabe keine Grenzen gesetzt. Geben Sie beliebig viele Personen mit beliebig vielen Kindern\, Partnern und Ereignissen ein.\nAhnenblatt erlaubt die Erstellung von ansprechenden Tafeln\, Büchern und Listen ausgehend von jeder Person der Verwandtschaft. So lassen sich neben den üblichen Ahnen- und Stammtafeln auch der gemeinsame Vorfahr oder die Verwandtschaftslinie zweier Personen grafisch darstellen. Weiterhin ist die Darstellung aller verwandten Personen in einer Tafel möglich.\n\nZum Vortragenden\n\n\nDirk Böttcher ist der Entwickler von Ahnenblatt\, einer Genealogie-Software für Windows\, welche von ihm seit 2001 vertrieben wird. Er hat an der Friedrich-Alexender Universität in Erlangen Informatik studiert und als Diplom-Informatiker abgeschlossen.\nDer aus Hamburg stammende Dirk Böttcher ist Mitglied im Verein für Computergenealogie e.V.\, im Verein Pommerscher Greif e.V. und in der Ahnenforschergruppe Buxtehude.\nEr ist zudem seit Gründung (2009) Mitglied in der Arbeitsliste GEDCOM-L (https://wiki.genealogy.net/GEDCOM-L)\, in der deutschsprachige Entwickler von Genealogie-Programmen über den Datenaustausch mittels GEDCOM zwischen den Programmen diskutieren und gemeinsame GEDCOM-konforme Import- und Exportregeln beschließen. Daher liegt ihm auch besonders der verlustfreie Datenaustausch via GEDCOM am Herzen\, der in Ahnenblatt als “optimierter GEDCOM-Import” umgesetzt ist.\n\nNach dem Vortrag Diskussion zum Vortrag und zu weiteren Fragen von Ihrer Seite. \nHier kommen Sie zur Anmeldung:\nRegistrieren Sie sich bitte hier ehestmöglich\, die Teilnehmerzahl ist beschränkt: \nhttps://us02web.zoom.us/meeting/register/h1CSyOJUR-WWTaAPr7jiMw \nNach der Registrierung erhalten Sie ein Bestätigungs-E-Mail mit dem Zugangslink. Wir ersuchen Sie um pünktliches Erscheinen\, ab 19.00 Uhr kann es zu Wartezeiten kommen. \nMit der Teilnahme an unseren Veranstaltungen stimmen Sie der Veröffentlichung von Fotos\, Video- und Audioaufzeichnungen\, die im Rahmen der Veranstaltungen entstehen\, zu. \nAlle Informationen zu unseren Veranstaltungen finden Sie auf unserer Website unter: https://oefr.at/events/ \nDiese Veranstaltung ist allgemein zugänglich und an keine Mitgliedschaft gebunden. Wir freuen uns über Ihre Teilnahme. \n  \nteilen teilen teilen 
URL:https://oefr.at/event/wie-ahnenblatt-die-genealogische-forschung-unterstuetzen-kann-einfuehrung-tools-und-neuerungen-228-oefr-online-genealogiestammtisch/
LOCATION:Zoom
CATEGORIES:Genealogenstammtisch,Vortrag
ATTACH;FMTTYPE=image/jpeg:https://oefr.at/wp-content/uploads/Screenshot-2025-10-14-181055.jpg
END:VEVENT
BEGIN:VEVENT
DTSTART;TZID=Europe/Vienna:20251204T170000
DTEND;TZID=Europe/Vienna:20251204T203000
DTSTAMP:20260422T144817
CREATED:20251024T103854Z
LAST-MODIFIED:20251107T175733Z
UID:16106-1764867600-1764880200@oefr.at
SUMMARY:ÖFR-Genealogiestammtisch in KLAGENFURT mit Führung im Landesarchiv
DESCRIPTION:Diesmal freuen wir uns einander in Klagenfurt zu treffen. \nAm Donnerstag\, 4.12.2025\, 17.00 Uhr haben wir die Gelegenheit das Kärntner Landesarchiv im Rahmen einer Führung zu besichtigen. Bitte seien Sie pünktlich anwesend\, da ein späterer Zutritt nicht möglich sein wird. \nIm Anschluss findet ab ca. 18.30 Uhr der ÖFR-Genealogiestammtisch mit Mag. Markus Pasterk in einem nahe gelegenen Lokal statt (Hofbräu zum Lindwurm\, Neuer Platz 10\, 9200 Klagenfurt). \nDie Führung ist zahlenmäßig beschränkt. Wir ersuchen deshalb um ANMELDUNG MIT DEM BETREFF “Klagenfurt 01” an members@oefr.at \nWir freuen uns einander zu treffen und viele Erfahrungen austauschen zu können. \nDiese Veranstaltung ist allgemein zugänglich und an keine Mitgliedschaft gebunden. Wir freuen uns über Ihre Teilnahme. \n  \nKärntner Landesarchiv\, St. Ruprechter Straße 7\, 9020 Klagenfurt a. W. https:// \n  \nBild: de:Benutzer:Binter\, Kaerntner-landesarchiv-haupteingang\, als gemeinfrei gekennzeichnet \n  \n  \nteilen teilen teilen 
URL:https://oefr.at/event/oefr-genealogiestammtisch-in-klagenfurt-mit-fuehrung-im-landesarchiv/
LOCATION:Kärntner Landesarchiv\, St. Ruprechter Straße 7\, Klagenfurt\, Kärnten\, 9020
CATEGORIES:Führung,Genealogenstammtisch
ATTACH;FMTTYPE=image/jpeg:https://oefr.at/wp-content/uploads/Kaerntner-landesarchiv-haupteingang.jpg
END:VEVENT
BEGIN:VEVENT
DTSTART;TZID=Europe/Vienna:20251210T190000
DTEND;TZID=Europe/Vienna:20251210T210000
DTSTAMP:20260422T144817
CREATED:20251116T111138Z
LAST-MODIFIED:20251128T193630Z
UID:16209-1765393200-1765400400@oefr.at
SUMMARY:FamilySearch: Familiengeschichte erleben - Wie die digitale Transformation und KI die Zukunft der Familiengeschichte gestalten (229. ÖFR-Online-Genealogiestammtisch)
DESCRIPTION:Mittwoch\, 10.12.2025\, 19:00 Uhr online über Zoom \nMit Torsten Kux\, Area Manager Europe von FamilySearch International \nZum Vortragenden: \n \nTorsten Kux verfügt über umfassende Erfahrung als Management- und Support-Stratege und arbeitet eng mit Führungskräften\, Geschäftspartnern sowie internen und externen Kontakten zusammen. Nach mehr als 20 Jahren in den Bereichen Support\, Key Account Management und leitenden Positionen in der Familienforschung und Genealogiebranche versteht er\, was Menschen antreibt\, ihre familiären Wurzeln zu erforschen und generationenübergreifende Erlebnisse zu schaffen – sowohl mit modernen Technologien als auch mit traditionellen Methoden. Im Mittelpunkt steht für ihn\, Menschen zu begeistern und ihnen die Freude am Entdecken der eigenen Familiengeschichte zu vermitteln. \nNeben der Zertifizierung als geprüfter Genealoge (DAGV) bringt Torsten einen Masterabschluss in Information Systems von der University of Phoenix sowie ein Ingenieursdiplom in Nachrichtentechnik von der Fachhochschule der Deutschen Telekom in Leipzig mit. \nNach dem Vortrag Diskussion zum Vortrag und zu weiteren Fragen von Ihrer Seite. \nHier kommen Sie zur Anmeldung:\nRegistrieren Sie sich bitte hier: \nhttps://us02web.zoom.us/meeting/register/0YEJ0DK7Qhiiktq14Wq8wA \nNach der Registrierung erhalten Sie eine Bestätigungs-E-Mail mit dem Zugangslink. \nBitte kommen Sie zeitgerecht\, Einlass ab 18.50 Uhr\, da es ab 19.00 Uhr zu Wartezeiten kommen kann! \nDie Teilnahme ist kostenlos und an keine Mitgliedschaft gebunden. \nAlle Informationen zu unseren Veranstaltungen finden Sie auf unserer Website unter: https://oefr.at/events/ \nWir freuen uns über Ihre Teilnahme \nteilen teilen teilen 
URL:https://oefr.at/event/familysearch-229-oefr-online-genealogiestammtisch/
LOCATION:Zoom
CATEGORIES:Vortrag,Workshop
ATTACH;FMTTYPE=image/jpeg:https://oefr.at/wp-content/uploads/Familysearch_Screenshot-2025-11-16-115943.jpg
END:VEVENT
BEGIN:VEVENT
DTSTART;TZID=Europe/Vienna:20251231T090000
DTEND;TZID=Europe/Vienna:20251231T103000
DTSTAMP:20260422T144817
CREATED:20251218T182513Z
LAST-MODIFIED:20251218T182513Z
UID:16286-1767171600-1767177000@oefr.at
SUMMARY:261. ÖFR-Ahnenforschungs-Café über Zoom
DESCRIPTION:Zum 51. Mal in diesem Jahr: Diskutieren über Familienforschung\, Neues erfahren\, Fragen klären\, Lesehilfe erhalten\, wieder Bekannte treffen\, und noch viel mehr. \nMittwoch\, 31. Dezember 2025\, 09.00 bis 10.30 Uhr\, Einlass ab 08.55 Uhr \nWir freuen uns Euch zu treffen\, Teilnahme ist natürlich kostenlos und an keinerlei Mitgliedschaft gebunden. \nHier die Zugangsdaten: \nhttps://us02web.zoom.us/j/81302020900?pwd=UEtYaHNpbkJVTHp1LzZ0U082THcxQT09 \nMeeting-ID: 813 0202 0900 \nKenncode: 343002 \nteilen teilen teilen 
URL:https://oefr.at/event/261-oefr-ahnenforschungs-cafe-ueber-zoom/
LOCATION:Zoom
CATEGORIES:Genealogenstammtisch,Workshop
ATTACH;FMTTYPE=image/jpeg:https://oefr.at/wp-content/uploads/laptop-6062423_1280.jpg
END:VEVENT
END:VCALENDAR