BEGIN:VCALENDAR
VERSION:2.0
PRODID:-//ÖFR-Österreichische Gesellschaft für Familien- und regionalgeschichtliche Forschung - ECPv6.15.20//NONSGML v1.0//EN
CALSCALE:GREGORIAN
METHOD:PUBLISH
X-WR-CALNAME:ÖFR-Österreichische Gesellschaft für Familien- und regionalgeschichtliche Forschung
X-ORIGINAL-URL:https://oefr.at
X-WR-CALDESC:Veranstaltungen für ÖFR-Österreichische Gesellschaft für Familien- und regionalgeschichtliche Forschung
REFRESH-INTERVAL;VALUE=DURATION:PT1H
X-Robots-Tag:noindex
X-PUBLISHED-TTL:PT1H
BEGIN:VTIMEZONE
TZID:Europe/Vienna
BEGIN:DAYLIGHT
TZOFFSETFROM:+0100
TZOFFSETTO:+0200
TZNAME:CEST
DTSTART:20250330T010000
END:DAYLIGHT
BEGIN:STANDARD
TZOFFSETFROM:+0200
TZOFFSETTO:+0100
TZNAME:CET
DTSTART:20251026T010000
END:STANDARD
BEGIN:DAYLIGHT
TZOFFSETFROM:+0100
TZOFFSETTO:+0200
TZNAME:CEST
DTSTART:20260329T010000
END:DAYLIGHT
BEGIN:STANDARD
TZOFFSETFROM:+0200
TZOFFSETTO:+0100
TZNAME:CET
DTSTART:20261025T010000
END:STANDARD
BEGIN:DAYLIGHT
TZOFFSETFROM:+0100
TZOFFSETTO:+0200
TZNAME:CEST
DTSTART:20270328T010000
END:DAYLIGHT
BEGIN:STANDARD
TZOFFSETFROM:+0200
TZOFFSETTO:+0100
TZNAME:CET
DTSTART:20271031T010000
END:STANDARD
END:VTIMEZONE
BEGIN:VEVENT
DTSTART;TZID=Europe/Vienna:20260114T190000
DTEND;TZID=Europe/Vienna:20260114T210000
DTSTAMP:20260422T035756
CREATED:20251218T195642Z
LAST-MODIFIED:20251218T195642Z
UID:16298-1768417200-1768424400@oefr.at
SUMMARY:Auswertung und Präsentation von genealogischen Daten mit Familienbuch 6.0 (232. ÖFR-Genealogiestammtisch)
DESCRIPTION:Auswertung und Präsentation von genealogischen Daten mit Familienbuch 6.0  \n(232. ÖFR-Genealogiestammtisch) \nMit Jan Escholt \nMittwoch\, 14. Jänner 2026\, 19.00 Uhr – online über Zoom \nFamilienbuch 6.0 \nDas Programm startete 1991 als DOS-Programm unter dem Namen Ahnen-Ordner bis zur Version 4\,6\, um die zeitintensiven Karteikarten zu ersetzen. Seit dem Genealogentag 2009 in Bielefeld ist das Programm mit der Namensänderung Familienbuch 5.0 für MS-Windows verfügbar. Wichtig ist bei der Entwicklung\, immer eine übersichtliche Oberfläche anzubieten. Dabei bietet Familienbuch 6.0 eine Vielzahl von Auswertungen der erfassten Daten\, und eine große Anzahl von Listen und grafischen Darstellungen. \nSeit der Version 6.0 im Frühjahr 2015 das erste und bislang einzige Windows-Genealogie-Programm aus dem deutschen Sprachraum\, das von FamilySearch zertifiziert wurde. Das beinhaltet den Austausch von Daten in beide Richtungen\, Suche nach Personen\, einfacher Abgleich von Daten\, und weltweit nahezu einzigartig das Abrufen von Verordnungsdaten. \nDurch die Continuous Delivery-Strategie wird das Programm ständig weiterentwickelt\, ohne dass die Anwender lange auf Updates warten müssen. Dabei werden meist monatlich in kostenfreien Updates neue Funktionen veröffentlicht\, bestehende Funktionen erweitert\, und Probleme behoben. \nZum Vortragenden \nAls gebürtiger Harburger (dem Teil Hamburgs südlich der Elbe) hat Jan Escholt gut zwei Jahre in Österreich gelebt – überwiegend in der Steiermark\, aber auch in Kärnten und Niederösterreich. Seit der Aufnahme des Studiums der Werkstofftechnik wohnt er in Melle\, nahe Osnabrück\, der Stadt des Westfälischen Friedens. Der gelernte Maschinenschlosser und Industriekaufmann arbeitet heute als freiberuflicher Softwareentwickler. \nFamilienbuch 6.0 bot die einmalige Möglichkeit\, die beiden Hobbys Softwareentwicklung und Familienforschung zu vereinen. Auslöser war eine schlaflose Nacht nach der Geburt des ersten Sohnes\, dem ersten von vier Kindern. \nEscholt ist Gründungsmitglied der Arbeitsgruppe GEDCOM-L des Vereins für Computergenealogie e. V.\, die seit 2009 daran arbeitet\, den Datenaustausch per GEDCOM zwischen den verschiedenen Genealogieprogrammen zu verbessern. Die diskutierten und beschlossenen Ergebnisse werden konsequent umgesetzt\, wie auch Eigenheiten verschiedener Programme oder Fehler berücksichtigt werden\, damit soweit möglich trotz Abweichungen vom GEDCOM-Standard ein Import der Daten ermöglicht wird. \nNach dem Vortrag Diskussion zum Vortrag und zu weiteren Fragen von Ihrer Seite. \nHier kommen Sie zur Anmeldung:\nRegistrieren Sie sich bitte hier ehestmöglich\, die Teilnehmerzahl ist beschränkt: \nhttps://us02web.zoom.us/meeting/register/oMOPHeowT6yFdpHs45PoxA \nNach der Registrierung erhalten Sie ein Bestätigungs-E-Mail mit dem Zugangslink. Wir ersuchen Sie um pünktliches Erscheinen\, ab 19.00 Uhr kann es zu Wartezeiten kommen. \nMit der Teilnahme an unseren Veranstaltungen stimmen Sie der Veröffentlichung von Fotos\, Video- und Audioaufzeichnungen\, die im Rahmen der Veranstaltungen entstehen\, zu. \nAlle Informationen zu unseren Veranstaltungen finden Sie auf unserer Website unter: https://oefr.at/events/ \nDiese Veranstaltung ist allgemein zugänglich und an keine Mitgliedschaft bei ÖFR gebunden. Wir freuen uns über Ihre Teilnahme. \n  \nteilen teilen teilen 
URL:https://oefr.at/event/auswertung-und-praesentation-von-genealogischen-daten-mit-familienbuch-6-0-232-oefr-genealogiestammtisch/
LOCATION:online
CATEGORIES:Genealogenstammtisch,Vortrag
ATTACH;FMTTYPE=image/jpeg:https://oefr.at/wp-content/uploads/Familienbuch-Screenshot-2025-12-18-205309.jpg
END:VEVENT
END:VCALENDAR