BEGIN:VCALENDAR
VERSION:2.0
PRODID:-//ÖFR-Österreichische Gesellschaft für Familien- und regionalgeschichtliche Forschung - ECPv6.15.20//NONSGML v1.0//EN
CALSCALE:GREGORIAN
METHOD:PUBLISH
X-ORIGINAL-URL:https://oefr.at
X-WR-CALDESC:Veranstaltungen für ÖFR-Österreichische Gesellschaft für Familien- und regionalgeschichtliche Forschung
REFRESH-INTERVAL;VALUE=DURATION:PT1H
X-Robots-Tag:noindex
X-PUBLISHED-TTL:PT1H
BEGIN:VTIMEZONE
TZID:Europe/Vienna
BEGIN:DAYLIGHT
TZOFFSETFROM:+0100
TZOFFSETTO:+0200
TZNAME:CEST
DTSTART:20240331T010000
END:DAYLIGHT
BEGIN:STANDARD
TZOFFSETFROM:+0200
TZOFFSETTO:+0100
TZNAME:CET
DTSTART:20241027T010000
END:STANDARD
BEGIN:DAYLIGHT
TZOFFSETFROM:+0100
TZOFFSETTO:+0200
TZNAME:CEST
DTSTART:20250330T010000
END:DAYLIGHT
BEGIN:STANDARD
TZOFFSETFROM:+0200
TZOFFSETTO:+0100
TZNAME:CET
DTSTART:20251026T010000
END:STANDARD
BEGIN:DAYLIGHT
TZOFFSETFROM:+0100
TZOFFSETTO:+0200
TZNAME:CEST
DTSTART:20260329T010000
END:DAYLIGHT
BEGIN:STANDARD
TZOFFSETFROM:+0200
TZOFFSETTO:+0100
TZNAME:CET
DTSTART:20261025T010000
END:STANDARD
END:VTIMEZONE
BEGIN:VEVENT
DTSTART;TZID=Europe/Vienna:20251105T090000
DTEND;TZID=Europe/Vienna:20251105T103000
DTSTAMP:20260421T134656
CREATED:20251102T182435Z
LAST-MODIFIED:20251102T182435Z
UID:16166-1762333200-1762338600@oefr.at
SUMMARY:254. ÖFR-Ahnenforschungs-Café über Zoom
DESCRIPTION:Zum 44. Mal in diesem Jahr: Diskutieren über Familienforschung\, Neues erfahren\, Fragen klären\, Lesehilfe erhalten\, wieder Bekannte treffen\, und noch viel mehr. \nMittwoch\, 5. November 2025\, 09.00 bis 10.30 Uhr\, Einlass ab 08.55 Uhr \nWir freuen uns Euch zu treffen\, Teilnahme ist natürlich kostenlos und an keinerlei Mitgliedschaft gebunden. \nHier die Zugangsdaten: \nhttps://us02web.zoom.us/j/81302020900?pwd=UEtYaHNpbkJVTHp1LzZ0U082THcxQT09 \nMeeting-ID: 813 0202 0900 \nKenncode: 343002 \nteilen teilen teilen 
URL:https://oefr.at/event/254-oefr-ahnenforschungs-cafe-ueber-zoom/
LOCATION:Zoom
CATEGORIES:Workshop
END:VEVENT
BEGIN:VEVENT
DTSTART;TZID=Europe/Vienna:20251105T190000
DTEND;TZID=Europe/Vienna:20251105T210000
DTSTAMP:20260421T134656
CREATED:20251025T175014Z
LAST-MODIFIED:20251025T175014Z
UID:16124-1762369200-1762376400@oefr.at
SUMMARY:Auf der Suche nach Todes- und weiteren Daten
DESCRIPTION:Wir stehen vor einem Grabstein und finden das gesuchte Sterbedatum. Wie mehr über diese Person erfahren? \nOft ist es auch umgekehrt: Wir wissen Trauungs- und Geburtsdatum\, über den weiteren Lebensweg wissen wir nichts\, nicht einmal das Todesdatum. Wie finden wir weitere Daten? \nDiesmal wollen wir nach einer kurzen Einführung mit Hinweis auch auf neu zugängige Quellen gemeinsam mögliche Wege erarbeiten. \nBringen Sie Ihre offenen Fälle mit. Bitte diese bereits vorher notieren (bekannte Informationen mit Quellenangabe und Link)\, dass wir keine Zeit mit der Suche vertrödeln. \nAuf der Suche nach Todes- und weiteren Daten \n(224. Online-Genealogiestammtisch der ÖFR) \nMittwoch\, 5. November 2025\, 19.00 Uhr – online über Zoom \nmit Dipl.-Ing. Leopold Strenn \nNach der Bearbeitung Ihrer Fragen allgemeine Diskussion zu Themen Ihrer Wahl\, Lese- und Forschungshilfe\, Berichte und Neuigkeiten. \nHier kommen Sie zur Anmeldung: \nRegistrieren Sie sich bitte hier ehestmöglich\, die Teilnehmerzahl ist beschränkt: \nhttps://us02web.zoom.us/meeting/register/NdUBabXGT0mYTEwrMf0Rtg \nNach der Registrierung erhalten Sie ein Bestätigungs-E-Mail mit dem Zugangslink. Wir ersuchen Sie um pünktliches Erscheinen\, ab 19.00 Uhr kann es zu Wartezeiten kommen. \nMit der Teilnahme an unseren Veranstaltungen stimmen Sie der Veröffentlichung von Fotos\, Video- und Audioaufzeichnungen\, die im Rahmen der Veranstaltungen entstehen\, zu. \nAlle Informationen zu unseren Veranstaltungen finden Sie auf unserer Website unter: https://oefr.at/events/ \nDiese Veranstaltung ist allgemein zugänglich und an keine Mitgliedschaft gebunden. Wir freuen uns über Ihre Teilnahme. \nteilen teilen teilen 
URL:https://oefr.at/event/auf-der-suche-nach-todes-und-weiteren-daten/
LOCATION:Zoom
CATEGORIES:Genealogenstammtisch,Workshop
ATTACH;FMTTYPE=image/jpeg:https://oefr.at/wp-content/uploads/Eder-Albin-Lovran-_Strenn_2014-P1400472.jpg
END:VEVENT
BEGIN:VEVENT
DTSTART;TZID=Europe/Vienna:20251112T090000
DTEND;TZID=Europe/Vienna:20251112T103000
DTSTAMP:20260421T134656
CREATED:20251102T182910Z
LAST-MODIFIED:20251102T182910Z
UID:16169-1762938000-1762943400@oefr.at
SUMMARY:255. ÖFR-Ahnenforschungs-Café über Zoom
DESCRIPTION:Zum 45. Mal in diesem Jahr: Diskutieren über Familienforschung\, Neues erfahren\, Fragen klären\, Lesehilfe erhalten\, wieder Bekannte treffen\, und noch viel mehr. \nMittwoch\, 12. November 2025\, 09.00 bis 10.30 Uhr\, Einlass ab 08.55 Uhr \nWir freuen uns Euch zu treffen\, Teilnahme ist natürlich kostenlos und an keinerlei Mitgliedschaft gebunden. \nHier die Zugangsdaten: \nhttps://us02web.zoom.us/j/81302020900?pwd=UEtYaHNpbkJVTHp1LzZ0U082THcxQT09 \nMeeting-ID: 813 0202 0900 \nKenncode: 343002 \nteilen teilen teilen 
URL:https://oefr.at/event/255-oefr-ahnenforschungs-cafe-ueber-zoom/
LOCATION:Zoom
CATEGORIES:Workshop
END:VEVENT
BEGIN:VEVENT
DTSTART;TZID=Europe/Vienna:20251112T190000
DTEND;TZID=Europe/Vienna:20251112T213000
DTSTAMP:20260421T134656
CREATED:20251028T094235Z
LAST-MODIFIED:20251030T172202Z
UID:16130-1762974000-1762983000@oefr.at
SUMMARY:Heredis 2026 - Einführung\, Möglichkeiten und neue Tools  (225. ÖFR-Online-Genealogiestammtisch)
DESCRIPTION:Seit mehr als 30 Jahren entwickelt der französische Software-Hersteller Heredis ein innovatives Programm zur Familienforschung. Mehr als 200 Funktionen unterstützen Hobby- und Berufsgenealogen von A bis Z bei ihren Nachforschungen: von der Suche nach Vorfahren über die Verwaltung der gefundenen Daten bis hin zur Erstellung eindrucksvoller Stammbäume und Bücher\, wie z. B. Ortsfamilienbücher. Mitte September erschien die neue Version Heredis 2026! \nDiese hält für Nutzer spannende Weiterentwicklungen bereit\, um neue Wege in ihrer Ahnenforschung gehen zu können. \nMatylda Tadrowski\, Vereinsberaterin bei Heredis\, wird Ihnen Heredis 2026 vorstellen. \nWeitere Informationen zu Heredis unter: https://home.heredis.com/de/ \nMitglieder der ÖFR erhalten bei Neukauf der Genealogiesoftware einen Preisnachlass. Mehr dazu z.B. an duiesem Abend. \nMittwoch\, 12.11.2025\, 19.00 Uhr online über Zoom  \nmit Matylda Tadrowski\, Heredis \nHier kommen Sie zur Anmeldung: \nRegistrieren Sie sich bitte hier:\nhttps://us02web.zoom.us/meeting/register/Tig6-5yfRXKSkOS5rodkjA \nNach der Registrierung erhalten Sie eine Bestätigungs-E-Mail mit dem Zugangslink. \nBitte kommen Sie zeitgerecht\, Einlass ab 18.50 Uhr\, da es ab 19.00 Uhr zu Wartezeiten kommen kann! \nDie Teilnahme ist kostenlos und an keine Mitgliedschaft gebunden. \nAlle Informationen zu unseren Veranstaltungen finden Sie auf unserer Website unter: https://oefr.at/events/ \nWir freuen uns über Ihre Teilnahme \nteilen teilen teilen 
URL:https://oefr.at/event/heredis-2026-einfuehrung-moeglichkeiten-und-neue-tools-225-oefr-online-genealogiestammtisch/
LOCATION:Zoom
CATEGORIES:Genealogenstammtisch,Vortrag
ATTACH;FMTTYPE=image/jpeg:https://oefr.at/wp-content/uploads/Heredis-Screenshot-2025-10-28-103903.jpg
END:VEVENT
BEGIN:VEVENT
DTSTART;TZID=Europe/Vienna:20251119T090000
DTEND;TZID=Europe/Vienna:20251119T103000
DTSTAMP:20260421T134656
CREATED:20251102T183244Z
LAST-MODIFIED:20251102T183244Z
UID:16171-1763542800-1763548200@oefr.at
SUMMARY:256. ÖFR-Ahnenforschungs-Café über Zoom
DESCRIPTION:Zum 46. Mal in diesem Jahr: Diskutieren über Familienforschung\, Neues erfahren\, Fragen klären\, Lesehilfe erhalten\, wieder Bekannte treffen\, und noch viel mehr. \nMittwoch\, 19. November 2025\, 09.00 bis 10.30 Uhr\, Einlass ab 08.55 Uhr \nWir freuen uns Euch zu treffen\, Teilnahme ist natürlich kostenlos und an keinerlei Mitgliedschaft gebunden. \nHier die Zugangsdaten: \nhttps://us02web.zoom.us/j/81302020900?pwd=UEtYaHNpbkJVTHp1LzZ0U082THcxQT09 \nMeeting-ID: 813 0202 0900 \nKenncode: 343002 \nteilen teilen teilen 
URL:https://oefr.at/event/256-oefr-ahnenforschungs-cafe-ueber-zoom/
LOCATION:Zoom
CATEGORIES:Workshop
END:VEVENT
BEGIN:VEVENT
DTSTART;TZID=Europe/Vienna:20251119T190000
DTEND;TZID=Europe/Vienna:20251119T213000
DTSTAMP:20260421T134656
CREATED:20251028T095549Z
LAST-MODIFIED:20251115T163743Z
UID:16135-1763578800-1763587800@oefr.at
SUMMARY:DNA-Genealogie 3. Teil (226. ÖFR-Online-Genealogiestammtisch)
DESCRIPTION:Diesmal besprechen wir Hilfsmittel\, die ihnen helfen gemeinsame Vorfahren zu finden: Cluster-Analyse\, Chromosomen-Browser und DNA-Painter: \nMittwoch\, 19.11.2025\, 19.00 Uhr (Zoom) \n mit Mag. Markus Pasterk \nHier kommen Sie zur Anmeldung: \nRegistrieren Sie sich bitte hier:\nhttps://us02web.zoom.us/meeting/register/17YQKlSNSr-fzALBR9cSsg \nNach der Registrierung erhalten Sie eine Bestätigungs-E-Mail mit dem Zugangslink. \nBitte kommen Sie zeitgerecht\, Einlass ab 18.50 Uhr\, da es ab 19.00 Uhr zu Wartezeiten kommen kann! \nDie Teilnahme ist kostenlos und an keine Mitgliedschaft gebunden. \nAlle Informationen zu unseren Veranstaltungen finden Sie auf unserer Website unter: https://oefr.at/events/ \nWir freuen uns über Ihre Teilnahme \n  \nteilen teilen teilen 
URL:https://oefr.at/event/dna-genealogie-3-teil-226-oefr-online-genealogiestammtisch/
LOCATION:Zoom
CATEGORIES:Genealogenstammtisch,Vortrag
ATTACH;FMTTYPE=image/jpeg:https://oefr.at/wp-content/uploads/MyHeritage-Screenshot-2025-05-23-093921-1.jpg
END:VEVENT
BEGIN:VEVENT
DTSTART;TZID=Europe/Vienna:20251126T090000
DTEND;TZID=Europe/Vienna:20251126T103000
DTSTAMP:20260421T134656
CREATED:20251102T183612Z
LAST-MODIFIED:20251102T183612Z
UID:16173-1764147600-1764153000@oefr.at
SUMMARY:257. ÖFR-Ahnenforschungs-Café über Zoom
DESCRIPTION:Zum 47. Mal in diesem Jahr: Diskutieren über Familienforschung\, Neues erfahren\, Fragen klären\, Lesehilfe erhalten\, wieder Bekannte treffen\, und noch viel mehr. \nMittwoch\, 26. November 2025\, 09.00 bis 10.30 Uhr\, Einlass ab 08.55 Uhr \nWir freuen uns Euch zu treffen\, Teilnahme ist natürlich kostenlos und an keinerlei Mitgliedschaft gebunden. \nHier die Zugangsdaten: \nhttps://us02web.zoom.us/j/81302020900?pwd=UEtYaHNpbkJVTHp1LzZ0U082THcxQT09 \nMeeting-ID: 813 0202 0900 \nKenncode: 343002 \nteilen teilen teilen 
URL:https://oefr.at/event/257-oefr-ahnenforschungs-cafe-ueber-zoom/
LOCATION:Zoom
CATEGORIES:Workshop
END:VEVENT
BEGIN:VEVENT
DTSTART;TZID=Europe/Vienna:20251126T190000
DTEND;TZID=Europe/Vienna:20251126T190000
DTSTAMP:20260421T134656
CREATED:20251113T162101Z
LAST-MODIFIED:20251113T162101Z
UID:16197-1764183600-1764183600@oefr.at
SUMMARY:Tschechien: Forschen in der Markgrafschaft Mähren (Archiv Brünn) – 227. ÖFR-Online-Genealogiestammtisch
DESCRIPTION:Viele von uns haben Vorfahren in der ehemaligen Markgrafschaft Mähren. \nWir werden diesmal den Zugriff auf die Matriken des Archivs Brno / Brünn behandeln\, aber auch andere Quellen und Hilfsmittel sollen nicht zu kurz kommen. Im Anschluss zum Schwerpunktthema gibt es unbeschränkt Zeit auch für Ihre Fragen\, von Lesehilfen bis zu Forschungsfragen. \nWolfgang Berner: \nForschen in der Markgrafschaft Mähren (Archiv Brünn) \nMittwoch\, 26. November 2025\, 19.00 Uhr \nHier kommen Sie zur Anmeldung:\nRegistrieren Sie sich bitte hier: \nhttps://us02web.zoom.us/meeting/register/z8ih6To2TAi-4gJ54fn5Vw \nNach der Registrierung erhalten Sie ein Bestätigungs-Mail mit dem Zugangslink. \nMit der Teilnahme an unseren Veranstaltungen stimmen Sie der Veröffentlichung von Fotos\, Video- und Audioaufzeichnungen\, die im Rahmen der Veranstaltungen entstehen\, zu. \nAlle Informationen zu unseren Veranstaltungen finden Sie auf unserer Website unter: https://oefr.at/events/ \nWir freuen uns über Ihre Teilnahme. \n  \nBild: Pavel Fric\, Moravská orlice\, CC BY-SA 4.0 \nteilen teilen teilen 
URL:https://oefr.at/event/tschechien-forschen-in-der-markgrafschaft-maehren-archiv-bruenn-227-oefr-online-genealogiestammtisch/
LOCATION:Zoom
CATEGORIES:Genealogenstammtisch,Vortrag
ATTACH;FMTTYPE=image/jpeg:https://oefr.at/wp-content/uploads/Moravská_orlice.jpg
END:VEVENT
END:VCALENDAR