BEGIN:VCALENDAR
VERSION:2.0
PRODID:-//ÖFR-Österreichische Gesellschaft für Familien- und regionalgeschichtliche Forschung - ECPv6.15.20//NONSGML v1.0//EN
CALSCALE:GREGORIAN
METHOD:PUBLISH
X-ORIGINAL-URL:https://oefr.at
X-WR-CALDESC:Veranstaltungen für ÖFR-Österreichische Gesellschaft für Familien- und regionalgeschichtliche Forschung
REFRESH-INTERVAL;VALUE=DURATION:PT1H
X-Robots-Tag:noindex
X-PUBLISHED-TTL:PT1H
BEGIN:VTIMEZONE
TZID:Europe/Vienna
BEGIN:DAYLIGHT
TZOFFSETFROM:+0100
TZOFFSETTO:+0200
TZNAME:CEST
DTSTART:20230326T010000
END:DAYLIGHT
BEGIN:STANDARD
TZOFFSETFROM:+0200
TZOFFSETTO:+0100
TZNAME:CET
DTSTART:20231029T010000
END:STANDARD
BEGIN:DAYLIGHT
TZOFFSETFROM:+0100
TZOFFSETTO:+0200
TZNAME:CEST
DTSTART:20240331T010000
END:DAYLIGHT
BEGIN:STANDARD
TZOFFSETFROM:+0200
TZOFFSETTO:+0100
TZNAME:CET
DTSTART:20241027T010000
END:STANDARD
BEGIN:DAYLIGHT
TZOFFSETFROM:+0100
TZOFFSETTO:+0200
TZNAME:CEST
DTSTART:20250330T010000
END:DAYLIGHT
BEGIN:STANDARD
TZOFFSETFROM:+0200
TZOFFSETTO:+0100
TZNAME:CET
DTSTART:20251026T010000
END:STANDARD
END:VTIMEZONE
BEGIN:VTIMEZONE
TZID:Europe/Helsinki
BEGIN:DAYLIGHT
TZOFFSETFROM:+0200
TZOFFSETTO:+0300
TZNAME:EEST
DTSTART:20230326T010000
END:DAYLIGHT
BEGIN:STANDARD
TZOFFSETFROM:+0300
TZOFFSETTO:+0200
TZNAME:EET
DTSTART:20231029T010000
END:STANDARD
BEGIN:DAYLIGHT
TZOFFSETFROM:+0200
TZOFFSETTO:+0300
TZNAME:EEST
DTSTART:20240331T010000
END:DAYLIGHT
BEGIN:STANDARD
TZOFFSETFROM:+0300
TZOFFSETTO:+0200
TZNAME:EET
DTSTART:20241027T010000
END:STANDARD
BEGIN:DAYLIGHT
TZOFFSETFROM:+0200
TZOFFSETTO:+0300
TZNAME:EEST
DTSTART:20250330T010000
END:DAYLIGHT
BEGIN:STANDARD
TZOFFSETFROM:+0300
TZOFFSETTO:+0200
TZNAME:EET
DTSTART:20251026T010000
END:STANDARD
END:VTIMEZONE
BEGIN:VEVENT
DTSTART;TZID=Europe/Vienna:20241106T090000
DTEND;TZID=Europe/Vienna:20241106T103000
DTSTAMP:20260423T040114
CREATED:20241030T165930Z
LAST-MODIFIED:20241030T165930Z
UID:14420-1730883600-1730889000@oefr.at
SUMMARY:204. ÖFR-Ahnenforschungs-Café über Zoom
DESCRIPTION:Zum 45. Mal in diesem Jahr: Diskutieren über Familienforschung\, Neues erfahren\, Fragen klären\, Lesehilfe erhalten\, wieder Bekannte treffen\, und noch viel mehr. \nMittwoch\, 6. November 2024\, 09.00 Uhr\, Einlass ab 08.55 Uhr \nWir freuen uns Euch zu treffen\, Teilnahme ist natürlich kostenlos und an keinerlei Mitgliedschaft gebunden. \nHier die Zugangsdaten: \nhttps://us02web.zoom.us/j/81302020900?pwd=UEtYaHNpbkJVTHp1LzZ0U082THcxQT09 \nMeeting-ID: 813 0202 0900 \nKenncode: 343002 \n  \nteilen teilen teilen 
URL:https://oefr.at/event/204-oefr-ahnenforschungs-cafe-ueber-zoom/
LOCATION:Zoom
CATEGORIES:Genealogenstammtisch,Workshop
END:VEVENT
BEGIN:VEVENT
DTSTART;TZID=Europe/Vienna:20241106T190000
DTEND;TZID=Europe/Vienna:20241106T210000
DTSTAMP:20260423T040114
CREATED:20241028T075710Z
LAST-MODIFIED:20241028T075710Z
UID:14386-1730919600-1730926800@oefr.at
SUMMARY:179. ÖFR-Online-Genealogiestammtisch - Hofnamen und Häusergeschichte in Oberösterreich
DESCRIPTION:Im letzten Jahr haben wir uns öfters mit dem Projekt Haus und Hof von Wolfgang Zehetner betreffend Niederösterreich beschäftigt. \nSeit Jahren gibt es eine ähnliche Plattform im Rahmen des Digitalen Oberösterreichischen Rauminformationssystems (DORIS) des Landes Oberösterreich: Hofnamen und Häusergeschichte. \nSie finden hier auf der „Urmappe“ des Franziszeischen Katasters aus der ersten Hälfte des 19. Jahrhunderts jene Häuser und Höfe\, die vor 1850 existierten. Die Daten wurden aus drei oberösterreichischen Quellen erhoben\, für das Innviertel kamen noch zwei (kur)bayerische Aufzeichnungen dazu. \nDiesmal wird uns Franz Pögl\, regelmäßiger Besucher unserer Online-Genealogiestammtische zeigen\, wie Sie auf unterschiedlichen Wegen zu den von Ihnen gesuchten Häusern und Höfen\, deren Namen und zu gewissen Zeitpunkten zu deren Besitzern kommen. \nFranz Pögl \nHofnamen und Häusergeschichte in Oberösterreich \n(179. ÖFR-Online-Genealogiestammtisch (online über Zoom) \nMittwoch\, 6.11.2024\, 19.00 Uhr über Zoom \nHier kommen Sie zur Anmeldung:\nRegistrieren Sie sich bitte hier \nhttps://us02web.zoom.us/meeting/register/tZUkdeCrpjgoH9wmE71O3Os0xZSqEN27PTKn \nNach der Registrierung erhalten Sie ein Bestätigungs-E-Mail mit dem Zugangslink. \nBitte kommen Sie zeitgerecht\, Einlass ab 18.50 Uhr\, da es ab 19.00 Uhr zu Wartezeiten kommen kann! \nDie Teilnahme ist kostenlos und an keinerlei Mitgliedschaft gebunden. Mit der Teilnahme an unseren Veranstaltungen stimmen Sie der Veröffentlichung von Fotos\, Video- und Audioaufzeichnungen\, die im Rahmen des Abends entstehen\, zu. \nAlle Informationen zu unseren Veranstaltungen finden Sie auf unserer Website unter: https://oefr.at/events/ \nWir freuen uns über Ihre Teilnahme. \n  \nteilen teilen teilen 
URL:https://oefr.at/event/179-oefr-online-genealogiestammtisch-hofnamen-und-haeusergeschichte-in-oberoesterreich/
LOCATION:Zoom
CATEGORIES:Genealogenstammtisch,Workshop
ATTACH;FMTTYPE=image/jpeg:https://oefr.at/wp-content/uploads/DORIS-Enns.jpg
END:VEVENT
BEGIN:VEVENT
DTSTART;TZID=Europe/Vienna:20241112T180000
DTEND;TZID=Europe/Vienna:20241112T203000
DTSTAMP:20260423T040114
CREATED:20241031T192506Z
LAST-MODIFIED:20241103T201452Z
UID:14448-1731434400-1731443400@oefr.at
SUMMARY:75. GENEALOGIESTAMMTISCH.IN.WIEN
DESCRIPTION:Nach einigen Monaten gibt es wieder eine Gelegenheit einander persönlich zu treffen. Vieles ist berichtenswert\, bei Ihnen gibt es sicher auch einige Neuigkeiten und offene Fragen\, die einer Lösung bedürfen. \nBereits ab 16.00 Uhr freuen wir uns auf Sie\, um 18.00 Uhr beginnt es offiziell. \nReingruber „die Kantin“ Laudongasse 16 (Eingang Ecke Lange Gasse)\, 1080 Wien \nDienstag\, 12. November 2024\, 18.00 Uhr – Kleiner Raum \nNatürlich auch eine Gelegenheit eigene Fragen in der Gruppe zu klären\, Lesehilfe zu erhalten\, Forscherkolleginnen und Forscherkollegen persönlich zu treffen etc. \nAufgrund des beschränkten Platzangebotes ersuchen wir um Anmeldung bis spätestens Montag\, 11. November 2024\, 20.00 Uhr  mit dem Betreff “Wien 75” an genealogenstammtisch.in.wien(at)gmx.at \nteilen teilen teilen 
URL:https://oefr.at/event/75-genealogiestammtisch-in-wien/
LOCATION:Reingruber „die Kantin“\, Laudongasse 16 (Ecke Lange Gasse)\, Wien\, 1080\, Österreich
CATEGORIES:Genealogenstammtisch,Workshop
ATTACH;FMTTYPE=image/jpeg:https://oefr.at/wp-content/uploads/Genealogenstammtisch-in-Wien-e1650725035156.jpg
END:VEVENT
BEGIN:VEVENT
DTSTART;TZID=Europe/Vienna:20241113T090000
DTEND;TZID=Europe/Vienna:20241113T103000
DTSTAMP:20260423T040114
CREATED:20241030T170216Z
LAST-MODIFIED:20241030T170216Z
UID:14422-1731488400-1731493800@oefr.at
SUMMARY:205. ÖFR-Ahnenforschungs-Café über Zoom
DESCRIPTION:Zum 46. Mal in diesem Jahr: Diskutieren über Familienforschung\, Neues erfahren\, Fragen klären\, Lesehilfe erhalten\, wieder Bekannte treffen\, und noch viel mehr. \nMittwoch\, 13. November 2024\, 09.00 Uhr\, Einlass ab 08.55 Uhr \nWir freuen uns Euch zu treffen\, Teilnahme ist natürlich kostenlos und an keinerlei Mitgliedschaft gebunden. \nHier die Zugangsdaten: \nhttps://us02web.zoom.us/j/81302020900?pwd=UEtYaHNpbkJVTHp1LzZ0U082THcxQT09 \nMeeting-ID: 813 0202 0900 \nKenncode: 343002 \n  \nteilen teilen teilen 
URL:https://oefr.at/event/205-oefr-ahnenforschungs-cafe-ueber-zoom/
LOCATION:Zoom
CATEGORIES:Genealogenstammtisch,Workshop
ATTACH;FMTTYPE=image/jpeg:https://oefr.at/wp-content/uploads/hand-g4d4829b7d_1920.jpg
END:VEVENT
BEGIN:VEVENT
DTSTART;TZID=Europe/Vienna:20241113T190000
DTEND;TZID=Europe/Vienna:20241113T210000
DTSTAMP:20260423T040114
CREATED:20241031T081827Z
LAST-MODIFIED:20241031T131051Z
UID:14436-1731524400-1731531600@oefr.at
SUMMARY:Unehelich\, legitimiert\, adoptiert oder bei Pflegeeltern im 19. Jahrhundert - 180. ÖFR-Online-Genealogiestammtisch
DESCRIPTION:„Das Rechtsverhältniß zwischen Aeltern und Kindern ist verschieden\, je nachdem es aus einem ehelichen oder unehelichen Beyschlafe\, oder durch Annahme an Kindesstatt oder Uebernahme in die Pflege entstanden ist.“[1] \nVor allem im 17. Jahrhundert sind in den Matriken immer wieder Begriffe wie Bankert\, Bastard\, Hurenkind\, spurius\, natürliches oder illegitimes Kind und weitere Bezeichnungen zu finden. Alle diese Bezeichnungen weisen auf eine uneheliche Geburt hin. Vor allem ab den Reformen von Joseph II. und mit Inkrafttreten des Allgemein bürgerlichen Gesetzbuches (AGBG 1811) finden wir in den Geburtenbüchern nachträgliche Eintragungen der Väter und Legitimierungen. In Zusammenhang mit Adoptionen treten auch die Begriffe Wahleltern und Wahlkind auf\, nicht zu verwechseln mit Pflegeeltern und Pflegekindern. \nDipl.-Ing. Leopold Strenn \nUNEHELICH\, LEGITIMIERT\, ADOPTIERT ODER BEI PFLEGEELTERN IM 19. JAHRHUNDERT \n(180. ÖFR-Online-Genealogiestammtisch) \nMittwoch\, 13.11.2024\, 19.00 Uhr über Zoom \nHier kommen Sie zur Anmeldung:\nRegistrieren Sie sich bitte hier \nhttps://us02web.zoom.us/meeting/register/tZMlc-CtqDkpH9YpElg10eGfCBoLqlkzQlfC \nNach der Registrierung erhalten Sie ein Bestätigungs-E-Mail mit dem Zugangslink. \nBitte kommen Sie zeitgerecht\, Einlass ab 18.50 Uhr\, da es ab 19.00 Uhr zu Wartezeiten kommen kann! \nDie Teilnahme ist kostenlos und an keinerlei Mitgliedschaft gebunden. Mit der Teilnahme an unseren Veranstaltungen stimmen Sie der Veröffentlichung von Fotos\, Video- und Audioaufzeichnungen\, die im Rahmen des Abends entstehen\, zu. \nAlle Informationen zu unseren Veranstaltungen finden Sie auf unserer Website unter: https://oefr.at/events/ \nWir freuen uns über Ihre Teilnahme. \n  \n  \n[1] Zeiller Franz\, Commentar über das Allgemeine bürgerliche Gesetzbuch für die gesammten Deutschen Erbländer der Oesterreichischen Monarchie\, Erster Band\, Geistinger Wien 1811\, 314 \nBild:\nFerdinand Georg Waldmüller artist QS:P170\,Q186816\, Waldmüller The Adoption\, als gemeinfrei gekennzeichnet\, Details auf Wikimedia Commons\nteilen teilen teilen 
URL:https://oefr.at/event/unehelich-legitimiert-adoptiert-oder-bei-pflegeeltern-im-19-jahrhundert-180-oefr-online-genealogiestammtisch/
LOCATION:Zoom
CATEGORIES:Vortrag
ATTACH;FMTTYPE=image/jpeg:https://oefr.at/wp-content/uploads/Waldmueller_The_Adoption.jpg
END:VEVENT
BEGIN:VEVENT
DTSTART;TZID=Europe/Vienna:20241120T090000
DTEND;TZID=Europe/Vienna:20241120T103000
DTSTAMP:20260423T040114
CREATED:20241030T170530Z
LAST-MODIFIED:20241030T170530Z
UID:14424-1732093200-1732098600@oefr.at
SUMMARY:206. ÖFR-Ahnenforschungs-Café über Zoom
DESCRIPTION:Zum 47. Mal in diesem Jahr: Diskutieren über Familienforschung\, Neues erfahren\, Fragen klären\, Lesehilfe erhalten\, wieder Bekannte treffen\, und noch viel mehr. \nMittwoch\, 20. November 2024\, 09.00 Uhr\, Einlass ab 08.55 Uhr \nWir freuen uns Euch zu treffen\, Teilnahme ist natürlich kostenlos und an keinerlei Mitgliedschaft gebunden. \nHier die Zugangsdaten: \nhttps://us02web.zoom.us/j/81302020900?pwd=UEtYaHNpbkJVTHp1LzZ0U082THcxQT09 \nMeeting-ID: 813 0202 0900 \nKenncode: 343002 \n  \nteilen teilen teilen 
URL:https://oefr.at/event/206-oefr-ahnenforschungs-cafe-ueber-zoom/
LOCATION:Zoom
CATEGORIES:Genealogenstammtisch,Workshop
ATTACH;FMTTYPE=image/jpeg:https://oefr.at/wp-content/uploads/woman-1733881_960_720.jpg
END:VEVENT
BEGIN:VEVENT
DTSTART;TZID=Europe/Vienna:20241120T190000
DTEND;TZID=Europe/Vienna:20241120T210000
DTSTAMP:20260423T040114
CREATED:20241031T130752Z
LAST-MODIFIED:20241031T130752Z
UID:14414-1732129200-1732136400@oefr.at
SUMMARY:181. ÖFR-Online-Genealogiestammtisch – Personenschifffahrt auf der Donau
DESCRIPTION:Wie kamen unsere Vorfahren aus Bayern\, Schwaben oder Franken nach Österreich oder ins heutige Ungarn? \nDiesmal ein sehr interessanter Vortrag von Mag. Gabi Rudinger\, 2. Vizepräsidentin der Österreichischen Gesellschaft für Familien- und regionalgeschichtlichen Forschung (ÖFR)\, zu einem spannenden historischen Thema: \n„Personenschifffahrt auf der Donau\, historisch betrachtet“ \n181. ÖFR-Online-Genealogiestammtisch \n(Mag. Gabi Rudinger) \nMittwoch\, 20.11.2024\, 19.00 Uhr online über Zoom \n\nHäufig unterschätzen wir die Mobilität unserer Vorfahren. Schon zur Zeit der Römer war die Donau ein wichtiger Verkehrsweg\, und im 18. Jahrhundert erreichte die Personenschifffahrt auf der Donau schließlich ihren Höhepunkt. Der Vortrag behandelt Fakten zu Organisation und Verlauf der Reisen\, erwähnt die verschiedenen Schiffstypen und ergänzt dies durch historische Kurzberichte und Reisebeschreibungen. \nHier kommen Sie zur Anmeldung: \nRegistrieren Sie sich bitte hier \nhttps://us02web.zoom.us/meeting/register/tZMucuuhqjovHt0MpdzJlab9SgCNqA-1UCNV \nNach der Registrierung erhalten Sie ein Bestätigungs-E-Mail mit dem Zugangslink. \nBitte kommen Sie zeitgerecht\, Einlass ab 18.50 Uhr\, da es ab 19.00 Uhr zu Wartezeiten kommen kann! \nDie Teilnahme ist kostenlos und an keinerlei Mitgliedschaft gebunden. Mit der Teilnahme an unseren Veranstaltungen stimmen Sie der Veröffentlichung von Fotos\, Video- und Audioaufzeichnungen\, die im Rahmen des Abends entstehen\, zu. \nAlle Informationen zu unseren Veranstaltungen finden Sie auf unserer Website unter: https://oefr.at/events/ \nWir freuen uns über Ihre Teilnahme. \nteilen teilen teilen 
URL:https://oefr.at/event/181-oefr-online-genealogiestammtisch-personenschifffahrt-auf-der-donau/
LOCATION:Zoom
CATEGORIES:Genealogenstammtisch,Vortrag
ATTACH;FMTTYPE=image/jpeg:https://oefr.at/wp-content/uploads/1280px-Radierung_-_Ulmer_Muenster_und_Ulmer_Schachtel_-_Hans_Barthelmess.jpg
END:VEVENT
BEGIN:VEVENT
DTSTART;TZID=Europe/Vienna:20241126T190000
DTEND;TZID=Europe/Vienna:20241126T210000
DTSTAMP:20260423T040114
CREATED:20241104T100419Z
LAST-MODIFIED:20241104T100419Z
UID:14469-1732647600-1732654800@oefr.at
SUMMARY:Kurrent-Lesen für Anfängerinnen und Anfänger – Einführung
DESCRIPTION:Alte Ansichtskarten\, Briefe\, Stammbucheinträge\, Dokumente oder Matriken: Immer diese Schrift – Kurrent. \n\n    Hilfe – Ich kann den Text nicht lesen!\n    Wir haben Kurrent nicht mehr in der Schule gelernt!\n    Diese Schrift ist für mich nicht lesbar!\n    Würde gern meine Vorfahren erforschen\, aber die Schrift ist unlesbar.\n\nNichts einfacher als das! \nKurrent lesen lernen (online über Zoom) \n(Dipl.-Ing. Leopold Strenn) \nDienstag\, 26. November 2024\, 19.00 Uhr (Einlass etwa ab 18.50 Uhr) \nHier kommen Sie zur Anmeldung:\nRegistrieren Sie sich aufgrund beschränkter Teilnehmerzahl ehestmöglich\, jedoch spätestens Sonntag\, 24. November 2024\, 18.30 Uhr: \nhttps://us02web.zoom.us/meeting/register/tZMkf-CurzMqH9P6912zaZrG7ES6OhkuHTkg \nNach der Registrierung erhalten Sie ein Bestätigungs-E-Mail mit dem Zugangslink. \nWir ersuchen Sie um pünktliches Erscheinen\, ab 19.00 Uhr ist während des Workshops kein Zutritt möglich! \nBei dieser Gelegenheit möchten wir Sie auf alle weiteren Termine aufmerksam machen\, Sie finden sie hier: https://oefr.at/event \nDiese Veranstaltung ist allgemein zugänglich und an keine Mitgliedschaft gebunden. Wir freuen uns über Ihre Teilnahme. \n  \n  \n  \n  \n  \n  \nteilen teilen teilen 
URL:https://oefr.at/event/kurrent-lesen-fuer-anfaengerinnen-und-anfaenger-einfuehrung/
LOCATION:Zoom
CATEGORIES:Vortrag,Workshop
ATTACH;FMTTYPE=image/jpeg:https://oefr.at/wp-content/uploads/2017/10/IMG_1278-low2_Stammbucheintrag-1935.jpg
END:VEVENT
BEGIN:VEVENT
DTSTART;TZID=Europe/Vienna:20241127T090000
DTEND;TZID=Europe/Vienna:20241127T103000
DTSTAMP:20260423T040114
CREATED:20241030T171201Z
LAST-MODIFIED:20241030T171201Z
UID:14428-1732698000-1732703400@oefr.at
SUMMARY:207. ÖFR-Ahnenforschungs-Café über Zoom
DESCRIPTION:Zum 48. Mal in diesem Jahr: Diskutieren über Familienforschung\, Neues erfahren\, Fragen klären\, Lesehilfe erhalten\, wieder Bekannte treffen\, und noch viel mehr. \nMittwoch\, 27. November 2024\, 09.00 Uhr\, Einlass ab 08.55 Uhr \nWir freuen uns Euch zu treffen\, Teilnahme ist natürlich kostenlos und an keinerlei Mitgliedschaft gebunden. \nHier die Zugangsdaten: \nhttps://us02web.zoom.us/j/81302020900?pwd=UEtYaHNpbkJVTHp1LzZ0U082THcxQT09 \nMeeting-ID: 813 0202 0900 \nKenncode: 343002 \n  \nteilen teilen teilen 
URL:https://oefr.at/event/207-oefr-ahnenforschungs-cafe-ueber-zoom/
LOCATION:Zoom
CATEGORIES:Genealogenstammtisch,Workshop
ATTACH;FMTTYPE=image/jpeg:https://oefr.at/wp-content/uploads/laptop-6062423_1280.jpg
END:VEVENT
BEGIN:VEVENT
DTSTART;TZID=Europe/Helsinki:20241127T190000
DTEND;TZID=Europe/Helsinki:20241127T210000
DTSTAMP:20260423T040114
CREATED:20241122T142112Z
LAST-MODIFIED:20241122T142112Z
UID:14565-1732734000-1732741200@oefr.at
SUMMARY:182. ÖFR-Online-Genealogiestammtisch – Sie fragen\, wir antworten
DESCRIPTION:Sie haben offene Fragen\, die Sie allein nicht lösen können? Wir versuchen Ihnen dabei zu helfen\, indem wir Ihnen Lösungswege aufzeigen. Stellen Sie Ihre Fragen zusammen\, schreiben Sie sich alles auf\, was Sie wissen (Name\, Ereignis\, Datum\, Ort\, Quelle und den Link) und was Sie wissen wollen. Kompetente Forscherkolleginnen und -kollegen werden helfen Ihre Fragen zu lösen. \nGern freuen wir uns auch über Ihre Berichte\, was Ihnen gelungen ist und was Sie demnächst vorhaben! \nMittwoch\, 27. November 2024\, 19.00 Uhr (Einlass etwa ab 18.50 Uhr) \n  \nHier kommen Sie zur Anmeldung: \nRegistrieren Sie sich bitte hier \nhttps://us02web.zoom.us/meeting/register/tZcpdO6hpz4rHtKEOHhWlFY4m3Hbgc7FYzEj \nNach der Registrierung erhalten Sie ein Bestätigungs-E-Mail mit dem Zugangslink. \nBitte kommen Sie zeitgerecht\, Einlass ab 18.50 Uhr\, da es ab 19.00 Uhr zu Wartezeiten kommen kann! \nDie Teilnahme ist kostenlos und an keinerlei Mitgliedschaft gebunden. Mit der Teilnahme an unseren Veranstaltungen stimmen Sie der Veröffentlichung von Fotos\, Video- und Audioaufzeichnungen\, die im Rahmen des Abends entstehen\, zu. \nAlle Informationen zu unseren Veranstaltungen finden Sie auf unserer Website unter: https://oefr.at/events/ \nWir freuen uns über Ihre Teilnahme. \n  \n  \nFoto von Leeloo The First: https://www.pexels.com/de-de/foto/fragezeichen-auf-brauner-oberflache-5428835/ \nteilen teilen teilen 
URL:https://oefr.at/event/182-oefr-online-genealogiestammtisch-sie-fragen-wir-antworten/
LOCATION:Zoom
CATEGORIES:Genealogenstammtisch
ATTACH;FMTTYPE=image/jpeg:https://oefr.at/wp-content/uploads/pexels-leeloothefirst-5428835-scaled-e1732285050471.jpg
END:VEVENT
END:VCALENDAR