BEGIN:VCALENDAR
VERSION:2.0
PRODID:-//ÖFR-Österreichische Gesellschaft für Familien- und regionalgeschichtliche Forschung - ECPv6.15.20//NONSGML v1.0//EN
CALSCALE:GREGORIAN
METHOD:PUBLISH
X-WR-CALNAME:ÖFR-Österreichische Gesellschaft für Familien- und regionalgeschichtliche Forschung
X-ORIGINAL-URL:https://oefr.at
X-WR-CALDESC:Veranstaltungen für ÖFR-Österreichische Gesellschaft für Familien- und regionalgeschichtliche Forschung
REFRESH-INTERVAL;VALUE=DURATION:PT1H
X-Robots-Tag:noindex
X-PUBLISHED-TTL:PT1H
BEGIN:VTIMEZONE
TZID:Europe/Helsinki
BEGIN:DAYLIGHT
TZOFFSETFROM:+0200
TZOFFSETTO:+0300
TZNAME:EEST
DTSTART:20230326T010000
END:DAYLIGHT
BEGIN:STANDARD
TZOFFSETFROM:+0300
TZOFFSETTO:+0200
TZNAME:EET
DTSTART:20231029T010000
END:STANDARD
BEGIN:DAYLIGHT
TZOFFSETFROM:+0200
TZOFFSETTO:+0300
TZNAME:EEST
DTSTART:20240331T010000
END:DAYLIGHT
BEGIN:STANDARD
TZOFFSETFROM:+0300
TZOFFSETTO:+0200
TZNAME:EET
DTSTART:20241027T010000
END:STANDARD
BEGIN:DAYLIGHT
TZOFFSETFROM:+0200
TZOFFSETTO:+0300
TZNAME:EEST
DTSTART:20250330T010000
END:DAYLIGHT
BEGIN:STANDARD
TZOFFSETFROM:+0300
TZOFFSETTO:+0200
TZNAME:EET
DTSTART:20251026T010000
END:STANDARD
END:VTIMEZONE
BEGIN:VEVENT
DTSTART;TZID=Europe/Helsinki:20240807T090000
DTEND;TZID=Europe/Helsinki:20240807T103000
DTSTAMP:20260425T224606
CREATED:20240729T154543Z
LAST-MODIFIED:20240729T154543Z
UID:13832-1723021200-1723026600@oefr.at
SUMMARY:191. ÖFR-Ahnenforschungs-Café über Zoom
DESCRIPTION:Zum 32. Mal in diesem Jahr: Diskutieren über Familienforschung\, Neues erfahren\, Fragen klären\, Lesehilfe erhalten\, wieder Bekannte treffen\, und noch viel mehr. \nMittwoch\, 7. August 2024\, 09.00 Uhr\, Einlass ab 08.55 Uhr \nWir freuen uns Euch zu treffen\, Teilnahme ist natürlich kostenlos und an keinerlei Mitgliedschaft gebunden. \nHier die Zugangsdaten: \nhttps://us02web.zoom.us/j/81302020900?pwd=UEtYaHNpbkJVTHp1LzZ0U082THcxQT09 \nMeeting-ID: 813 0202 0900 \nKenncode: 343002 \nteilen teilen teilen 
URL:https://oefr.at/event/191-oefr-ahnenforschungs-cafe-ueber-zoom/
LOCATION:Zoom
CATEGORIES:Genealogenstammtisch
END:VEVENT
BEGIN:VEVENT
DTSTART;TZID=Europe/Helsinki:20240807T193000
DTEND;TZID=Europe/Helsinki:20240807T213000
DTSTAMP:20260425T224606
CREATED:20240729T170032Z
LAST-MODIFIED:20240729T170033Z
UID:13840-1723059000-1723066200@oefr.at
SUMMARY:Aller Anfang ist nicht schwer! Erfolgreich in die Ahnenforschung starten - 166. Online-Genealogie-Stammtisch der ÖFR
DESCRIPTION:Wir laden Sie herzlich zu unserem Vortrag “Aller Anfang ist nicht schwer! Erfolgreich in die Ahnenforschung starten” ein. Lernen Sie\, wie Sie Ihre Familienforschung strukturiert beginnen und schnell zu verlässlichen Ergebnissen gelangen. Wir bieten Ihnen praktische Tipps und bewährte Methoden\, um typische Fehler zu vermeiden und Ihre Ahnenforschung effizient zu gestalten. \nIm Anschluss haben Sie die Gelegenheit Ihre offenen Fragen in die Runde einzubringen\, wir werden Ihnen sicher helfen können. \nWir freuen uns auf Ihr Kommen! \nMittwoch\, 7. August 2024\, 19.30 Uhr (Einlass ab 19.20 Uhr) \nHier kommen Sie zur Anmeldung:\nRegistrieren Sie sich aufgrund beschränkter Teilnehmerzahl ehestmöglich hier: \nhttps://us02web.zoom.us/meeting/register/tZEtcuirqz0oHdVP7j_ars-Nu9kTUYzAoDY5 Nach der Registrierung erhalten Sie ein Bestätigungs-E-Mail mit dem Zugangslink. \nWir ersuchen Sie um pünktliches Erscheinen\, ab 19.20 können Sie beitreten\, ab 19.30 Uhr kann es zu Wartezeiten kommen!  \nBei dieser Gelegenheit möchten wir Sie auf alle weiteren Termine aufmerksam machen\, Sie finden sie hier: https://oefr.at/event \nDiese Veranstaltung ist allgemein zugänglich und an keine Mitgliedschaft gebunden. Wir freuen uns über Ihre Teilnahme. \nteilen teilen teilen 
URL:https://oefr.at/event/aller-anfang-ist-nicht-schwer-erfolgreich-in-die-ahnenforschung-starten-166-online-genealogie-stammtisch-der-oefr/
LOCATION:Zoom
CATEGORIES:Vortrag,Workshop
ATTACH;FMTTYPE=image/png:https://oefr.at/wp-content/uploads/family-tree-8249245_1280-2.png
END:VEVENT
BEGIN:VEVENT
DTSTART;TZID=Europe/Helsinki:20240814T090000
DTEND;TZID=Europe/Helsinki:20240814T103000
DTSTAMP:20260425T224606
CREATED:20240729T155017Z
LAST-MODIFIED:20240729T155017Z
UID:13834-1723626000-1723631400@oefr.at
SUMMARY:192. ÖFR-Ahnenforschungs-Café über Zoom
DESCRIPTION:Zum 33. Mal in diesem Jahr: Diskutieren über Familienforschung\, Neues erfahren\, Fragen klären\, Lesehilfe erhalten\, wieder Bekannte treffen\, und noch viel mehr. \nMittwoch\, 14. August 2024\, 09.00 Uhr\, Einlass ab 08.55 Uhr \nWir freuen uns Euch zu treffen\, Teilnahme ist natürlich kostenlos und an keinerlei Mitgliedschaft gebunden. \nHier die Zugangsdaten: \nhttps://us02web.zoom.us/j/81302020900?pwd=UEtYaHNpbkJVTHp1LzZ0U082THcxQT09 \nMeeting-ID: 813 0202 0900 \nKenncode: 343002 \n  \nteilen teilen teilen 
URL:https://oefr.at/event/192-oefr-ahnenforschungs-cafe-ueber-zoom/
LOCATION:Zoom
CATEGORIES:Genealogenstammtisch
END:VEVENT
BEGIN:VEVENT
DTSTART;TZID=Europe/Helsinki:20240814T193000
DTEND;TZID=Europe/Helsinki:20240814T213000
DTSTAMP:20260425T224606
CREATED:20240729T191027Z
LAST-MODIFIED:20240729T191027Z
UID:13844-1723663800-1723671000@oefr.at
SUMMARY:Effektive Ortsuche mit GenTeam und weiteren Ressourcen - 167. Online-Genealogie-Stammtisch der ÖFR
DESCRIPTION:Erfahren Sie\, wie das GenTeam-Ortsverzeichnis für Österreich\, Tschechien\, die Slowakei\, Slowenien und Südtirol Ihnen den Einstieg in die Genealogie erleichtert und Sie direkt zu den zuständigen Pfarren und Archiven führt. Zudem stellen wir die GIS-Lösung Pfarren-CZ für Tschechien vor und zeigen Ihnen ergänzende Methoden\, um auch in schwierigen Fällen den gesuchten Ort zu finden. \nIm Anschluss haben Sie die Gelegenheit Ihre offenen Fragen in die Runde einzubringen\, wir werden Ihnen sicher helfen können. \nMittwoch\, 14. August 2024\, 19.30 Uhr (Einlass ab 19.20 Uhr) \nEffektive Ortsuche mit GenTeam und weiteren Ressourcen – 167. Online-Genealogie-Stammtisch der ÖFR \nHier kommen Sie zur Anmeldung:\nRegistrieren Sie sich aufgrund beschränkter Teilnehmerzahl ehestmöglich hier: \nhttps://us02web.zoom.us/meeting/register/tZYucuivrDsoH9KlgLPVHPeFSYA7J5-XHYZd \nNach der Registrierung erhalten Sie ein Bestätigungs-E-Mail mit dem Zugangslink. \nWir ersuchen Sie um pünktliches Erscheinen\, ab 19.20 können Sie beitreten\, ab 19.30 Uhr kann es zu Wartezeiten kommen!  \nBei dieser Gelegenheit möchten wir Sie auf alle weiteren Termine aufmerksam machen\, Sie finden sie hier: https://oefr.at/event \nDiese Veranstaltung ist allgemein zugänglich und an keine Mitgliedschaft gebunden. Wir freuen uns über Ihre Teilnahme. \nBild: \nVon Robert Heilinger – Eigenes Werk\, CC BY-SA 3.0\, https://commons.wikimedia.org/w/index.php?curid=56947216 \n  \nteilen teilen teilen 
URL:https://oefr.at/event/effektive-ortsuche-mit-genteam-und-weiteren-ressourcen-167-online-genealogie-stammtisch-der-oefr/
LOCATION:Zoom
CATEGORIES:Vortrag,Workshop
ATTACH;FMTTYPE=image/jpeg:https://oefr.at/wp-content/uploads/Alte_Ortstafel_in_A-2135_Neudorf_bei_Staatz_CC-BYSA-3_0-scaled.jpg
END:VEVENT
BEGIN:VEVENT
DTSTART;TZID=Europe/Helsinki:20240821T090000
DTEND;TZID=Europe/Helsinki:20240821T103000
DTSTAMP:20260425T224606
CREATED:20240729T155509Z
LAST-MODIFIED:20240729T155509Z
UID:13836-1724230800-1724236200@oefr.at
SUMMARY:193. ÖFR-Ahnenforschungs-Café über Zoom
DESCRIPTION:Zum 34. Mal in diesem Jahr: Diskutieren über Familienforschung\, Neues erfahren\, Fragen klären\, Lesehilfe erhalten\, wieder Bekannte treffen\, und noch viel mehr. \nMittwoch\, 21. August 2024\, 09.00 Uhr\, Einlass ab 08.55 Uhr \nWir freuen uns Euch zu treffen\, Teilnahme ist natürlich kostenlos und an keinerlei Mitgliedschaft gebunden. \nHier die Zugangsdaten: \nhttps://us02web.zoom.us/j/81302020900?pwd=UEtYaHNpbkJVTHp1LzZ0U082THcxQT09 \nMeeting-ID: 813 0202 0900 \nKenncode: 343002 \n  \nteilen teilen teilen 
URL:https://oefr.at/event/193-oefr-ahnenforschungs-cafe-ueber-zoom/
LOCATION:Zoom
CATEGORIES:Genealogenstammtisch
END:VEVENT
BEGIN:VEVENT
DTSTART;TZID=Europe/Helsinki:20240821T193000
DTEND;TZID=Europe/Helsinki:20240821T213000
DTSTAMP:20260425T224606
CREATED:20240730T094633Z
LAST-MODIFIED:20240730T094633Z
UID:13849-1724268600-1724275800@oefr.at
SUMMARY:Die Datenbestände von GenTeam und wie sie nutzen? - 167. Online-Genealogie-Stammtisch der ÖFR
DESCRIPTION:Mittwoch\, 21.8.2024\, 19.30 Uhr (Einlass ab 19.20 Uhr) \nAm 28. Juli  2024 gab es wieder ein Update auf Genteam. Zu den mehr als 22 Millionen Datensätzen kamen wieder mehr als 500.000 hinzu. \nWie Genteam effektiv nutzen? Welche Datenbanken sind hier zu finden und inwiefern helfen sie uns bei der Forschung? Wir werden Ihnen die Datenbanken näher erläutern und anhand einiger Beispiele zeigen\, welchen Nutzen diese für Sie haben. \nIm Anschluss haben Sie die Gelegenheit Ihre offenen Fragen in die Runde einzubringen\, wir werden Ihnen sicher helfen können. \nWir freuen uns auf Ihr Kommen! \n  \nHier kommen Sie zur Anmeldung: \nRegistrieren Sie sich aufgrund beschränkter Teilnehmerzahl ehestmöglich hier: \nhttps://us02web.zoom.us/meeting/register/tZUsc-2rrzwqHdAEbgqibrqdoxsIJjcR1ZwE \nNach der Registrierung erhalten Sie ein Bestätigungs-E-Mail mit dem Zugangslink. \nWir ersuchen Sie um pünktliches Erscheinen\, ab 19.20 können Sie beitreten\, ab 19.30 Uhr kann es zu Wartezeiten kommen!  \nBei dieser Gelegenheit möchten wir Sie auf alle weiteren Termine aufmerksam machen\, Sie finden sie hier: https://oefr.at/event \nDiese Veranstaltung ist allgemein zugänglich und an keine Mitgliedschaft gebunden. Wir freuen uns über Ihre Teilnahme. \nteilen teilen teilen 
URL:https://oefr.at/event/die-datenbestaende-von-genteam-und-wie-sie-nutzen-167-online-genealogie-stammtisch-der-oefr/
LOCATION:Zoom
CATEGORIES:Vortrag,Workshop
ATTACH;FMTTYPE=image/jpeg:https://oefr.at/wp-content/uploads/GenTeam-2024-07-29.jpg
END:VEVENT
BEGIN:VEVENT
DTSTART;TZID=Europe/Helsinki:20240828T090000
DTEND;TZID=Europe/Helsinki:20240828T103000
DTSTAMP:20260425T224606
CREATED:20240729T155723Z
LAST-MODIFIED:20240729T155723Z
UID:13838-1724835600-1724841000@oefr.at
SUMMARY:194. ÖFR-Ahnenforschungs-Café über Zoom
DESCRIPTION:Zum 35. Mal in diesem Jahr: Diskutieren über Familienforschung\, Neues erfahren\, Fragen klären\, Lesehilfe erhalten\, wieder Bekannte treffen\, und noch viel mehr. \nMittwoch\, 28. August 2024\, 09.00 Uhr\, Einlass ab 08.55 Uhr \nWir freuen uns Euch zu treffen\, Teilnahme ist natürlich kostenlos und an keinerlei Mitgliedschaft gebunden. \nHier die Zugangsdaten: \nhttps://us02web.zoom.us/j/81302020900?pwd=UEtYaHNpbkJVTHp1LzZ0U082THcxQT09 \nMeeting-ID: 813 0202 0900 \nKenncode: 343002 \nteilen teilen teilen 
URL:https://oefr.at/event/194-oefr-ahnenforschungs-cafe-ueber-zoom/
LOCATION:Zoom
CATEGORIES:Genealogenstammtisch
END:VEVENT
BEGIN:VEVENT
DTSTART;TZID=Europe/Helsinki:20240828T193000
DTEND;TZID=Europe/Helsinki:20240828T213000
DTSTAMP:20260425T224606
CREATED:20240730T100222Z
LAST-MODIFIED:20240730T100222Z
UID:13852-1724873400-1724880600@oefr.at
SUMMARY:Historische Karten als Hilfe bei der Ahnenforschung - 168. Online-Genealogie-Stammtisch der ÖFR
DESCRIPTION:Mittwoch\, 28.8.2024\, 19.30 Uhr (Einlass ab 19.20 Uhr) \nDiesmal laden Sie herzlich zu unserem Vortrag “Historische Landkarten und ihr Nutzen für die Genealogie” ein. Entdecken Sie\, wie alte Karten dabei helfen können\, die Lebenswege unserer Vorfahren nachzuvollziehen und historische Zusammenhänge zu verstehen. Lassen Sie sich von spannenden Beispielen und praktischen Tipps inspirieren. Wir freuen uns auf Ihr Kommen! \nIm Anschluss haben Sie die Gelegenheit Ihre offenen Fragen in die Runde einzubringen\, wir werden Ihnen sicher helfen können. \nWir freuen uns auf Ihr Kommen!  \nHier kommen Sie zur Anmeldung:\nRegistrieren Sie sich aufgrund beschränkter Teilnehmerzahl ehestmöglich hier: \nhttps://us02web.zoom.us/meeting/register/tZYpd-urpzosGdCgXIrnuBmmVByPUAMV_ilY \nNach der Registrierung erhalten Sie ein Bestätigungs-E-Mail mit dem Zugangslink. \nWir ersuchen Sie um pünktliches Erscheinen\, ab 19.20 können Sie beitreten\, ab 19.30 Uhr kann es zu Wartezeiten kommen!  \nBei dieser Gelegenheit möchten wir Sie auf alle weiteren Termine aufmerksam machen\, Sie finden sie hier: https://oefr.at/event \nDiese Veranstaltung ist allgemein zugänglich und an keine Mitgliedschaft gebunden. Wir freuen uns über Ihre Teilnahme. \nBild:\nBlaeu 1645: Austria Archiducatus – Ausschnitt Wien\, Hollabrunn\, Tulln \n  \nteilen teilen teilen 
URL:https://oefr.at/event/historische-karten-als-hilfe-bei-der-ahnenforschung-168-online-genealogie-stammtisch-der-oefr/
LOCATION:Zoom
CATEGORIES:Vortrag,Workshop
ATTACH;FMTTYPE=image/jpeg:https://oefr.at/wp-content/uploads/Blaeu_1645_-_Austria_Archiducatus-Ausschnitt-wien-Hollabrunn-Tulln.jpg
END:VEVENT
END:VCALENDAR