BEGIN:VCALENDAR
VERSION:2.0
PRODID:-//ÖFR-Österreichische Gesellschaft für Familien- und regionalgeschichtliche Forschung - ECPv6.15.20//NONSGML v1.0//EN
CALSCALE:GREGORIAN
METHOD:PUBLISH
X-ORIGINAL-URL:https://oefr.at
X-WR-CALDESC:Veranstaltungen für ÖFR-Österreichische Gesellschaft für Familien- und regionalgeschichtliche Forschung
REFRESH-INTERVAL;VALUE=DURATION:PT1H
X-Robots-Tag:noindex
X-PUBLISHED-TTL:PT1H
BEGIN:VTIMEZONE
TZID:Europe/Paris
BEGIN:DAYLIGHT
TZOFFSETFROM:+0100
TZOFFSETTO:+0200
TZNAME:CEST
DTSTART:20200329T010000
END:DAYLIGHT
BEGIN:STANDARD
TZOFFSETFROM:+0200
TZOFFSETTO:+0100
TZNAME:CET
DTSTART:20201025T010000
END:STANDARD
BEGIN:DAYLIGHT
TZOFFSETFROM:+0100
TZOFFSETTO:+0200
TZNAME:CEST
DTSTART:20210328T010000
END:DAYLIGHT
BEGIN:STANDARD
TZOFFSETFROM:+0200
TZOFFSETTO:+0100
TZNAME:CET
DTSTART:20211031T010000
END:STANDARD
BEGIN:DAYLIGHT
TZOFFSETFROM:+0100
TZOFFSETTO:+0200
TZNAME:CEST
DTSTART:20220327T010000
END:DAYLIGHT
BEGIN:STANDARD
TZOFFSETFROM:+0200
TZOFFSETTO:+0100
TZNAME:CET
DTSTART:20221030T010000
END:STANDARD
END:VTIMEZONE
BEGIN:VEVENT
DTSTART;TZID=Europe/Paris:20210203T090000
DTEND;TZID=Europe/Paris:20210203T100000
DTSTAMP:20260426T050600
CREATED:20210131T144743Z
LAST-MODIFIED:20210131T144743Z
UID:6955-1612342800-1612346400@oefr.at
SUMMARY:12. ÖFR-Café über ZOOM
DESCRIPTION:Diesmal wieder wie gewohnt am Mittwoch – mit neuem Zugangscode! \nDiskutieren über Familienforschung\, Neues erfahren\, Fragen klären\, wieder Bekannte treffen und noch viel mehr.\nWir freuen uns auf Euch zu treffen\, Teilnahme ist natürlich kostenlos und an keinerlei Mitgliedschaft gebunden. \nDiesmal ersuchen wir Euch um Anmeldung mit Betreff “12. ÖFR-Cafe” unter Genealogenstammtisch@gmx.at bis spätestens Dienstag\, 2.2.2021\, 21.00 Uhr. Den Zugangslink erhaltet Ihr dann per Mail. \nDer Vorstand der ÖFR. \nteilen teilen teilen 
URL:https://oefr.at/event/12-oefr-cafe-ueber-zoom/
LOCATION:Zoom
CATEGORIES:Genealogenstammtisch
ATTACH;FMTTYPE=image/jpeg:https://oefr.at/wp-content/uploads/20200611_141156-Eggendorf-Winkelhofer.jpg
END:VEVENT
BEGIN:VEVENT
DTSTART;TZID=Europe/Paris:20210203T183000
DTEND;TZID=Europe/Paris:20210203T210000
DTSTAMP:20260426T050600
CREATED:20210131T153123Z
LAST-MODIFIED:20210131T153123Z
UID:6973-1612377000-1612386000@oefr.at
SUMMARY:7. Online-Stammtisch der ÖFR: Grundbücher als Quellen für Familien- und Hausgeschichtsforschung
DESCRIPTION:Nachdem bei unserem 3. Online-Stammtisch am 21. Juli 2020 aufgrund des großen Interesses viele nicht teilnehmen konnten\, das Interesse am Thema nach wie vor groß ist\, diesmal wieder das Thema Grundbücher mit Schwerpunkt Österreich\, aber auch Tschechien. \nGrundbücher als Quellen für Familien- und Hausgeschichtsforschung \nMittwoch\, 3. Februar 2021\, 18.30 – 21.00 Uhr \nDipl.-Ing. Leopold Strenn wird uns das Thema praxisbezogen näher bringen. Einlass ab 18.00 Uhr\, im Anschluss bis 21.00 Uhr noch Online-Plauderei und Erfahrungsaustausch. \nUm eine erfolgreiche Veranstaltung mit ausreichender Diskussionszeit abhalten zu können\, wird die Teilnehmerzahl beschränkt sein. Wir ersuchen Sie daher unter Angabe Ihres Familien- und Vornamens um Anmeldung mit Betreff “Online-7” bei genealogenstammtisch@gmx.at Sie erhalten dann ein Bestätigungsmail mit den Zugangsdaten. \nAnmeldeschluss: Dienstag\, 2. Februar 2021\, 21.00 Uhr\, sofern nicht vorher ausgebucht! \nMit der Teilnahme an unseren Veranstaltungen stimmen Sie der Veröffentlichung von Fotos\, Video- und Audioaufzeichnungen\, die im Rahmen der Veranstaltungen entstehen\, zu. \nDie Teilnahme ist natürlich kostenlos und an keinerlei Mitgliedschaft gebunden. \nWir freuen uns Sie online zu treffen! \n  \nP.S.: Alle Informationen zu unseren Veranstaltungen finden Sie auf unserer Website unter: https://oefr.at/events/ \nteilen teilen teilen 
URL:https://oefr.at/event/7-online-stammtisch-der-oefr-grundbuecher-als-quellen-fuer-familien-und-hausgeschichtsforschung/
LOCATION:online
CATEGORIES:Genealogenstammtisch,Vortrag
ATTACH;FMTTYPE=image/jpeg:https://oefr.at/wp-content/uploads/Grundbuch-P1000414_Ausschnitt.jpg
END:VEVENT
BEGIN:VEVENT
DTSTART;TZID=Europe/Paris:20210210T090000
DTEND;TZID=Europe/Paris:20210210T100000
DTSTAMP:20260426T050600
CREATED:20210131T145423Z
LAST-MODIFIED:20210131T145423Z
UID:6959-1612947600-1612951200@oefr.at
SUMMARY:13. ÖFR-Café über ZOOM
DESCRIPTION:Diskutieren über Familienforschung\, Neues erfahren\, Fragen klären\, wieder Bekannte treffen und noch viel mehr.\nWir freuen uns auf Euch zu treffen\, Teilnahme ist natürlich kostenlos und an keinerlei Mitgliedschaft gebunden. \nDiesmal ersuchen wir Euch um Anmeldung mit Betreff “13. ÖFR-Cafe” unter Genealogenstammtisch@gmx.at bis spätestens Dienstag\, 9.2.2021\, 21.00 Uhr. Den Zugangslink erhaltet Ihr dann per Mail. \nAlle jene\, die beim letzten (12.) Café anwesend waren\, benötigen keine Anmeldung\, der Zugangslink ist derselbe. \nDer Vorstand der ÖFR. \nteilen teilen teilen 
URL:https://oefr.at/event/13-oefr-cafe-ueber-zoom/
LOCATION:Zoom
CATEGORIES:Genealogenstammtisch
ATTACH;FMTTYPE=image/jpeg:https://oefr.at/wp-content/uploads/20200611_141156-Eggendorf-Winkelhofer.jpg
END:VEVENT
BEGIN:VEVENT
DTSTART;TZID=Europe/Paris:20210210T183000
DTEND;TZID=Europe/Paris:20210210T210000
DTSTAMP:20260426T050600
CREATED:20210131T163248Z
LAST-MODIFIED:20210131T163248Z
UID:6978-1612981800-1612990800@oefr.at
SUMMARY:8. Online-Stammtisch der ÖFR: Forschen in der Markgrafschaft Mähren (Archive Brünn und Troppau)
DESCRIPTION:Viele von uns haben Vorfahren in Böhmen und Mähren. Diesmal steht Mähren (heute Tschechien) im Mittelpunkt unserer Betrachtungen. \nWir werden diesmal den Zugriff auf die Matriken über die Seiten der Archive Brno / Brünn und  Troppau / Opava behandeln\, aber auch andere Quellen und Hilfsmittel sollen nicht zu kurz kommen. \nForschen in der Markrafschaft Mähren (Archive Brünn und Troppau) \nMittwoch\, 10. Februar 2021\, 18.30 – 21.00 Uhr\, \nEinlass ab 18.00 Uhr\, im Anschluss bis 21.00 Uhr noch Online-Plauderei und Erfahrungsaustausch. \nUm eine erfolgreiche Veranstaltung mit ausreichender Diskussionszeit abhalten zu können\, wird die Teilnehmerzahl beschränkt sein. Wir ersuchen Sie daher unter Angabe Ihres Familien- und Vornamens um Anmeldung mit Betreff “Online-8” bei genealogenstammtisch@gmx.at Sie erhalten dann ein Bestätigungsmail mit den Zugangsdaten. \nAnmeldeschluss: Dienstag\, 9. Februar 2021\, 21.00 Uhr\, sofern nicht vorher ausgebucht! \n  \nMit der Teilnahme an unseren Veranstaltungen stimmen Sie der Veröffentlichung von Fotos\, Video- und Audioaufzeichnungen\, die im Rahmen der Veranstaltungen entstehen\, zu. \nDie Teilnahme ist natürlich kostenlos und an keinerlei Mitgliedschaft gebunden. \nWir freuen uns Sie online zu treffen! \n  \nP.S.: Alle Informationen zu unseren Veranstaltungen finden Sie auf unserer Website unter: https://oefr.at/events/ \nWenn Sie jemanden kennen\, der an diesem Thema oder generell an Familienforschung interessiert sein könnte\, freuen wir uns\, wenn Sie diese Veranstaltung teilen. Über Facebook oder Twitter geht das ganz einfach über die Schaltfläche nach diesem Text. \nDanke\, bis demnächst! \n  \n  \nteilen teilen teilen 
URL:https://oefr.at/event/8-online-stammtisch-der-oefr-forschen-in-der-markgrafschaft-maehren-archive-bruenn-und-troppau/
LOCATION:Zoom
CATEGORIES:Genealogenstammtisch,Vortrag
ATTACH;FMTTYPE=image/jpeg:https://oefr.at/wp-content/uploads/Troppau-Screenshot.jpg
END:VEVENT
BEGIN:VEVENT
DTSTART;TZID=Europe/Paris:20210217T090000
DTEND;TZID=Europe/Paris:20210217T100000
DTSTAMP:20260426T050600
CREATED:20210131T150010Z
LAST-MODIFIED:20210131T150010Z
UID:6963-1613552400-1613556000@oefr.at
SUMMARY:14. ÖFR-Café über ZOOM
DESCRIPTION:Diskutieren über Familienforschung\, Neues erfahren\, Fragen klären\, wieder Bekannte treffen und noch viel mehr.\nWir freuen uns auf Euch zu treffen\, Teilnahme ist natürlich kostenlos und an keinerlei Mitgliedschaft gebunden. \nDiesmal ersuchen wir Euch um Anmeldung mit Betreff “14. ÖFR-Cafe” unter Genealogenstammtisch@gmx.at bis spätestens Dienstag\, 16.2.2021\, 21.00 Uhr. Den Zugangslink erhaltet Ihr dann per Mail. \nAlle jene\, die beim letzten (13.) Café anwesend waren\, benötigen keine Anmeldung\, der Zugangslink ist derselbe. \nDer Vorstand der ÖFR. \nteilen teilen teilen 
URL:https://oefr.at/event/14-oefr-cafe-ueber-zoom/
LOCATION:Zoom
CATEGORIES:Genealogenstammtisch
ATTACH;FMTTYPE=image/jpeg:https://oefr.at/wp-content/uploads/20200611_141156-Eggendorf-Winkelhofer.jpg
END:VEVENT
BEGIN:VEVENT
DTSTART;TZID=Europe/Paris:20210217T183000
DTEND;TZID=Europe/Paris:20210217T210000
DTSTAMP:20260426T050600
CREATED:20210131T171538Z
LAST-MODIFIED:20210207T171753Z
UID:6992-1613586600-1613595600@oefr.at
SUMMARY:9. Online-Stammtisch der ÖFR: Tipps für unsere Anfängerinnen und Anfänger
DESCRIPTION:In den letzten Monaten haben sehr viele begonnen die Geschichte ihrer Familien zu erforschen. Diesmal wollen wir allen Anfängerinnen und Anfängern Tipps geben\, wie sie mit Ihrer Forschung zügig weiter kommen\, typische Anfänger-Fehler vermeiden und viele interessante Aspekte ihrer Familiengeschichte entdecken können. \nNach einer Einführung wird auch genügend Zeit für Diskussionen\, Erfahrungsaustausch und mehr sein. \nMittwoch\, 17. Februar 2021\, 18.30 – 21.00 Uhr\, \nEinlass ab 18.00 Uhr\, im Anschluss bis 21.00 Uhr noch Online-Plauderei und Erfahrungsaustausch. \nUm eine erfolgreiche Veranstaltung mit ausreichender Diskussionszeit abhalten zu können\, wird die Teilnehmerzahl beschränkt sein. Wir ersuchen Sie daher unter Angabe Ihres Familien- und Vornamens um Anmeldung mit Betreff “Online-9” bei genealogenstammtisch@gmx.at Sie erhalten dann ein Bestätigungsmail mit den Zugangsdaten. \nAnmeldeschluss: Dienstag\, 16. Februar 2021\, 21.00 Uhr\, sofern nicht vorher ausgebucht! \n  \nMit der Teilnahme an unseren Veranstaltungen stimmen Sie der Veröffentlichung von Fotos\, Video- und Audioaufzeichnungen\, die im Rahmen der Veranstaltungen entstehen\, zu. \nDie Teilnahme ist natürlich kostenlos und an keinerlei Mitgliedschaft gebunden. \nWir freuen uns Sie online zu treffen! \n  \nP.S.: Alle Informationen zu unseren Veranstaltungen finden Sie auf unserer Website unter: https://oefr.at/events/ \nWenn Sie jemanden kennen\, der an diesem Thema oder generell an Familienforschung interessiert sein könnte\, freuen wir uns\, wenn Sie diese Veranstaltung teilen. Über Facebook oder Twitter geht das ganz einfach über die Schaltfläche nach diesem Text. \nDanke\, bis demnächst! \n  \nteilen teilen teilen 
URL:https://oefr.at/event/9-online-stammtisch-der-oefr-tipps-fuer-unsere-anfaengerinnen-und-anfaenger/
LOCATION:Zoom
CATEGORIES:Genealogenstammtisch,Workshop
ATTACH;FMTTYPE=image/jpeg:https://oefr.at/wp-content/uploads/2017/10/Bilder_und_Dokumente_2017-11_12_low.jpg
END:VEVENT
BEGIN:VEVENT
DTSTART;TZID=Europe/Paris:20210224T090000
DTEND;TZID=Europe/Paris:20210224T100000
DTSTAMP:20260426T050600
CREATED:20210131T150533Z
LAST-MODIFIED:20210131T150533Z
UID:6969-1614157200-1614160800@oefr.at
SUMMARY:15. ÖFR-Café über ZOOM
DESCRIPTION:Diskutieren über Familienforschung\, Neues erfahren\, Fragen klären\, wieder Bekannte treffen und noch viel mehr.\nWir freuen uns auf Euch zu treffen\, Teilnahme ist natürlich kostenlos und an keinerlei Mitgliedschaft gebunden. \nDiesmal ersuchen wir Euch um Anmeldung mit Betreff “15. ÖFR-Cafe” unter Genealogenstammtisch@gmx.at bis spätestens Dienstag\, 23.2.2021\, 21.00 Uhr. Den Zugangslink erhaltet Ihr dann per Mail. \nAlle jene\, die beim letzten (14.) Café anwesend waren\, benötigen keine Anmeldung\, der Zugangslink ist derselbe. \nDer Vorstand der ÖFR. \nteilen teilen teilen 
URL:https://oefr.at/event/15-oefr-cafe-ueber-zoom/
LOCATION:Zoom
CATEGORIES:Genealogenstammtisch
ATTACH;FMTTYPE=image/jpeg:https://oefr.at/wp-content/uploads/20200611_141156-Eggendorf-Winkelhofer.jpg
END:VEVENT
BEGIN:VEVENT
DTSTART;TZID=Europe/Paris:20210224T183000
DTEND;TZID=Europe/Paris:20210224T210000
DTSTAMP:20260426T050600
CREATED:20210219T163324Z
LAST-MODIFIED:20210223T192627Z
UID:7064-1614191400-1614200400@oefr.at
SUMMARY:10. Online-Stammtisch der ÖFR: Die genealogische Datenbank FamilySearch
DESCRIPTION:Aufgrund des großen Interesses ausgebucht. Eine Anmeldung ist nicht mehr möglich! \nImmer wieder kommen Forscherkolleginnen und -kollegen in die Situation auf Datenbestände von FamilySearch zugreifen zu wollen. Mehrere Milliarden Datensätze warten darauf kostenlos abgefragt zu werden. \n\n    Welche Funktionen bietet FamilySearch?\n    Wie finde ich gewünschte Informationen?\n    Welche Daten aus dem Bereich der Habsburgermonarchie und darüber hinaus können wir hier finden?\n    Was könnte noch interessant sein?\n\n \nDies und vieles mehr werden wir im Rahmen dieses Stammtisches behandeln. Selbstverständlich steht auch genug Zeit für eine anregende Diskussion zur Verfügung. \nMittwoch\, 24. Februar 2021\, 18.30 – 21.00 Uhr\, \nEinlass ab 18.00 Uhr\, im Anschluss bis 21.00 Uhr noch Online-Plauderei und Erfahrungsaustausch. \nUm eine erfolgreiche Veranstaltung mit ausreichender Diskussionszeit abhalten zu können\, wird die Teilnehmerzahl beschränkt sein. Wir ersuchen Sie daher unter Angabe Ihres Familien- und Vornamens um Anmeldung mit Betreff “Online-10” bei genealogenstammtisch@gmx.at Sie erhalten dann ein Bestätigungsmail mit den Zugangsdaten. \nAnmeldeschluss: Dienstag\, 23. Februar 2021\, 21.00 Uhr\, sofern nicht vorher ausgebucht! \nMit der Teilnahme an unseren Veranstaltungen stimmen Sie der Veröffentlichung von Fotos\, Video- und Audioaufzeichnungen\, die im Rahmen der Veranstaltungen entstehen\, zu. \nDie Teilnahme ist kostenlos und an keinerlei Mitgliedschaft gebunden. \nWir freuen uns Sie online zu treffen! \nteilen teilen teilen 
URL:https://oefr.at/event/10-online-stammtisch-der-oefr-die-genealogische-datenbank-familysearch/
LOCATION:Zoom
CATEGORIES:Genealogenstammtisch,Vortrag
ATTACH;FMTTYPE=image/jpeg:https://oefr.at/wp-content/uploads/FamilySearch.jpg
END:VEVENT
END:VCALENDAR