BEGIN:VCALENDAR
VERSION:2.0
PRODID:-//ÖFR-Österreichische Gesellschaft für Familien- und regionalgeschichtliche Forschung - ECPv6.15.20//NONSGML v1.0//EN
CALSCALE:GREGORIAN
METHOD:PUBLISH
X-WR-CALNAME:ÖFR-Österreichische Gesellschaft für Familien- und regionalgeschichtliche Forschung
X-ORIGINAL-URL:https://oefr.at
X-WR-CALDESC:Veranstaltungen für ÖFR-Österreichische Gesellschaft für Familien- und regionalgeschichtliche Forschung
REFRESH-INTERVAL;VALUE=DURATION:PT1H
X-Robots-Tag:noindex
X-PUBLISHED-TTL:PT1H
BEGIN:VTIMEZONE
TZID:Europe/Paris
BEGIN:DAYLIGHT
TZOFFSETFROM:+0100
TZOFFSETTO:+0200
TZNAME:CEST
DTSTART:20190331T010000
END:DAYLIGHT
BEGIN:STANDARD
TZOFFSETFROM:+0200
TZOFFSETTO:+0100
TZNAME:CET
DTSTART:20191027T010000
END:STANDARD
BEGIN:DAYLIGHT
TZOFFSETFROM:+0100
TZOFFSETTO:+0200
TZNAME:CEST
DTSTART:20200329T010000
END:DAYLIGHT
BEGIN:STANDARD
TZOFFSETFROM:+0200
TZOFFSETTO:+0100
TZNAME:CET
DTSTART:20201025T010000
END:STANDARD
BEGIN:DAYLIGHT
TZOFFSETFROM:+0100
TZOFFSETTO:+0200
TZNAME:CEST
DTSTART:20210328T010000
END:DAYLIGHT
BEGIN:STANDARD
TZOFFSETFROM:+0200
TZOFFSETTO:+0100
TZNAME:CET
DTSTART:20211031T010000
END:STANDARD
END:VTIMEZONE
BEGIN:VTIMEZONE
TZID:Europe/Helsinki
BEGIN:DAYLIGHT
TZOFFSETFROM:+0200
TZOFFSETTO:+0300
TZNAME:EEST
DTSTART:20190331T010000
END:DAYLIGHT
BEGIN:STANDARD
TZOFFSETFROM:+0300
TZOFFSETTO:+0200
TZNAME:EET
DTSTART:20191027T010000
END:STANDARD
BEGIN:DAYLIGHT
TZOFFSETFROM:+0200
TZOFFSETTO:+0300
TZNAME:EEST
DTSTART:20200329T010000
END:DAYLIGHT
BEGIN:STANDARD
TZOFFSETFROM:+0300
TZOFFSETTO:+0200
TZNAME:EET
DTSTART:20201025T010000
END:STANDARD
BEGIN:DAYLIGHT
TZOFFSETFROM:+0200
TZOFFSETTO:+0300
TZNAME:EEST
DTSTART:20210328T010000
END:DAYLIGHT
BEGIN:STANDARD
TZOFFSETFROM:+0300
TZOFFSETTO:+0200
TZNAME:EET
DTSTART:20211031T010000
END:STANDARD
END:VTIMEZONE
BEGIN:VEVENT
DTSTART;TZID=Europe/Paris:20201202T090000
DTEND;TZID=Europe/Paris:20201202T100000
DTSTAMP:20260425T145410
CREATED:20201129T105947Z
LAST-MODIFIED:20201129T105947Z
UID:6634-1606899600-1606903200@oefr.at
SUMMARY:3. ÖFR-Café
DESCRIPTION:Bereits zweimal erfolgreich stattgefunden\, nun zum dritten Mal. \nDiskutieren\, Neues erfahren\, Fragen klären und wieder Bekannte treffen\, die möglicherweise auch verwandt sind. \nWir freuen uns auf Euch\, Teilnahme ist natürlich kostenlos und an keinerlei Mitgliedschaft gebunden. \nDiesmal ersuchen wir Euch um Anmeldung mit Betreff “3. ÖFR-Cafe” unter Genealogenstammtisch@gmx.at bis spätestens Dienstag\, 1.12.2020\, 19.00 Uhr. \nDen Zugangslink erhaltet Ihr dann per Mail. \nDer Vorstand der ÖFR. \nteilen teilen teilen 
URL:https://oefr.at/event/3-oefr-cafe/
LOCATION:online
CATEGORIES:Genealogenstammtisch
ATTACH;FMTTYPE=image/jpeg:https://oefr.at/wp-content/uploads/Kaffeeservice-wien-1.jpg
END:VEVENT
BEGIN:VEVENT
DTSTART;TZID=Europe/Paris:20201209T090000
DTEND;TZID=Europe/Paris:20201209T100000
DTSTAMP:20260425T145410
CREATED:20201204T183132Z
LAST-MODIFIED:20201204T183132Z
UID:6672-1607504400-1607508000@oefr.at
SUMMARY:4. ÖFR-Café (Online über Zoom)
DESCRIPTION:Bereits dreimal erfolgreich stattgefunden\, nun zum vierten Mal. \nDiskutieren\, Neues erfahren\, Fragen klären und wieder Bekannte treffen\, die möglicherweise auch verwandt sind. \nWir freuen uns auf Euch\, Teilnahme ist natürlich kostenlos und an keinerlei Mitgliedschaft gebunden. \nDiesmal ersuchen wir Euch um Anmeldung mit Betreff “4. ÖFR-Cafe” unter Genealogenstammtisch@gmx.at bis spätestens Dienstag\, 8.12.2020\, 19.00 Uhr. \nDen Zugangslink erhaltet Ihr dann per Mail. Alle jene\, die beim letzten Café teilgenommen haben\, benötigen keine Anmeldung. Der Zugangslink ist derselbe. \nDer Vorstand der ÖFR. \nteilen teilen teilen 
URL:https://oefr.at/event/4-oefr-cafe-online-ueber-zoom/
CATEGORIES:Genealogenstammtisch
ATTACH;FMTTYPE=image/jpeg:https://oefr.at/wp-content/uploads/Kaffeeservice-wien.jpg
END:VEVENT
BEGIN:VEVENT
DTSTART;TZID=Europe/Paris:20201209T180000
DTEND;TZID=Europe/Paris:20201209T200000
DTSTAMP:20260425T145410
CREATED:20201205T203716Z
LAST-MODIFIED:20201205T203845Z
UID:6688-1607536800-1607544000@oefr.at
SUMMARY:5. Online-Stammtisch der ÖFR: „Eheverträge\, Testamente und Verlassenschaftsabhandlungen als Quelle für Familienforscher“
DESCRIPTION:Eheverträge\, Testamente und Verlassenschaftsabhandlungen enthalten wertvolle Informationen für die Familien- und Hausgeschichtsforschung. Oft können genealogische Fragestellungen nur mit diesen Urkunden gelöst werden. Sie liefern jedoch auch viele wertvolle weitere Informationen zum Besitz der betroffenen Personen\, das „Futter“ für den Forscher oder die Forscherin.\nNeben den rechtlichen Grundlagen werden auch viele Beispiele beginnend mit der Zeit Maria Theresias bis ins 20. Jahrhundert die Thematik veranschaulichen. Es wird um Wirte\, Bauern\, Handwerker und deren Vermögen gehen\, aber auch das Beispiel eines Komponisten namens Hermann Mayer werden wir behandeln. Selbstverständlich erhalten Sie auch Hinweise\, wo Sie derartige Quellen finden können. \nDie Teilnahme ist selbstverständlich kostenlos und an keine Mitgliedschaft gebunden. Um für ausreichend Platz zu sorgen\, ersuchen wir Sie um eine Anmeldung mit Betreff “Online 5” an genealogenstammtisch(at)gmx.at. \nDen Zugangslink erhalten Sie zeitgerecht per Mail. Anmeldeschluss Mittwoch\, 9. Dezember 2020\, 13.00 Uhr. \nWir freuen uns Sie wieder zahlreich begrüßen zu dürfen. \nMit der Teilnahme an unseren Veranstaltungen stimmen Sie der Veröffentlichung von Fotos\, Video- und Audioaufzeichnungen\, die im Rahmen der Veranstaltungen entstehen\, zu. \n  \nteilen teilen teilen 
URL:https://oefr.at/event/5-online-stammtisch-der-oefr-ehevertraege-testamente-und-verlassenschaftsabhandlungen-als-quelle-fuer-familienforscher/
LOCATION:online
CATEGORIES:Genealogenstammtisch,Vortrag
ATTACH;FMTTYPE=image/jpeg:https://oefr.at/wp-content/uploads/Strenn-Leopold-Plach-Theresia-Hochzeitsfoto_255Px.jpg
END:VEVENT
BEGIN:VEVENT
DTSTART;TZID=Europe/Paris:20201216T090000
DTEND;TZID=Europe/Paris:20201216T100000
DTSTAMP:20260425T145410
CREATED:20201214T101435Z
LAST-MODIFIED:20201214T101710Z
UID:6710-1608109200-1608112800@oefr.at
SUMMARY:5. ÖFR-Café über ZOOM
DESCRIPTION:Diskutieren\, Neues erfahren\, Fragen klären und wieder Bekannte treffen\, die möglicherweise auch verwandt sind. \nWir freuen uns auf Euch\, Teilnahme ist natürlich kostenlos und an keinerlei Mitgliedschaft gebunden. \nDiesmal ersuchen wir Euch um Anmeldung mit Betreff “5. ÖFR-Cafe” unter Genealogenstammtisch@gmx.at bis spätestens Dienstag\, 15.12.2020\, 19.00 Uhr. \nDen Zugangslink erhaltet Ihr dann per Mail. Alle jene\, die beim letzten Café teilgenommen haben\, benötigen keine Anmeldung. Der Zugangslink ist derselbe. \nDer Vorstand der ÖFR. \nteilen teilen teilen 
URL:https://oefr.at/event/5-oefr-cafe-ueber-zoom/
LOCATION:Zoom
CATEGORIES:Genealogenstammtisch
ATTACH;FMTTYPE=image/jpeg:https://oefr.at/wp-content/uploads/Kaffeeservice-wien-1.jpg
END:VEVENT
BEGIN:VEVENT
DTSTART;TZID=Europe/Helsinki:20201221T190000
DTEND;TZID=Europe/Helsinki:20201221T210000
DTSTAMP:20260425T145410
CREATED:20201219T134753Z
LAST-MODIFIED:20201219T134753Z
UID:6773-1608577200-1608584400@oefr.at
SUMMARY:6. Online-Stammtisch der ÖFR: Präsentation des Jahrbuchs 2021 und mehr
DESCRIPTION:Bei diesem vorweihnachtlichen Termin wollen wir Ihnen das neue Jahrbuch 2021 mit vielen interessanten Beiträgen präsentieren. Es ist auf dem Postweg zu unseren Mitgliedern: \nPräsentation des Jahrbuches 2021 der ÖFR \nNach einer kurzen Einführung in die Beiträge besteht wieder Gelegenheit Neues zu erfahren\, Erfahrungen auszutauschen\,  “alte” Bekannte und Forscherkolleginnen und -kollegen zu treffen. \nGanz besonders freuen wir uns\, wenn auch wieder Anfängerinnen und Anfänger zu uns stoßen. \nDie Teilnahme ist natürlich kostenlos und an keinerlei Mitgliedschaft gebunden. \nUm für ausreichend Platz zu sorgen\, ersuchen wir Sie um Anmeldung mit dem Betreff “Online 6” an genealogenstammtisch(at)gmx.at. Sie erhalten dann die Zugangsdaten per Mail. \nAnmeldeschluss ist Montag\, 21.12.2020\, 17.00 Uhr. \nteilen teilen teilen 
URL:https://oefr.at/event/6-online-stammtisch-der-oefr-praesentation-des-jahrbuchs-2021-und-mehr/
LOCATION:Zoom
CATEGORIES:Genealogenstammtisch
ATTACH;FMTTYPE=image/jpeg:https://oefr.at/wp-content/uploads/Jahrbuch-2021-Screenshot.jpg
END:VEVENT
BEGIN:VEVENT
DTSTART;TZID=Europe/Paris:20201223T090000
DTEND;TZID=Europe/Paris:20201223T100000
DTSTAMP:20260425T145410
CREATED:20201214T102103Z
LAST-MODIFIED:20201214T102103Z
UID:6717-1608714000-1608717600@oefr.at
SUMMARY:6. ÖFR-Café über ZOOM
DESCRIPTION:Diskutieren\, Neues erfahren\, Fragen klären und wieder Bekannte treffen\, die möglicherweise auch verwandt sind. \nWir freuen uns auf Euch\, Teilnahme ist natürlich kostenlos und an keinerlei Mitgliedschaft gebunden. \nDiesmal ersuchen wir Euch um Anmeldung mit Betreff “6. ÖFR-Cafe” unter Genealogenstammtisch@gmx.at bis spätestens Dienstag\, 22.12.2020\, 19.00 Uhr. \nDen Zugangslink erhaltet Ihr dann per Mail. Alle jene\, die beim letzten Café teilgenommen haben\, benötigen keine Anmeldung. Der Zugangslink ist derselbe. \nDer Vorstand der ÖFR. \nteilen teilen teilen 
URL:https://oefr.at/event/6-oefr-cafe-ueber-zoom/
LOCATION:Zoom
CATEGORIES:Genealogenstammtisch
ATTACH;FMTTYPE=image/jpeg:https://oefr.at/wp-content/uploads/Kaffeeservice-wien-1.jpg
END:VEVENT
BEGIN:VEVENT
DTSTART;TZID=Europe/Paris:20201230T090000
DTEND;TZID=Europe/Paris:20201230T100000
DTSTAMP:20260425T145410
CREATED:20201227T095032Z
LAST-MODIFIED:20201227T095032Z
UID:6808-1609318800-1609322400@oefr.at
SUMMARY:7. ÖFR-Café über ZOOM
DESCRIPTION:Diskutieren\, Neues erfahren\, Fragen klären und wieder Bekannte treffen\, die möglicherweise auch verwandt sind.\nWir freuen uns auf Euch\, Teilnahme ist natürlich kostenlos und an keinerlei Mitgliedschaft gebunden. \nDiesmal ersuchen wir Euch um Anmeldung mit Betreff “7. ÖFR-Cafe” unter Genealogenstammtisch@gmx.at bis spätestens Dienstag\, 29.12.2020\, 19.00 Uhr. \nDen Zugangslink erhaltet Ihr dann per Mail. Alle jene\, die beim letzten Café teilgenommen haben\, benötigen keine Anmeldung. Der Zugangslink ist derselbe.\nDer Vorstand der ÖFR. \nteilen teilen teilen 
URL:https://oefr.at/event/7-oefr-cafe-ueber-zoom/
LOCATION:Zoom
CATEGORIES:Genealogenstammtisch
ATTACH;FMTTYPE=image/jpeg:https://oefr.at/wp-content/uploads/Kaffeeservice-wien-1.jpg
END:VEVENT
END:VCALENDAR