BEGIN:VCALENDAR
VERSION:2.0
PRODID:-//ÖFR-Österreichische Gesellschaft für Familien- und regionalgeschichtliche Forschung - ECPv6.15.20//NONSGML v1.0//EN
CALSCALE:GREGORIAN
METHOD:PUBLISH
X-ORIGINAL-URL:https://oefr.at
X-WR-CALDESC:Veranstaltungen für ÖFR-Österreichische Gesellschaft für Familien- und regionalgeschichtliche Forschung
REFRESH-INTERVAL;VALUE=DURATION:PT1H
X-Robots-Tag:noindex
X-PUBLISHED-TTL:PT1H
BEGIN:VTIMEZONE
TZID:Europe/Helsinki
BEGIN:DAYLIGHT
TZOFFSETFROM:+0200
TZOFFSETTO:+0300
TZNAME:EEST
DTSTART:20190331T010000
END:DAYLIGHT
BEGIN:STANDARD
TZOFFSETFROM:+0300
TZOFFSETTO:+0200
TZNAME:EET
DTSTART:20191027T010000
END:STANDARD
BEGIN:DAYLIGHT
TZOFFSETFROM:+0200
TZOFFSETTO:+0300
TZNAME:EEST
DTSTART:20200329T010000
END:DAYLIGHT
BEGIN:STANDARD
TZOFFSETFROM:+0300
TZOFFSETTO:+0200
TZNAME:EET
DTSTART:20201025T010000
END:STANDARD
BEGIN:DAYLIGHT
TZOFFSETFROM:+0200
TZOFFSETTO:+0300
TZNAME:EEST
DTSTART:20210328T010000
END:DAYLIGHT
BEGIN:STANDARD
TZOFFSETFROM:+0300
TZOFFSETTO:+0200
TZNAME:EET
DTSTART:20211031T010000
END:STANDARD
END:VTIMEZONE
BEGIN:VEVENT
DTSTART;TZID=Europe/Helsinki:20201015T190000
DTEND;TZID=Europe/Helsinki:20201015T203000
DTSTAMP:20260421T221327
CREATED:20200923T185649Z
LAST-MODIFIED:20200923T185649Z
UID:6415-1602788400-1602793800@oefr.at
SUMMARY:Online-Generalversammlung 2020 der ÖFR
DESCRIPTION:Drei Jahre sind es nun\, dass die Österreichische Gesellschaft für Familien- und regionalgeschichtliche Forschung aktiv ist. Drei Jahre\, in denen sich der Verein positiv entwickelt hat\, vieles erreicht worden ist\, noch viel mehr ist für die Zukunft denkbar. \nDie erste Funktionsperiode des Vorstands endet demnächst\, eine Generalversammlung zwecks Neuwahl des Vorstandes ist erforderlich. \nUrsprünglich hatten wir diese mit einem umfangreichen Rahmenprogramm am 13. Mai dieses Jahres vorgesehen (siehe auch unter https://oefr.at/events/2020-05/)\, sie war damals aufgrund der Covid-19-Beschränkungen nicht möglich\, weshalb wir sie auf einen späteren Zeitpunkt verschoben haben. \nDie derzeitigen Rahmenbedingungen infolge der Corona-Epidemie erschweren nach wie vor die Abhaltung einer Generalversammlung mit physischer Anwesenheit der Mitglieder aufgrund der Mitgliederzahl und der Abstandsregeln vor allem hinsichtlich des Raumbedarfs. \nDer Vorstand der ÖFR hat beschlossen die diesjährige Generalversammlung als „virtuelle Versammlung“ abzuhalten. \nMehr Details erfahren unsere Mitglieder per Mail-Einladung\, die am Mittwoch\, 23.9.2020 versendet wurde. Sollten Sie heute kein Mail erhalten haben\, vielleicht ist es in Ihrem Spam-Ordner gelandet. \nWir freuen uns Sie wieder zu sehen. \nteilen teilen teilen 
URL:https://oefr.at/event/online-generalversammlung-2020-der-oefr/
LOCATION:Zoom
ATTACH;FMTTYPE=image/jpeg:https://oefr.at/wp-content/uploads/WStLA-2016-03-03-P1410995-e1582968476838.jpg
END:VEVENT
END:VCALENDAR