BEGIN:VCALENDAR
VERSION:2.0
PRODID:-//ÖFR-Österreichische Gesellschaft für Familien- und regionalgeschichtliche Forschung - ECPv6.15.20//NONSGML v1.0//EN
CALSCALE:GREGORIAN
METHOD:PUBLISH
X-WR-CALNAME:ÖFR-Österreichische Gesellschaft für Familien- und regionalgeschichtliche Forschung
X-ORIGINAL-URL:https://oefr.at
X-WR-CALDESC:Veranstaltungen für ÖFR-Österreichische Gesellschaft für Familien- und regionalgeschichtliche Forschung
REFRESH-INTERVAL;VALUE=DURATION:PT1H
X-Robots-Tag:noindex
X-PUBLISHED-TTL:PT1H
BEGIN:VTIMEZONE
TZID:Europe/Helsinki
BEGIN:DAYLIGHT
TZOFFSETFROM:+0200
TZOFFSETTO:+0300
TZNAME:EEST
DTSTART:20190331T010000
END:DAYLIGHT
BEGIN:STANDARD
TZOFFSETFROM:+0300
TZOFFSETTO:+0200
TZNAME:EET
DTSTART:20191027T010000
END:STANDARD
BEGIN:DAYLIGHT
TZOFFSETFROM:+0200
TZOFFSETTO:+0300
TZNAME:EEST
DTSTART:20200329T010000
END:DAYLIGHT
BEGIN:STANDARD
TZOFFSETFROM:+0300
TZOFFSETTO:+0200
TZNAME:EET
DTSTART:20201025T010000
END:STANDARD
BEGIN:DAYLIGHT
TZOFFSETFROM:+0200
TZOFFSETTO:+0300
TZNAME:EEST
DTSTART:20210328T010000
END:DAYLIGHT
BEGIN:STANDARD
TZOFFSETFROM:+0300
TZOFFSETTO:+0200
TZNAME:EET
DTSTART:20211031T010000
END:STANDARD
END:VTIMEZONE
BEGIN:VEVENT
DTSTART;TZID=Europe/Helsinki:20200721T190000
DTEND;TZID=Europe/Helsinki:20200721T210000
DTSTAMP:20260421T053335
CREATED:20200707T151124Z
LAST-MODIFIED:20200707T151627Z
UID:6171-1595358000-1595365200@oefr.at
SUMMARY:3. Online-Stammtisch der ÖFR: Grundbücher als Quellen für Familien- und Hausgeschichtsforschung
DESCRIPTION:Nachdem vor einigen Wochen der 2. Online-Stammtisch zum Thema “Ahnenforschung mit GenTeam\, Matricula und Findbuch” wieder erfolgreich war\, möchten wir Sie nun zu unserem dritten Online-Stammtisch herzlich einladen: \nGrundbücher als Quellen für Familien- und Hausgeschichtsforschung \nDienstag\, 21. Juli 2020\, 19.00 – 21.00 Uhr \nDipl.-Ing. Leopold Strenn wird uns das Thema praxisbezogen näher bringen. Einlass ab 18.30 Uhr\, im Anschluss bis 21.30 Uhr noch Online-Plauderei und Erfahrungsaustausch. \nUm eine erfolgreiche Veranstaltung mit ausreichender Diskussionszeit abhalten zu können\, wird die Teilnehmerzahl beschränkt sein. Wir ersuchen Sie daher unter Angabe Ihres Familien- und Vornamens um Anmeldung mit Betreff “Online-3” bei genealogenstammtisch@gmx.at Sie erhalten dann ein Bestätigungsmail mit den Zugangsdaten. \nAnmeldeschluss: Dienstag\, 21. Juli 2020\, 12.00 Uhr\, sofern nicht vorher ausgebucht! \nMit der Teilnahme an unseren Veranstaltungen stimmen Sie der Veröffentlichung von Fotos\, Video- und Audioaufzeichnungen\, die im Rahmen der Veranstaltungen entstehen\, zu. \nDie Teilnahme ist natürlich kostenlos und an keinerlei Mitgliedschaft gebunden.\nWir freuen uns Sie online zu treffen! \nP.S.: Alle Informationen zu unseren Veranstaltungen finden Sie auf unserer Website unter: https://oefr.at/events/ \nteilen teilen teilen 
URL:https://oefr.at/event/3-online-stammtisch-der-oefr-grundbuecher-als-quellen-fuer-familien-und-hausgeschichtsforschung/
CATEGORIES:Genealogenstammtisch,Vortrag
ATTACH;FMTTYPE=image/jpeg:https://oefr.at/wp-content/uploads/Grundbuch-P1000414_Ausschnitt.jpg
END:VEVENT
END:VCALENDAR