BEGIN:VCALENDAR
VERSION:2.0
PRODID:-//ÖFR-Österreichische Gesellschaft für Familien- und regionalgeschichtliche Forschung - ECPv6.15.20//NONSGML v1.0//EN
CALSCALE:GREGORIAN
METHOD:PUBLISH
X-ORIGINAL-URL:https://oefr.at
X-WR-CALDESC:Veranstaltungen für ÖFR-Österreichische Gesellschaft für Familien- und regionalgeschichtliche Forschung
REFRESH-INTERVAL;VALUE=DURATION:PT1H
X-Robots-Tag:noindex
X-PUBLISHED-TTL:PT1H
BEGIN:VTIMEZONE
TZID:Europe/Helsinki
BEGIN:DAYLIGHT
TZOFFSETFROM:+0200
TZOFFSETTO:+0300
TZNAME:EEST
DTSTART:20190331T010000
END:DAYLIGHT
BEGIN:STANDARD
TZOFFSETFROM:+0300
TZOFFSETTO:+0200
TZNAME:EET
DTSTART:20191027T010000
END:STANDARD
BEGIN:DAYLIGHT
TZOFFSETFROM:+0200
TZOFFSETTO:+0300
TZNAME:EEST
DTSTART:20200329T010000
END:DAYLIGHT
BEGIN:STANDARD
TZOFFSETFROM:+0300
TZOFFSETTO:+0200
TZNAME:EET
DTSTART:20201025T010000
END:STANDARD
BEGIN:DAYLIGHT
TZOFFSETFROM:+0200
TZOFFSETTO:+0300
TZNAME:EEST
DTSTART:20210328T010000
END:DAYLIGHT
BEGIN:STANDARD
TZOFFSETFROM:+0300
TZOFFSETTO:+0200
TZNAME:EET
DTSTART:20211031T010000
END:STANDARD
END:VTIMEZONE
BEGIN:VTIMEZONE
TZID:Europe/Paris
BEGIN:DAYLIGHT
TZOFFSETFROM:+0100
TZOFFSETTO:+0200
TZNAME:CEST
DTSTART:20190331T010000
END:DAYLIGHT
BEGIN:STANDARD
TZOFFSETFROM:+0200
TZOFFSETTO:+0100
TZNAME:CET
DTSTART:20191027T010000
END:STANDARD
BEGIN:DAYLIGHT
TZOFFSETFROM:+0100
TZOFFSETTO:+0200
TZNAME:CEST
DTSTART:20200329T010000
END:DAYLIGHT
BEGIN:STANDARD
TZOFFSETFROM:+0200
TZOFFSETTO:+0100
TZNAME:CET
DTSTART:20201025T010000
END:STANDARD
BEGIN:DAYLIGHT
TZOFFSETFROM:+0100
TZOFFSETTO:+0200
TZNAME:CEST
DTSTART:20210328T010000
END:DAYLIGHT
BEGIN:STANDARD
TZOFFSETFROM:+0200
TZOFFSETTO:+0100
TZNAME:CET
DTSTART:20211031T010000
END:STANDARD
END:VTIMEZONE
BEGIN:VEVENT
DTSTART;TZID=Europe/Helsinki:20200114T183000
DTEND;TZID=Europe/Helsinki:20200114T203000
DTSTAMP:20260421T221329
CREATED:20200103T115217Z
LAST-MODIFIED:20200107T172813Z
UID:5237-1579026600-1579033800@oefr.at
SUMMARY:35. Genealogenstammtisch in Mistelbach
DESCRIPTION:Gabi Rudinger\, Martina Jocha: \nDNA-Genealogie – eine Einführung          \nViele sprechen davon\, aber wer weiß wirklich Bescheid? Die beiden Vortragenden beschäftigen sich erfolgreich seit Jahren mit DNA-Genealogie. Ersetzt die DNA-Genealogie die traditionelle Ahnenforschung? Brauchen wir keine Matriken mehr? Dass dies nicht der Fall ist\, wird im Rahmen des Vortrages erläutert: \n\nWas bedeutet DNA-Genealogie? Was muss beachtet werden?\nWas wird vererbt? Was kann getestet werden?\nWelche Anbieter gibt es? Wie wird ein Test durchgeführt? Was kostet er?\nWie schauen die Ergebnisse aus? Wie geht man weiter vor?\n\nDiese und viele weitere Fragen werden die beiden Vortragenden behandeln. Selbstverständlich steht auch genug Zeit für eine anregende Disklussion zur Verfügung.\n \nWieder eine Gelegenheit Neues zu erfahren\, Erfahrungen auszutauschen\, “alte” Bekannte\, Forscherkolleginnen und -kollegen zu treffen.\nGanz besonders freuen wir uns\, wenn auch wieder Anfängerinnen und Anfänger zu uns stoßen.\nDie Teilnahme ist natürlich kostenlos und an keinerlei Mitgliedschaft gebunden.\nUm für ausreichend Platz zu sorgen\, ersuchen wir Sie um Anmeldung mit dem Betreff “Mistelbach 35” an genealogenstammtisch(at)gmx.at \nWenn Sie jemanden kennen\, der an Familienforschung interessiert sein könnte\, freuen wir uns\, wenn Sie diese Veranstaltung teilen. Über Facebook\, Twitter oder Google + geht das ganz einfach über die Schaltfläche nach diesem Text.\nDanke\, bis demnächst und aufs Teilen nicht vergessen. \nBild: Zephyris\, DNA orbit animated\, CC BY-SA 3.0 \nteilen teilen teilen 
URL:https://oefr.at/event/35-genealogenstammntisch-in-mistelbach/
LOCATION:Hotel Restaurant zur Linde\, Bahnstraße 49\, Mistelbach\, Niederösterreich\, 2130\, Österreich
CATEGORIES:Genealogenstammtisch
ATTACH;FMTTYPE=image/gif:https://oefr.at/wp-content/uploads/DNA_orbit_animated.gif
END:VEVENT
BEGIN:VEVENT
DTSTART;TZID=Europe/Helsinki:20200115T180000
DTEND;TZID=Europe/Helsinki:20200115T200000
DTSTAMP:20260421T221329
CREATED:20200107T172613Z
LAST-MODIFIED:20200107T172613Z
UID:5258-1579111200-1579118400@oefr.at
SUMMARY:57. GENEALOGENSTAMMTISCH IN WIEN
DESCRIPTION:  \nGabi Rudinger\, Martina Jocha: \nDNA-Genealogie – eine Einführung       \nViele sprechen davon\, aber wer weiß wirklich Bescheid? Die beiden Vortragenden beschäftigen sich erfolgreich seit Jahren mit DNA-Genealogie. Ersetzt die DNA-Genealogie die traditionelle Ahnenforschung? Brauchen wir keine Matriken mehr? Dass dies nicht der Fall ist\, wird im Rahmen des Vortrages erläutert: \n\n   Was bedeutet DNA-Genealogie? Was muss beachtet werden?\n   Was wird vererbt? Was kann getestet werden?\n   Welche Anbieter gibt es? Wie wird ein Test durchgeführt? Was kostet er?\n   Wie schauen die Ergebnisse aus? Wie geht man weiter vor?\n\nDiese und viele weitere Fragen werden die beiden Vortragenden behandeln. Selbstverständlich steht auch genug Zeit für eine anregende Disklussion zur Verfügung. \nWieder eine Gelegenheit Neues zu erfahren\, Erfahrungen auszutauschen\, “alte” Bekannte\, Forscherkolleginnen und -kollegen zu treffen. \nGanz besonders freuen wir uns\, wenn auch wieder Anfängerinnen und Anfänger zu uns stoßen. \nDie Teilnahme ist natürlich kostenlos und an keinerlei Mitgliedschaft gebunden. \nUm für ausreichend Platz zu sorgen\, ersuchen wir Sie um Anmeldung mit dem Betreff “Wien 57” an genealogenstammtisch.in.wien(at)gmx.at \n  \nWenn Sie jemanden kennen\, der an Familienforschung interessiert sein könnte\, freuen wir uns\, wenn Sie diese Veranstaltung teilen. Über Facebook\, Twitter oder Google + geht das ganz einfach über die Schaltfläche nach diesem Text. \nDanke\, bis demnächst und aufs Teilen nicht vergessen. \nBild: Zephyris\, DNA orbit animated\, CC BY-SA 3.0 \nteilen teilen teilen 
URL:https://oefr.at/event/57-genealogenstammtisch-in-wien/
LOCATION:Reingruber „die Kantin“\, Laudongasse 16 (Ecke Lange Gasse)\, Wien\, 1080\, Österreich
CATEGORIES:Genealogenstammtisch,Vortrag
ATTACH;FMTTYPE=image/gif:https://oefr.at/wp-content/uploads/DNA_orbit_animated.gif
END:VEVENT
BEGIN:VEVENT
DTSTART;TZID=Europe/Paris:20200120T183000
DTEND;TZID=Europe/Paris:20200120T210000
DTSTAMP:20260421T221329
CREATED:20200109T113011Z
LAST-MODIFIED:20200109T152920Z
UID:5292-1579545000-1579554000@oefr.at
SUMMARY:31. GENEALOGENSTAMMTISCH in Krems
DESCRIPTION:Gabi Rudinger\, Martina Jocha: \nDNA-Genealogie – eine Einführung          \nViele sprechen davon\, aber wer weiß wirklich Bescheid? Die beiden Vortragenden beschäftigen sich erfolgreich seit Jahren mit DNA-Genealogie. Ersetzt die DNA-Genealogie die traditionelle Ahnenforschung? Brauchen wir keine Matriken mehr? Dass dies nicht der Fall ist\, wird im Rahmen des Vortrages erläutert: \n\nWas bedeutet DNA-Genealogie? Was muss beachtet werden?\nWas wird vererbt? Was kann getestet werden?\nWelche Anbieter gibt es? Wie wird ein Test durchgeführt? Was kostet er?\nWie schauen die Ergebnisse aus? Wie geht man weiter vor?\n\nDiese und viele weitere Fragen werden die beiden Vortragenden behandeln. Selbstverständlich steht auch genug Zeit für eine anregende Disklussion zur Verfügung.\n \nWieder eine Gelegenheit Neues zu erfahren\, Erfahrungen auszutauschen\, “alte” Bekannte\, Forscherkolleginnen und -kollegen zu treffen.\nGanz besonders freuen wir uns\, wenn auch wieder Anfängerinnen und Anfänger zu uns stoßen.\nDie Teilnahme ist natürlich kostenlos und an keinerlei Mitgliedschaft gebunden.\nUm für ausreichend Platz zu sorgen\, ersuchen wir Sie um Anmeldung mit dem Betreff “Krems 31” an genealogenstammtisch(at)gmx.at \nWenn Sie jemanden kennen\, der an Familienforschung interessiert sein könnte\, freuen wir uns\, wenn Sie diese Veranstaltung teilen. Über Facebook\, Twitter oder Google + geht das ganz einfach über die Schaltfläche nach diesem Text.\nDanke\, bis demnächst und aufs Teilen nicht vergessen. \nBild: Zephyris\, DNA orbit animated\, CC BY-SA 3.0 \nteilen teilen teilen 
URL:https://oefr.at/event/31-genealogenstammtisch-in-krems/
LOCATION:Salzstadl\, Steiner Donaulände 32\, Krems\, Niederösterreich\, 3500\, Österreich
CATEGORIES:Genealogenstammtisch,Vortrag
ATTACH;FMTTYPE=image/gif:https://oefr.at/wp-content/uploads/DNA_orbit_animated.gif
END:VEVENT
END:VCALENDAR