BEGIN:VCALENDAR
VERSION:2.0
PRODID:-//ÖFR-Österreichische Gesellschaft für Familien- und regionalgeschichtliche Forschung - ECPv6.15.20//NONSGML v1.0//EN
CALSCALE:GREGORIAN
METHOD:PUBLISH
X-WR-CALNAME:ÖFR-Österreichische Gesellschaft für Familien- und regionalgeschichtliche Forschung
X-ORIGINAL-URL:https://oefr.at
X-WR-CALDESC:Veranstaltungen für ÖFR-Österreichische Gesellschaft für Familien- und regionalgeschichtliche Forschung
REFRESH-INTERVAL;VALUE=DURATION:PT1H
X-Robots-Tag:noindex
X-PUBLISHED-TTL:PT1H
BEGIN:VTIMEZONE
TZID:Europe/Helsinki
BEGIN:DAYLIGHT
TZOFFSETFROM:+0200
TZOFFSETTO:+0300
TZNAME:EEST
DTSTART:20240331T010000
END:DAYLIGHT
BEGIN:STANDARD
TZOFFSETFROM:+0300
TZOFFSETTO:+0200
TZNAME:EET
DTSTART:20241027T010000
END:STANDARD
BEGIN:DAYLIGHT
TZOFFSETFROM:+0200
TZOFFSETTO:+0300
TZNAME:EEST
DTSTART:20250330T010000
END:DAYLIGHT
BEGIN:STANDARD
TZOFFSETFROM:+0300
TZOFFSETTO:+0200
TZNAME:EET
DTSTART:20251026T010000
END:STANDARD
BEGIN:DAYLIGHT
TZOFFSETFROM:+0200
TZOFFSETTO:+0300
TZNAME:EEST
DTSTART:20260329T010000
END:DAYLIGHT
BEGIN:STANDARD
TZOFFSETFROM:+0300
TZOFFSETTO:+0200
TZNAME:EET
DTSTART:20261025T010000
END:STANDARD
END:VTIMEZONE
BEGIN:VEVENT
DTSTART;TZID=Europe/Helsinki:20251001T090000
DTEND;TZID=Europe/Helsinki:20251001T103000
DTSTAMP:20260420T090539
CREATED:20250922T085212Z
LAST-MODIFIED:20250922T085213Z
UID:15988-1759309200-1759314600@oefr.at
SUMMARY:249. ÖFR-Ahnenforschungs-Café über Zoom
DESCRIPTION:Zum 39. Mal in diesem Jahr: Diskutieren über Familienforschung\, Neues erfahren\, Fragen klären\, Lesehilfe erhalten\, wieder Bekannte treffen\, und noch viel mehr. \nMittwoch\, 1. Oktober 2025\, 09.00 bis 10.30 Uhr\, Einlass ab 08.55 Uhr \nWir freuen uns Euch zu treffen\, Teilnahme ist natürlich kostenlos und an keinerlei Mitgliedschaft gebunden. \nHier die Zugangsdaten: \nhttps://us02web.zoom.us/j/81302020900?pw…zZ0U082THcxQT09 \nMeeting-ID: 813 0202 0900 \nKenncode: 343002 \nteilen teilen teilen 
URL:https://oefr.at/event/249-oefr-ahnenforschungs-cafe-ueber-zoom/
LOCATION:Zoom
CATEGORIES:Workshop
ATTACH;FMTTYPE=image/jpeg:https://oefr.at/wp-content/uploads/woman-1851464_1280.jpg
END:VEVENT
BEGIN:VEVENT
DTSTART;TZID=Europe/Helsinki:20251008T090000
DTEND;TZID=Europe/Helsinki:20251008T103000
DTSTAMP:20260420T090539
CREATED:20250922T085505Z
LAST-MODIFIED:20250922T085505Z
UID:15990-1759914000-1759919400@oefr.at
SUMMARY:250. ÖFR-Ahnenforschungs-Café über Zoom
DESCRIPTION:Zum 40. Mal in diesem Jahr: Diskutieren über Familienforschung\, Neues erfahren\, Fragen klären\, Lesehilfe erhalten\, wieder Bekannte treffen\, und noch viel mehr. \nMittwoch\, 8. Oktober 2025\, 09.00 bis 10.30 Uhr\, Einlass ab 08.55 Uhr \nWir freuen uns Euch zu treffen\, Teilnahme ist natürlich kostenlos und an keinerlei Mitgliedschaft gebunden. \nHier die Zugangsdaten: \nhttps://us02web.zoom.us/j/81302020900?pw…zZ0U082THcxQT09 \nMeeting-ID: 813 0202 0900 \nKenncode: 343002 \nteilen teilen teilen 
URL:https://oefr.at/event/250-oefr-ahnenforschungs-cafe-ueber-zoom/
LOCATION:Zoom
CATEGORIES:Workshop
ATTACH;FMTTYPE=image/jpeg:https://oefr.at/wp-content/uploads/hand-g4d4829b7d_1920.jpg
END:VEVENT
BEGIN:VEVENT
DTSTART;TZID=Europe/Helsinki:20251015T090000
DTEND;TZID=Europe/Helsinki:20251015T103000
DTSTAMP:20260420T090539
CREATED:20250922T085711Z
LAST-MODIFIED:20250922T085711Z
UID:15992-1760518800-1760524200@oefr.at
SUMMARY:251. ÖFR-Ahnenforschungs-Café über Zoom
DESCRIPTION:Zum 41. Mal in diesem Jahr: Diskutieren über Familienforschung\, Neues erfahren\, Fragen klären\, Lesehilfe erhalten\, wieder Bekannte treffen\, und noch viel mehr. \nMittwoch\, 15. Oktober 2025\, 09.00 bis 10.30 Uhr\, Einlass ab 08.55 Uhr \nWir freuen uns Euch zu treffen\, Teilnahme ist natürlich kostenlos und an keinerlei Mitgliedschaft gebunden. \nHier die Zugangsdaten: \nhttps://us02web.zoom.us/j/81302020900?pw…zZ0U082THcxQT09 \nMeeting-ID: 813 0202 0900 \nKenncode: 343002 \nteilen teilen teilen 
URL:https://oefr.at/event/251-oefr-ahnenforschungs-cafe-ueber-zoom/
LOCATION:Zoom
CATEGORIES:Workshop
ATTACH;FMTTYPE=image/jpeg:https://oefr.at/wp-content/uploads/startup-gf165d9f1b_1280.jpg
END:VEVENT
BEGIN:VEVENT
DTSTART;TZID=Europe/Helsinki:20251015T190000
DTEND;TZID=Europe/Helsinki:20251015T210000
DTSTAMP:20260420T090539
CREATED:20251004T184704Z
LAST-MODIFIED:20251004T184704Z
UID:16016-1760554800-1760562000@oefr.at
SUMMARY:Historische Maße\, Gewichte und Währungen (221. Online-Genealogiestammtisch der ÖFR)
DESCRIPTION:Immer wieder finden wir in Kaufverträgen\, Verlassenschaftsabhandlungen und anderen Archivalien Maß-\, Gewichts- oder Währungseinheiten. Wie haben sie sich entwickelt? Wie können sie umgerechnet werden. Dies und einiges mehr bei diesem Genealogiestammtisch der ÖFR mit Dipl.-Ing. Leopold Strenn. \nMittwoch\, 15. Oktober 2025\, 19.00 – 21.00 Uhr \nNach der Diskussion zum Thema allgemeine Diskussion zu Themen Ihrer Wahl\, Lese- und Forschungshilfe\, Berichte und Neuigkeiten. \nHier kommen Sie zur Anmeldung: \nRegistrieren Sie sich bitte hier ehestmöglich\, die Teilnehmerzahl ist beschränkt: \nhttps://us02web.zoom.us/meeting/register/ldLmQf-dT8-HmnhpjZi4GA \nNach der Registrierung erhalten Sie ein Bestätigungs-E-Mail mit dem Zugangslink. Wir ersuchen Sie um pünktliches Erscheinen\, ab 19.00 Uhr kann es zu Wartezeiten kommen. \nAlle Informationen zu unseren Veranstaltungen finden Sie auf unserer Website unter: https://oefr.at/events/ \nDiese Veranstaltung ist allgemein zugänglich und an keine Mitgliedschaft gebunden. Wir freuen uns über Ihre Teilnahme. \n  \n  \nteilen teilen teilen 
URL:https://oefr.at/event/historische-masse-gewichte-und-waehrungen-221-online-genealogiestammtisch-der-oefr/
LOCATION:Zoom
CATEGORIES:Genealogenstammtisch,Vortrag,Workshop
ATTACH;FMTTYPE=image/jpeg:https://oefr.at/wp-content/uploads/Systeme-Metrique.jpg
END:VEVENT
BEGIN:VEVENT
DTSTART;TZID=Europe/Helsinki:20251022T090000
DTEND;TZID=Europe/Helsinki:20251022T103000
DTSTAMP:20260420T090539
CREATED:20250922T085944Z
LAST-MODIFIED:20250922T085945Z
UID:15994-1761123600-1761129000@oefr.at
SUMMARY:252. ÖFR-Ahnenforschungs-Café über Zoom
DESCRIPTION:Zum 42. Mal in diesem Jahr: Diskutieren über Familienforschung\, Neues erfahren\, Fragen klären\, Lesehilfe erhalten\, wieder Bekannte treffen\, und noch viel mehr. \nMittwoch\, 22. Oktober 2025\, 09.00 bis 10.30 Uhr\, Einlass ab 08.55 Uhr \nWir freuen uns Euch zu treffen\, Teilnahme ist natürlich kostenlos und an keinerlei Mitgliedschaft gebunden. \nHier die Zugangsdaten: \nhttps://us02web.zoom.us/j/81302020900?pw…zZ0U082THcxQT09 \nMeeting-ID: 813 0202 0900 \nKenncode: 343002 \nteilen teilen teilen 
URL:https://oefr.at/event/252-oefr-ahnenforschungs-cafe-ueber-zoom/
LOCATION:Zoom
CATEGORIES:Workshop
ATTACH;FMTTYPE=image/jpeg:https://oefr.at/wp-content/uploads/business-g7d021c8eb_1280.jpg
END:VEVENT
BEGIN:VEVENT
DTSTART;TZID=Europe/Helsinki:20251029T090000
DTEND;TZID=Europe/Helsinki:20251029T103000
DTSTAMP:20260420T090539
CREATED:20250922T090216Z
LAST-MODIFIED:20250922T090216Z
UID:15996-1761728400-1761733800@oefr.at
SUMMARY:253. ÖFR-Ahnenforschungs-Café über Zoom
DESCRIPTION:Zum 43. Mal in diesem Jahr: Diskutieren über Familienforschung\, Neues erfahren\, Fragen klären\, Lesehilfe erhalten\, wieder Bekannte treffen\, und noch viel mehr. \nMittwoch\, 29. Oktober 2025\, 09.00 bis 10.30 Uhr\, Einlass ab 08.55 Uhr \nWir freuen uns Euch zu treffen\, Teilnahme ist natürlich kostenlos und an keinerlei Mitgliedschaft gebunden. \nHier die Zugangsdaten: \nhttps://us02web.zoom.us/j/81302020900?pw…zZ0U082THcxQT09 \nMeeting-ID: 813 0202 0900 \nKenncode: 343002 \nteilen teilen teilen 
URL:https://oefr.at/event/253-oefr-ahnenforschungs-cafe-ueber-zoom/
LOCATION:Zoom
CATEGORIES:Workshop
ATTACH;FMTTYPE=image/jpeg:https://oefr.at/wp-content/uploads/Hawelka_II.jpg
END:VEVENT
END:VCALENDAR