BEGIN:VCALENDAR
VERSION:2.0
PRODID:-//ÖFR-Österreichische Gesellschaft für Familien- und regionalgeschichtliche Forschung - ECPv6.15.20//NONSGML v1.0//EN
CALSCALE:GREGORIAN
METHOD:PUBLISH
X-WR-CALNAME:ÖFR-Österreichische Gesellschaft für Familien- und regionalgeschichtliche Forschung
X-ORIGINAL-URL:https://oefr.at
X-WR-CALDESC:Veranstaltungen für ÖFR-Österreichische Gesellschaft für Familien- und regionalgeschichtliche Forschung
REFRESH-INTERVAL;VALUE=DURATION:PT1H
X-Robots-Tag:noindex
X-PUBLISHED-TTL:PT1H
BEGIN:VTIMEZONE
TZID:Europe/Vienna
BEGIN:DAYLIGHT
TZOFFSETFROM:+0100
TZOFFSETTO:+0200
TZNAME:CEST
DTSTART:20250330T010000
END:DAYLIGHT
BEGIN:STANDARD
TZOFFSETFROM:+0200
TZOFFSETTO:+0100
TZNAME:CET
DTSTART:20251026T010000
END:STANDARD
BEGIN:DAYLIGHT
TZOFFSETFROM:+0100
TZOFFSETTO:+0200
TZNAME:CEST
DTSTART:20260329T010000
END:DAYLIGHT
BEGIN:STANDARD
TZOFFSETFROM:+0200
TZOFFSETTO:+0100
TZNAME:CET
DTSTART:20261025T010000
END:STANDARD
BEGIN:DAYLIGHT
TZOFFSETFROM:+0100
TZOFFSETTO:+0200
TZNAME:CEST
DTSTART:20270328T010000
END:DAYLIGHT
BEGIN:STANDARD
TZOFFSETFROM:+0200
TZOFFSETTO:+0100
TZNAME:CET
DTSTART:20271031T010000
END:STANDARD
END:VTIMEZONE
BEGIN:VTIMEZONE
TZID:Europe/Helsinki
BEGIN:DAYLIGHT
TZOFFSETFROM:+0200
TZOFFSETTO:+0300
TZNAME:EEST
DTSTART:20250330T010000
END:DAYLIGHT
BEGIN:STANDARD
TZOFFSETFROM:+0300
TZOFFSETTO:+0200
TZNAME:EET
DTSTART:20251026T010000
END:STANDARD
BEGIN:DAYLIGHT
TZOFFSETFROM:+0200
TZOFFSETTO:+0300
TZNAME:EEST
DTSTART:20260329T010000
END:DAYLIGHT
BEGIN:STANDARD
TZOFFSETFROM:+0300
TZOFFSETTO:+0200
TZNAME:EET
DTSTART:20261025T010000
END:STANDARD
BEGIN:DAYLIGHT
TZOFFSETFROM:+0200
TZOFFSETTO:+0300
TZNAME:EEST
DTSTART:20270328T010000
END:DAYLIGHT
BEGIN:STANDARD
TZOFFSETFROM:+0300
TZOFFSETTO:+0200
TZNAME:EET
DTSTART:20271031T010000
END:STANDARD
END:VTIMEZONE
BEGIN:VEVENT
DTSTART;TZID=Europe/Vienna:20260421T180000
DTEND;TZID=Europe/Vienna:20260421T203000
DTSTAMP:20260420T004056
CREATED:20260323T155452Z
LAST-MODIFIED:20260323T155452Z
UID:16652-1776794400-1776803400@oefr.at
SUMMARY:79. ÖFR-Genealogenstammtisch in WIEN
DESCRIPTION:Wieder eine Gelegenheit einander persönlich in Wien zu treffen. Vieles ist berichtenswert\, spannende neue Forschungsmöglichkeiten ergaben sich in der letzten Zeit. Von Ihrer Seite gibt es sicher auch einige Neuigkeiten und offene Fragen\, die einer Lösung bedürfen. \nDienstag\, 21.April 2026\, 18.00 Uhr \nim LAUDON 16 (ehemals Reingrubers Kantin) \n1080 Wien\, Laudongasse 16 (Eingang Ecke Lange Gasse) \nhttps://www.laudon16.at/ – https://www.facebook.com/profile.php?id=61582717921824 –https://www.instagram.com/das.laudon16/ \nDiesmal beginnen wir wieder um 18.00 Uhr.  Sollten Sie um diese Zeit noch nicht kommen können\, wir freuen uns auch\, wenn wir einander später sehen. \nUm für ausreichend Platz zu sorgen\, sind wir dankbar\, wenn Sie uns Ihr Kommen ankündigen. Wir ersuchen deshalb um Anmeldung mit dem Betreff “Wien 79” an members@oefr.at \nBringen Sie auch interessierte Bekannte mit. Die Teilnahme ist selbstverständlich kostenlos und an keine Mitgliedschaft bei ÖFR gebunden. \nSie finden alle Termine hier https://oefr.at/events/ \nWir freuen uns Sie wieder zu sehen. \n  \n  \nteilen teilen teilen 
URL:https://oefr.at/event/79-oefr-genealogenstammtisch-in-wien/
LOCATION:Laudon 16\, Laudongasse 16 (Eingang Ecke Lange Gasse)\, Wien\, Wien\, 1080\, Austria
CATEGORIES:Genealogenstammtisch
ATTACH;FMTTYPE=image/jpeg:https://oefr.at/wp-content/uploads/2-Tato-Humi-Otti-Karl-Siegl_2.jpg
END:VEVENT
BEGIN:VEVENT
DTSTART;TZID=Europe/Vienna:20260422T090000
DTEND;TZID=Europe/Vienna:20260422T103000
DTSTAMP:20260420T004056
CREATED:20260321T113919Z
LAST-MODIFIED:20260321T113919Z
UID:16644-1776848400-1776853800@oefr.at
SUMMARY:277. ÖFR-Ahnenforschungs-Café über Zoom
DESCRIPTION:Zum 16. Mal in diesem Jahr: Diskutieren über Familienforschung\, Neues erfahren\, Fragen klären\, Lesehilfe erhalten\, wieder Bekannte treffen\, und noch viel mehr. \nMittwoch\, 22. April 2026\, 09.00 bis 10.30 Uhr\, Einlass ab 08.55 Uhr \nWir freuen uns Euch zu treffen\, Teilnahme ist natürlich kostenlos und an keinerlei Mitgliedschaft gebunden. \nHier die Zugangsdaten: \nhttps://us02web.zoom.us/j/81302020900?pwd=UEtYaHNpbkJVTHp1LzZ0U082THcxQT09 \nMeeting-ID: 813 0202 0900 \nKenncode: 343002 \nteilen teilen teilen 
URL:https://oefr.at/event/277-oefr-ahnenforschungs-cafe-ueber-zoom/
LOCATION:Zoom
ATTACH;FMTTYPE=image/jpeg:https://oefr.at/wp-content/uploads/brigitte-tohm-yRH0JI2S2KA-unsplash-scaled-e1735316901704.jpg
END:VEVENT
BEGIN:VEVENT
DTSTART;TZID=Europe/Vienna:20260422T190000
DTEND;TZID=Europe/Vienna:20260422T210000
DTSTAMP:20260420T004056
CREATED:20260326T161948Z
LAST-MODIFIED:20260326T162350Z
UID:16673-1776884400-1776891600@oefr.at
SUMMARY:Soldatensuche im Deutschen Reich - 246. ÖFR-Online-Genealogiestammtisch
DESCRIPTION:Angehörige waren Soldaten im 2. Weltkrieg\, aber wir wissen wenig über sie und deren Schicksal. Wo diese Personen im Krieg eingesetzt waren\, konnten oder wollten auch Familienangehörige und Verwandte nicht erzählen. Heute sind nahezu alle Wissensträger verstorben. Dokumente dazu gibt es ohnehin fast keine im Privatbesitz\, vielleicht noch ein paar alte Bilder. \nSoldatensuche im Deutschen Reich – 246. ÖFR-Online-Genealogiestammtisch \n(MR Mag. Markus Pasterk) \nMittwoch\, 22. April 2026\, 19.00 Uhr \nIm Anschluss wird es auch Zeit für Diskussionen\, Fragen Ihrerseits und Erfahrungsaustausch geben. \nWieder eine Gelegenheit Neues zu erfahren\, Erfahrungen auszutauschen\, Bekannte\, Forscherkolleginnen und -kollegen zu treffen. \nHier kommen Sie zur Anmeldung:\nhttps://us02web.zoom.us/meeting/register/xi9YdlLfQmCwtXvsx993GA \nNach der Registrierung erhalten Sie ein Bestätigungs-E-Mail mit dem Zugangslink. \nEinlass ab 18.50 Uhr. Bitte kommen Sie zeitgerecht\, ab 19.00 Uhr kann es zu Wartezeiten kommen. \nMit der Teilnahme an unseren Veranstaltungen stimmen Sie der Veröffentlichung von Fotos\, Video- und Audioaufzeichnungen\, die im Rahmen der Veranstaltungen entstehen\, zu. \nAlle Informationen zu unseren Veranstaltungen finden Sie auf unserer Website unter: https://oefr.at/events/ \nDie Teilnahme ist kostenlos und an keinerlei Mitgliedschaft gebunden. \nWir freuen uns Sie online zu treffen! \n  \nteilen teilen teilen 
URL:https://oefr.at/event/soldatensuche-im-deutschen-reich-246-oefr-online-genealogiestammtisch/
LOCATION:Zoom
CATEGORIES:Genealogenstammtisch,Vortrag
ATTACH;FMTTYPE=image/jpeg:https://oefr.at/wp-content/uploads/Strenn-Josef.jpg
END:VEVENT
BEGIN:VEVENT
DTSTART;TZID=Europe/Vienna:20260423T183000
DTEND;TZID=Europe/Vienna:20260423T203000
DTSTAMP:20260420T004056
CREATED:20260321T170023Z
LAST-MODIFIED:20260411T075546Z
UID:16650-1776969000-1776976200@oefr.at
SUMMARY:54. ÖFR-Genealogenstammtisch im Bezirk Mistelbach
DESCRIPTION:Diesmal geht es um  Verwandtschaftsverhältnisse\, aktuelle Entwicklungen\, Neuigkeiten und viel Interessantes – mit HR Dipl.-Ing. Leopold Strenn (wegen Verhinderung des Vortragenden MR Mag. Markus Pasterk geändert am 11.4.2026) \n23.4.2026 um 18:30 Uhr in Gaweinstal\, \nGasthof zum Schwarzen Adler\, Hauptplatz 29\, 2191 Gaweinstal \nhttp://www.klapka.at/ \nIm Anschluss ausreichend Zeit für Diskussionen\, gegenseitige Hilfe\, Erfahrungsaustausch und gemütliches Beisammensein. \nUm für ausreichend Platz zu sorgen\, sind wir dankbar\, wenn Sie uns Ihr Kommen ankündigen. Wir ersuchen deshalb um Anmeldung mit dem Betreff “Mistelbach 54” an mailto:members@oefr.at \nWir freuen uns einander wieder zu sehen. \nBild: C.Stadler/Bwag\, Gaweinstal – Kirchenplatz (2)\, CC BY-SA 4.0 \nteilen teilen teilen 
URL:https://oefr.at/event/54-oefr-genealogenstammtisch-im-bezirk-mistelbach/
LOCATION:Gasthof zum Schwarzen Adler\, Hauptplatz 29\, Gaweinstal\, Niederösterreich\, 2191\, Austria
CATEGORIES:Genealogenstammtisch
ATTACH;FMTTYPE=image/jpeg:https://oefr.at/wp-content/uploads/Gaweinstal_-_Kirchenplatz_2.jpg
END:VEVENT
BEGIN:VEVENT
DTSTART;TZID=Europe/Vienna:20260429T090000
DTEND;TZID=Europe/Vienna:20260429T103000
DTSTAMP:20260420T004056
CREATED:20260321T114245Z
LAST-MODIFIED:20260321T114245Z
UID:16648-1777453200-1777458600@oefr.at
SUMMARY:278. ÖFR-Ahnenforschungs-Café über Zoom
DESCRIPTION:Zum 17. Mal in diesem Jahr: Diskutieren über Familienforschung\, Neues erfahren\, Fragen klären\, Lesehilfe erhalten\, wieder Bekannte treffen\, und noch viel mehr. \nMittwoch\, 29. April 2026\, 09.00 bis 10.30 Uhr\, Einlass ab 08.55 Uhr \nWir freuen uns Euch zu treffen\, Teilnahme ist natürlich kostenlos und an keinerlei Mitgliedschaft gebunden. \nHier die Zugangsdaten: \nhttps://us02web.zoom.us/j/81302020900?pwd=UEtYaHNpbkJVTHp1LzZ0U082THcxQT09 \nMeeting-ID: 813 0202 0900 \nKenncode: 343002 \nteilen teilen teilen 
URL:https://oefr.at/event/278-oefr-ahnenforschungs-cafe-ueber-zoom/
LOCATION:Zoom
CATEGORIES:Workshop
ATTACH;FMTTYPE=image/jpeg:https://oefr.at/wp-content/uploads/brigitte-tohm-yRH0JI2S2KA-unsplash-scaled-e1735316901704.jpg
END:VEVENT
BEGIN:VEVENT
DTSTART;TZID=Europe/Vienna:20260429T190000
DTEND;TZID=Europe/Vienna:20260429T210000
DTSTAMP:20260420T004056
CREATED:20260326T170628Z
LAST-MODIFIED:20260326T170628Z
UID:16677-1777489200-1777496400@oefr.at
SUMMARY:Ehehindernisse und Dispens im 19. Jahrhundert - 247. ÖFR-Online-Genealogiestammtisch
DESCRIPTION:„Wem immer in Rücksicht der vorbenannten Brautleute ein gesetzliches Hindernis bekannt ist\, der wird in dem Herrn ermahnt\, solches bei der Pfarre gewissenhaft anzugeben\, als zu welchem Ende diese öffentlichen Kundgebungen eingeführt sind.” (Wiener Erzdiöcese\, Cons. Vdg. vom 31. October 1789) \nEhehindernisse und Dispens im 19. Jahrhundert – 247. ÖFR-Online-Genealogiestammtisch \n(Dipl.-Ing. Leopold Strenn) \nMittwoch\, 29. April 2026\, 19.00 Uhr \nIm Anschluss wird es auch Zeit für Diskussionen\, Fragen Ihrerseits und Erfahrungsaustausch geben. \nWieder eine Gelegenheit Neues zu erfahren\, Erfahrungen auszutauschen\, Bekannte\, Forscherkolleginnen und -kollegen zu treffen. \nHier kommen Sie zur Anmeldung:\nhttps://us02web.zoom.us/meeting/register/ceqDFm7XTL657Gb7CinWBw \nNach der Registrierung erhalten Sie ein Bestätigungs-E-Mail mit dem Zugangslink. \nEinlass ab 18.50 Uhr. Bitte kommen Sie zeitgerecht\, ab 19.00 Uhr kann es zu Wartezeiten kommen. \nMit der Teilnahme an unseren Veranstaltungen stimmen Sie der Veröffentlichung von Fotos\, Video- und Audioaufzeichnungen\, die im Rahmen der Veranstaltungen entstehen\, zu. \nAlle Informationen zu unseren Veranstaltungen finden Sie auf unserer Website unter: https://oefr.at/events/ \nDie Teilnahme ist kostenlos und an keinerlei Mitgliedschaft gebunden. \nWir freuen uns Sie online zu treffen! \nteilen teilen teilen 
URL:https://oefr.at/event/ehehindernisse-und-dispens-im-19-jahrhundert-247-oefr-online-genealogiestammtisch/
LOCATION:Zoom
CATEGORIES:Genealogenstammtisch,Vortrag
ATTACH;FMTTYPE=image/jpeg:https://oefr.at/wp-content/uploads/Strenn-Leopold-Plach-Theresia-Hochzeitsfoto_1000Px-1.jpg
END:VEVENT
BEGIN:VEVENT
DTSTART;TZID=Europe/Vienna:20260506T190000
DTEND;TZID=Europe/Vienna:20260506T210000
DTSTAMP:20260420T004056
CREATED:20260326T173051Z
LAST-MODIFIED:20260326T173051Z
UID:16681-1778094000-1778101200@oefr.at
SUMMARY:Quellen für Familienforscher*innen im Stiftsarchiv Lilienfeld - 248. ÖFR-Online-Genealogiestammtisch
DESCRIPTION:Quellen für Familienforscher*innen im Stiftsarchiv Lilienfeld – 248. ÖFR-Online-Genealogiestammtisch \n(Dr. Irene König) \nMittwoch\, 6. Mai 2026\, 19.00 Uhr \nIm Anschluss wird es auch Zeit für Diskussionen\, Fragen Ihrerseits und Erfahrungsaustausch geben. \nWieder eine Gelegenheit Neues zu erfahren\, Erfahrungen auszutauschen\, Bekannte\, Forscherkolleginnen und -kollegen zu treffen. \nHier kommen Sie zur Anmeldung:\nhttps://us02web.zoom.us/meeting/register/YouMfp2eQ3a3tNyxFG4U5Q \nNach der Registrierung erhalten Sie ein Bestätigungs-E-Mail mit dem Zugangslink. \nEinlass ab 18.50 Uhr. Bitte kommen Sie zeitgerecht\, ab 19.00 Uhr kann es zu Wartezeiten kommen. \nMit der Teilnahme an unseren Veranstaltungen stimmen Sie der Veröffentlichung von Fotos\, Video- und Audioaufzeichnungen\, die im Rahmen der Veranstaltungen entstehen\, zu. \nAlle Informationen zu unseren Veranstaltungen finden Sie auf unserer Website unter: https://oefr.at/events/ \nDie Teilnahme ist kostenlos und an keinerlei Mitgliedschaft gebunden. \nWir freuen uns Sie online zu treffen! \nBild:\nSeite aus dem ältesten Urbar des Stiftsarchivs von 1536 \nteilen teilen teilen 
URL:https://oefr.at/event/quellen-fuer-familienforscherinnen-im-stiftsarchiv-lilienfeld-248-oefr-online-genealogiestammtisch/
LOCATION:Zoom
CATEGORIES:Genealogenstammtisch,Vortrag
ATTACH;FMTTYPE=image/jpeg:https://oefr.at/wp-content/uploads/Urbar-1536-2_1000.jpg
END:VEVENT
BEGIN:VEVENT
DTSTART;TZID=Europe/Helsinki:20260513T190000
DTEND;TZID=Europe/Helsinki:20260513T210000
DTSTAMP:20260420T004056
CREATED:20260416T172435Z
LAST-MODIFIED:20260416T172435Z
UID:16796-1778698800-1778706000@oefr.at
SUMMARY:Stammbaumverwaltung mit FamilySearch (249. ÖFR-Online-Genealogiestammtisch)
DESCRIPTION:Stammbaumverwaltung mit FamilySearch \n(249. ÖFR-Online-Genealogiestammtisch) \nmit MinR. Mag. Markus Pasterk \nMittwoch\, 13.5.2026\, 19.00 Uhr online über Zoom \n  \nNach dem Vortrag Diskussion zum Vortrag und zu weiteren Fragen von Ihrer Seite. \nHier kommen Sie zur Anmeldung:\nRegistrieren Sie sich bitte hier ehestmöglich\, die Teilnehmerzahl ist beschränkt: \nhttps://us02web.zoom.us/meeting/register/tYnqGBiETq2FtV9-3l_t9Q \nNach der Registrierung erhalten Sie ein Bestätigungs-E-Mail mit dem Zugangslink. Wir ersuchen Sie um pünktliches Erscheinen\, ab 19.00 Uhr kann es zu Wartezeiten kommen. \nMit der Teilnahme an unseren Veranstaltungen stimmen Sie der Veröffentlichung von Fotos\, Video- und Audioaufzeichnungen\, die im Rahmen der Veranstaltungen entstehen\, zu. \nAlle Informationen zu unseren Veranstaltungen finden Sie auf unserer Website unter: https://oefr.at/events/ \nDiese Veranstaltung ist allgemein zugänglich und an keine Mitgliedschaft bei ÖFR gebunden. Wir freuen uns über Ihre Teilnahme. \n  \n  \nteilen teilen teilen 
URL:https://oefr.at/event/stammbaumverwaltung-mit-familysearch-249-oefr-online-genealogiestammtisch/
LOCATION:Zoom
CATEGORIES:Genealogenstammtisch,Vortrag
ATTACH;FMTTYPE=image/jpeg:https://oefr.at/wp-content/uploads/FS_Webseite_Screenshot-2026-04-16-191240.jpg
END:VEVENT
BEGIN:VEVENT
DTSTART;TZID=Europe/Vienna:20260520T190000
DTEND;TZID=Europe/Vienna:20260520T210000
DTSTAMP:20260420T004056
CREATED:20260326T181045Z
LAST-MODIFIED:20260326T181045Z
UID:16685-1779303600-1779310800@oefr.at
SUMMARY:Vorstoß in unbekanntes Terrain -  Auf der Suche nach den Spuren der mütterlichen Vorfahren
DESCRIPTION:Von wenig überliefertem Familienwissen und einigen erhalten gebliebenen Gegenständen ausgehend\, schildert David Gulda den Forschungsweg zu seinen ältesten auffindbaren Verwandten zu Beginn des 19. Jahrhunderts\, ein Weg der ihn zu zahlreichen Archiven von Prag über Wien nach Zagreb und von Oradea über Triest und Bologna bis nach Buenos Aires geführt hat\, um schließlich in das Buch „LOEW – Lebenswege einer jüdischen Familie“ zu münden (ISBN: 978-3-205-22322-1). \nDavid Gulda\, geboren 1956 in Wien\, älterer Sohn des Pianisten Friedrich Gulda und der Schauspielerin Paola Loew ist promovierter Jurist (1982\, Universität Wien) besitzt einen Abschluss in Philosophie (MA\, 2019\, Universität Graz) und war\, bevor er erst noch einmal  Student und dann Autor wurde\, viele Jahre im In- und Ausland in der Wirtschaft tätig. \n  \nVorstoß in unbekanntes Terrain –  \nAuf der Suche nach den Spuren der mütterlichen Vorfahren  \n(250. ÖFR- Online-Genealogiestammtisch) \n(Dr. David Gulda\, MA) \nMittwoch\, 20. Mai 2026\, 19.00 Uhr \nIm Anschluss wird es auch Zeit für Diskussionen\, Fragen Ihrerseits und Erfahrungsaustausch geben. \nWieder eine Gelegenheit Neues zu erfahren\, Erfahrungen auszutauschen\, Bekannte\, Forscherkolleginnen und -kollegen zu treffen. \nHier kommen Sie zur Anmeldung:\nhttps://us02web.zoom.us/meeting/register/jWGOBPdtSMu8moKRxhfGeQ \nNach der Registrierung erhalten Sie ein Bestätigungs-E-Mail mit dem Zugangslink. \nEinlass ab 18.50 Uhr. Bitte kommen Sie zeitgerecht\, ab 19.00 Uhr kann es zu Wartezeiten kommen. \nMit der Teilnahme an unseren Veranstaltungen stimmen Sie der Veröffentlichung von Fotos\, Video- und Audioaufzeichnungen\, die im Rahmen der Veranstaltungen entstehen\, zu. \nAlle Informationen zu unseren Veranstaltungen finden Sie auf unserer Website unter: https://oefr.at/events/ \nDie Teilnahme ist kostenlos und an keinerlei Mitgliedschaft gebunden. \nWir freuen uns Sie online zu treffen! \nP.S.: Vorankündigung:\nZusammen mit seinem Bruder Paul\, dem bekannten Pianisten\, gestaltet David Gulda am 28. Mai 2026 im ORF Radiokulturhaus einen Präsentationsabend zum Buch\, bei dem Autorenlesung\, erzählte Geschichte und thematisch ausgewählte Musik zu einem beschwingt-vergnüglichen Geschichtspanorama zusammenfließen. Karten dazu sind hier erhältlich: https://radiokulturhaus.orf.at/artikel/727177/Loew-Lebenswege-einer-juedischen-Familie \n  \n  \n  \n  \nteilen teilen teilen 
URL:https://oefr.at/event/vorstoss-in-unbekanntes-terrain-auf-der-suche-nach-den-spuren-der-muetterlichen-vorfahren/
LOCATION:Zoom
CATEGORIES:Genealogenstammtisch,Vortrag
ATTACH;FMTTYPE=image/jpeg:https://oefr.at/wp-content/uploads/978-3-205-22322-1_low.jpg
END:VEVENT
BEGIN:VEVENT
DTSTART;TZID=Europe/Helsinki:20260527T190000
DTEND;TZID=Europe/Helsinki:20260527T210000
DTSTAMP:20260420T004056
CREATED:20260416T170221Z
LAST-MODIFIED:20260416T170221Z
UID:16793-1779908400-1779915600@oefr.at
SUMMARY:Ahnenforschung in Polen: Quellen\, Methoden und praktische Einblicke (251. ÖFR-Online-Genealogiestammtisch)
DESCRIPTION:Ahnenforschung in Polen: Quellen\, Methoden und praktische Einblicke \n(251. ÖFR-Online-Genealogiestammtisch) \nmit Bartlomiej Ondera \nMittwoch\, 27.5.2026\, 19.00 Uhr online über Zoom \nDer Vortrag bietet einen Überblick über die Ahnenforschung in Polen und stellt zentrale Quellen und Archive vor. Dabei werden anhand von Beispielen archivspezifische Probleme und juristische Richtlinien für die Forschung innerhalb Polens betrachtet. \nBiographie:\nBartlomiej Ondera wurde 1994 im oberschlesischen Ratibor geboren und übersiedelte 1997 mit seiner Familie in die Bundesrepublik Deutschland. Nach dem Abitur folgte ein Studium der Geschichtswissenschaften und Philosophie an der Heinrich-Heine-Universität Düsseldorf. Nach einigen beruflichen Stationen unter dem § 96 – Bundesvertriebenengesetz (BVFG)\, ist er seit 2022 als Erbenermittler mit Schwerpunkt Polen bei Global Erbenermittlung BMC GmbH & Co. KG in Hamburg tätig. \nNach dem Vortrag Diskussion zum Vortrag und zu weiteren Fragen von Ihrer Seite. \nHier kommen Sie zur Anmeldung:\nRegistrieren Sie sich bitte hier ehestmöglich\, die Teilnehmerzahl ist beschränkt: \nhttps://us02web.zoom.us/meeting/register/AzCoTIDWRZioDPWjMur5OA \nNach der Registrierung erhalten Sie ein Bestätigungs-E-Mail mit dem Zugangslink. Wir ersuchen Sie um pünktliches Erscheinen\, ab 19.00 Uhr kann es zu Wartezeiten kommen. \nMit der Teilnahme an unseren Veranstaltungen stimmen Sie der Veröffentlichung von Fotos\, Video- und Audioaufzeichnungen\, die im Rahmen der Veranstaltungen entstehen\, zu. \nAlle Informationen zu unseren Veranstaltungen finden Sie auf unserer Website unter: https://oefr.at/events/ \nDiese Veranstaltung ist allgemein zugänglich und an keine Mitgliedschaft bei ÖFR gebunden. Wir freuen uns über Ihre Teilnahme. \nBild:\nVon Zygmunt Kamiński / Andrzej Heidrich – From Polish Wikipedia. Originally uploaded at Grafika:Godło Polski.svg\, Gemeinfrei\, https://commons.wikimedia.org/w/index.php?curid=543809 \nteilen teilen teilen 
URL:https://oefr.at/event/ahnenforschung-in-polen-quellen-methoden-und-praktische-einblicke-251-oefr-online-genealogiestammtisch/
LOCATION:Zoom
CATEGORIES:Vortrag
ATTACH;FMTTYPE=image/png:https://oefr.at/wp-content/uploads/960px-Herb_Polski.svg_.png
END:VEVENT
BEGIN:VEVENT
DTSTART;VALUE=DATE:20260925
DTEND;VALUE=DATE:20260928
DTSTAMP:20260420T004056
CREATED:20250929T104910Z
LAST-MODIFIED:20250929T104910Z
UID:16007-1790294400-1790553599@oefr.at
SUMMARY:76. Deutscher Genealogentag in Göttingen
DESCRIPTION:Näheres später \nteilen teilen teilen 
URL:https://oefr.at/event/76-deutscher-genealogentag-in-goettingen/
CATEGORIES:Tagung
ATTACH;FMTTYPE=image/png:https://oefr.at/wp-content/uploads/DAGV_Logo_NEU.png
END:VEVENT
END:VCALENDAR