BEGIN:VCALENDAR
VERSION:2.0
PRODID:-//ÖFR-Österreichische Gesellschaft für Familien- und regionalgeschichtliche Forschung - ECPv6.15.20//NONSGML v1.0//EN
CALSCALE:GREGORIAN
METHOD:PUBLISH
X-ORIGINAL-URL:https://oefr.at
X-WR-CALDESC:Veranstaltungen für ÖFR-Österreichische Gesellschaft für Familien- und regionalgeschichtliche Forschung
REFRESH-INTERVAL;VALUE=DURATION:PT1H
X-Robots-Tag:noindex
X-PUBLISHED-TTL:PT1H
BEGIN:VTIMEZONE
TZID:Europe/Vienna
BEGIN:DAYLIGHT
TZOFFSETFROM:+0100
TZOFFSETTO:+0200
TZNAME:CEST
DTSTART:20250330T010000
END:DAYLIGHT
BEGIN:STANDARD
TZOFFSETFROM:+0200
TZOFFSETTO:+0100
TZNAME:CET
DTSTART:20251026T010000
END:STANDARD
BEGIN:DAYLIGHT
TZOFFSETFROM:+0100
TZOFFSETTO:+0200
TZNAME:CEST
DTSTART:20260329T010000
END:DAYLIGHT
BEGIN:STANDARD
TZOFFSETFROM:+0200
TZOFFSETTO:+0100
TZNAME:CET
DTSTART:20261025T010000
END:STANDARD
BEGIN:DAYLIGHT
TZOFFSETFROM:+0100
TZOFFSETTO:+0200
TZNAME:CEST
DTSTART:20270328T010000
END:DAYLIGHT
BEGIN:STANDARD
TZOFFSETFROM:+0200
TZOFFSETTO:+0100
TZNAME:CET
DTSTART:20271031T010000
END:STANDARD
END:VTIMEZONE
BEGIN:VEVENT
DTSTART;TZID=Europe/Vienna:20260325T090000
DTEND;TZID=Europe/Vienna:20260325T103000
DTSTAMP:20260421T151329
CREATED:20260224T103348Z
LAST-MODIFIED:20260224T103348Z
UID:16550-1774429200-1774434600@oefr.at
SUMMARY:273. ÖFR-Ahnenforschungs-Café über Zoom
DESCRIPTION:Zum 12. Mal in diesem Jahr: Diskutieren über Familienforschung\, Neues erfahren\, Fragen klären\, Lesehilfe erhalten\, wieder Bekannte treffen\, und noch viel mehr. \nMittwoch\, 25. März 2026\, 09.00 bis 10.30 Uhr\, Einlass ab 08.55 Uhr \nWir freuen uns Euch zu treffen\, Teilnahme ist natürlich kostenlos und an keinerlei Mitgliedschaft gebunden. \nHier die Zugangsdaten: \nhttps://us02web.zoom.us/j/81302020900?pwd=UEtYaHNpbkJVTHp1LzZ0U082THcxQT09 \nMeeting-ID: 813 0202 0900 \nKenncode: 343002 \n  \nteilen teilen teilen 
URL:https://oefr.at/event/273-oefr-ahnenforschungs-cafe-ueber-zoom/
LOCATION:Zoom
CATEGORIES:Genealogenstammtisch
ATTACH;FMTTYPE=image/jpeg:https://oefr.at/wp-content/uploads/woman-1733881_960_720.jpg
END:VEVENT
BEGIN:VEVENT
DTSTART;TZID=Europe/Vienna:20260325T190000
DTEND;TZID=Europe/Vienna:20260325T210000
DTSTAMP:20260421T151329
CREATED:20260227T190924Z
LAST-MODIFIED:20260227T190924Z
UID:16560-1774465200-1774472400@oefr.at
SUMMARY:Gemeindearchive am Beispiel des Marktarchives Spitz - 242. ÖFR-Online-Genealogiestammtisch
DESCRIPTION:Gemeindearchive am Beispiel des Marktarchives Spitz – 242. ÖFR-Online-Genealogiestammtisch \nMittwoch\, 25.3.2026\, 19.00 – 21.00 Uhr \nMit Lucas Nunzer \nLucas Nunzer absolviert im  Archiv des Landes NÖ die Lehre zum Archiv-\, Bibliotheks- und Informationsassistenten und ist dabei Kurse für die Betreuung von Gemeindearchiven abzulegen. Er betreut die Archivierung\, Digitalisierung und digitale Zusammenführung der Archive von Schifffahrtsmuseum\, Stiftung und Gemeinde. \n„Es ist eine besondere Aufgabe\, dieses Gedächtnis unserer Marktgemeinde zu bewahren\, die schriftlichen Zeugnisse zu sammeln\, zu verwahren und aufzubereiten. Ich möchte mit dem Aufbau eines Foto-Archivs\, der Zusammenarbeit mit anderen Gemeinden\, Archiven und Archivaren und der Digitalisierung\, unser Archiv für alle BürgerInnen zugänglich machen. Ich blicke dieser Aufgabe mit großer Freude entgegen“ \nso Lucas Nunzer anlässlich der Übernahme dieser Aufgabe. \nHier kommen Sie zur Anmeldung:\nhttps://us02web.zoom.us/meeting/register/oAVylvahTI-Rl0AixAle9g  \nNach der Registrierung erhalten Sie ein Bestätigungs-E-Mail mit dem Zugangslink. \nEinlass ab 18.50 Uhr. Bitte kommen Sie zeitgerecht\, ab 19.00 Uhr kann es zu Wartezeiten kommen. \nMit der Teilnahme an unseren Veranstaltungen stimmen Sie der Veröffentlichung von Fotos\, Video- und Audioaufzeichnungen\, die im Rahmen der Veranstaltungen entstehen\, zu. \nAlle Informationen zu unseren Veranstaltungen finden Sie auf unserer Website unter: https://oefr.at/events/ \nDie Teilnahme ist natürlich kostenlos und an keinerlei Mitgliedschaft gebunden. \nWir freuen uns Sie online zu treffen! \nBild: \nVon Herbert Ortner\, Vienna\, Austria – Eigenes Werk\, CC BY 3.0\, https://commons.wikimedia.org/w/index.php?curid=4779357 \n  \n  \n  \nteilen teilen teilen 
URL:https://oefr.at/event/gemeindearchive-am-beispiel-des-marktarchives-spitz-242-oefr-online-genealogiestammtisch/
LOCATION:Zoom
CATEGORIES:Vortrag,Workshop
ATTACH;FMTTYPE=image/jpeg:https://oefr.at/wp-content/uploads/Spitz_an_der_Donau.jpg
END:VEVENT
END:VCALENDAR