BEGIN:VCALENDAR
VERSION:2.0
PRODID:-//ÖFR-Österreichische Gesellschaft für Familien- und regionalgeschichtliche Forschung - ECPv6.15.20//NONSGML v1.0//EN
CALSCALE:GREGORIAN
METHOD:PUBLISH
X-ORIGINAL-URL:https://oefr.at
X-WR-CALDESC:Veranstaltungen für ÖFR-Österreichische Gesellschaft für Familien- und regionalgeschichtliche Forschung
REFRESH-INTERVAL;VALUE=DURATION:PT1H
X-Robots-Tag:noindex
X-PUBLISHED-TTL:PT1H
BEGIN:VTIMEZONE
TZID:Europe/Vienna
BEGIN:DAYLIGHT
TZOFFSETFROM:+0100
TZOFFSETTO:+0200
TZNAME:CEST
DTSTART:20250330T010000
END:DAYLIGHT
BEGIN:STANDARD
TZOFFSETFROM:+0200
TZOFFSETTO:+0100
TZNAME:CET
DTSTART:20251026T010000
END:STANDARD
BEGIN:DAYLIGHT
TZOFFSETFROM:+0100
TZOFFSETTO:+0200
TZNAME:CEST
DTSTART:20260329T010000
END:DAYLIGHT
BEGIN:STANDARD
TZOFFSETFROM:+0200
TZOFFSETTO:+0100
TZNAME:CET
DTSTART:20261025T010000
END:STANDARD
BEGIN:DAYLIGHT
TZOFFSETFROM:+0100
TZOFFSETTO:+0200
TZNAME:CEST
DTSTART:20270328T010000
END:DAYLIGHT
BEGIN:STANDARD
TZOFFSETFROM:+0200
TZOFFSETTO:+0100
TZNAME:CET
DTSTART:20271031T010000
END:STANDARD
END:VTIMEZONE
BEGIN:VEVENT
DTSTART;TZID=Europe/Vienna:20260318T090000
DTEND;TZID=Europe/Vienna:20260318T103000
DTSTAMP:20260420T022522
CREATED:20260224T103025Z
LAST-MODIFIED:20260224T103025Z
UID:16548-1773824400-1773829800@oefr.at
SUMMARY:272. ÖFR-Ahnenforschungs-Café über Zoom
DESCRIPTION:  \nZum 11. Mal in diesem Jahr: Diskutieren über Familienforschung\, Neues erfahren\, Fragen klären\, Lesehilfe erhalten\, wieder Bekannte treffen\, und noch viel mehr. \nMittwoch\, 18. März 2026\, 09.00 bis 10.30 Uhr\, Einlass ab 08.55 Uhr \nWir freuen uns Euch zu treffen\, Teilnahme ist natürlich kostenlos und an keinerlei Mitgliedschaft gebunden. \nHier die Zugangsdaten: \nhttps://us02web.zoom.us/j/81302020900?pwd=UEtYaHNpbkJVTHp1LzZ0U082THcxQT09 \nMeeting-ID: 813 0202 0900 \nKenncode: 343002 \n  \nteilen teilen teilen 
URL:https://oefr.at/event/272-oefr-ahnenforschungs-cafe-ueber-zoom/
LOCATION:Zoom
CATEGORIES:Genealogenstammtisch
ATTACH;FMTTYPE=image/jpeg:https://oefr.at/wp-content/uploads/brigitte-tohm-yRH0JI2S2KA-unsplash-scaled-e1735316901704.jpg
END:VEVENT
BEGIN:VEVENT
DTSTART;TZID=Europe/Vienna:20260318T190000
DTEND;TZID=Europe/Vienna:20260318T210000
DTSTAMP:20260420T022522
CREATED:20260227T190003Z
LAST-MODIFIED:20260313T182123Z
UID:16557-1773860400-1773867600@oefr.at
SUMMARY:Wölfe\, Wirtshäuser\, Witwenheirat – Weistümer: Anschauliche Infos zu Dörfern und Märkten  - 241. ÖFR-Online-Genealogiestammtisch
DESCRIPTION:Wölfe\, Wirtshäuser\, Witwenheirat – Weistümer: Anschauliche Infos zu Dörfern und Märkten  – 241. ÖFR-Online-Genealogiestammtisch \nMittwoch\, 18.3.2026\, 19.00 – 21.00 Uhr \nMit Dipl.-Ing. Leopold Strenn \nWeistümer sind historische Aufzeichnungen des Gewohnheitsrechts in Landgemeinden vom Hochmittelalter bis ins 18. Jahrhundert. Sie dokumentieren Rechte\, Pflichten und Strafbestimmungen\, die bei Gemeindeversammlungen (Banntaidingen) vorgetragen wurden. Umfangreiche Sammlungen dieser Rechtsquellen wurden von der Kaiserlichen Akademie der Wissenschaften herausgegeben. \nWir finden in diesen zahlreiche Bestimmungen\, die zum Verständnis des damaligen Lebens in Dörfern und Märkten beitragen. Aber auch scheinbar „exotische“ Themen sind hier zu finden. Bestimmungen über Bärenjagd\, Biber-\, Dachs- oder Vogelfang\, Öffnungszeiten der Wirtshäuser\, das Tragen von Waffen und vieles mehr. \nHier kommen Sie zur Anmeldung:\nhttps://us02web.zoom.us/meeting/register/J9_9Nq2BReyoTJc8Ywlm6Q  \nNach der Registrierung erhalten Sie ein Bestätigungs-E-Mail mit dem Zugangslink. \nEinlass ab 18.50 Uhr. Bitte kommen Sie zeitgerecht\, ab 19.00 Uhr kann es zu Wartezeiten kommen. \nMit der Teilnahme an unseren Veranstaltungen stimmen Sie der Veröffentlichung von Fotos\, Video- und Audioaufzeichnungen\, die im Rahmen der Veranstaltungen entstehen\, zu. \nAlle Informationen zu unseren Veranstaltungen finden Sie auf unserer Website unter: https://oefr.at/events/ \nDie Teilnahme ist natürlich kostenlos und an keinerlei Mitgliedschaft gebunden. \nWir freuen uns Sie online zu treffen! \n Bild: \nBenedicht Tschachtlan\, Tschachtlan-Chronik\, Berner Bärenjagd\, als gemeinfrei gekennzeichnet\, Details auf Wikimedia Commons \nTheodor Kleehaas creator QS:P170\,Q14906958 \, Kleehaas In der Wirtsstube\, als gemeinfrei gekennzeichnet\, Details auf Wikimedia Commons \nteilen teilen teilen 
URL:https://oefr.at/event/woelfe-wirtshaeuser-witwenheirat-weistuemer-anschauliche-infos-zu-doerfern-und-maerkten-241-oefr-online-genealogiestammtisch/
LOCATION:Zoom
CATEGORIES:Vortrag,Workshop
ATTACH;FMTTYPE=image/jpeg:https://oefr.at/wp-content/uploads/Kleehaas_In_der_Wirtsstube.jpg
END:VEVENT
END:VCALENDAR