BEGIN:VCALENDAR
VERSION:2.0
PRODID:-//ÖFR-Österreichische Gesellschaft für Familien- und regionalgeschichtliche Forschung - ECPv6.15.20//NONSGML v1.0//EN
CALSCALE:GREGORIAN
METHOD:PUBLISH
X-WR-CALNAME:ÖFR-Österreichische Gesellschaft für Familien- und regionalgeschichtliche Forschung
X-ORIGINAL-URL:https://oefr.at
X-WR-CALDESC:Veranstaltungen für ÖFR-Österreichische Gesellschaft für Familien- und regionalgeschichtliche Forschung
REFRESH-INTERVAL;VALUE=DURATION:PT1H
X-Robots-Tag:noindex
X-PUBLISHED-TTL:PT1H
BEGIN:VTIMEZONE
TZID:Europe/Vienna
BEGIN:DAYLIGHT
TZOFFSETFROM:+0100
TZOFFSETTO:+0200
TZNAME:CEST
DTSTART:20250330T010000
END:DAYLIGHT
BEGIN:STANDARD
TZOFFSETFROM:+0200
TZOFFSETTO:+0100
TZNAME:CET
DTSTART:20251026T010000
END:STANDARD
BEGIN:DAYLIGHT
TZOFFSETFROM:+0100
TZOFFSETTO:+0200
TZNAME:CEST
DTSTART:20260329T010000
END:DAYLIGHT
BEGIN:STANDARD
TZOFFSETFROM:+0200
TZOFFSETTO:+0100
TZNAME:CET
DTSTART:20261025T010000
END:STANDARD
BEGIN:DAYLIGHT
TZOFFSETFROM:+0100
TZOFFSETTO:+0200
TZNAME:CEST
DTSTART:20270328T010000
END:DAYLIGHT
BEGIN:STANDARD
TZOFFSETFROM:+0200
TZOFFSETTO:+0100
TZNAME:CET
DTSTART:20271031T010000
END:STANDARD
END:VTIMEZONE
BEGIN:VEVENT
DTSTART;TZID=Europe/Vienna:20260311T090000
DTEND;TZID=Europe/Vienna:20260311T103000
DTSTAMP:20260421T221003
CREATED:20260224T102739Z
LAST-MODIFIED:20260224T102739Z
UID:16546-1773219600-1773225000@oefr.at
SUMMARY:271. ÖFR-Ahnenforschungs-Café über Zoom
DESCRIPTION:Zum 10. Mal in diesem Jahr: Diskutieren über Familienforschung\, Neues erfahren\, Fragen klären\, Lesehilfe erhalten\, wieder Bekannte treffen\, und noch viel mehr. \nMittwoch\, 11. März 2026\, 09.00 bis 10.30 Uhr\, Einlass ab 08.55 Uhr \nWir freuen uns Euch zu treffen\, Teilnahme ist natürlich kostenlos und an keinerlei Mitgliedschaft gebunden. \nHier die Zugangsdaten: \nhttps://us02web.zoom.us/j/81302020900?pwd=UEtYaHNpbkJVTHp1LzZ0U082THcxQT09 \nMeeting-ID: 813 0202 0900 \nKenncode: 343002 \nteilen teilen teilen 
URL:https://oefr.at/event/271-oefr-ahnenforschungs-cafe-ueber-zoom/
LOCATION:Zoom
CATEGORIES:Genealogenstammtisch
ATTACH;FMTTYPE=image/jpeg:https://oefr.at/wp-content/uploads/laptop-593673_1280.jpg
END:VEVENT
BEGIN:VEVENT
DTSTART;TZID=Europe/Vienna:20260311T190000
DTEND;TZID=Europe/Vienna:20260311T210000
DTSTAMP:20260421T221003
CREATED:20260227T185247Z
LAST-MODIFIED:20260304T130823Z
UID:16554-1773255600-1773262800@oefr.at
SUMMARY:Verwandtschaftsbeziehungen – 240. ÖFR-Online-Genealogiestammtisch
DESCRIPTION:Verwandtschaftsbeziehungen – 240. ÖFR-Online-Genealogiestammtisch \nMittwoch\, 11.3.2026\, 19.00 – 21.00 Uhr \nmit Mag. Markus Pasterk \nIn der genealogischen Forschung sind klare und korrekt verstandene Verwandtschaftsstrukturen ein zentraler Schlüssel\, um historische Familienzusammenhänge richtig einordnen und Forschungswege zielgerichtet weiterverfolgen zu können. Dabei geht es nicht nur um direkte Linien wie Eltern oder Großeltern\, sondern auch um Seitenlinien\, verschwägerte Verbindungen und weiter entfernte Verwandtschaftsgrade\, die häufig neue Perspektiven eröffnen. \nIm Laufe des Vortrags werfen wir einen Blick auf grundlegende Begriffe\, typische Herausforderungen und praktische Ansätze\, wie man komplexe oder unklare Familienbeziehungen besser erkennt und dokumentiert. Ziel ist es\, Orientierung zu bieten und zugleich Werkzeuge an die Hand zu geben\, die im genealogischen Alltag unmittelbar anwendbar sind. Dabei vergleichen wir die Systeme in Deutscher\, Englischer und Lateinischer Sprache. \nHier kommen Sie zur Anmeldung:\nhttps://us02web.zoom.us/meeting/register/i_h9uBO7RFqRmIYHS7JPSA \nNach der Registrierung erhalten Sie ein Bestätigungs-E-Mail mit dem Zugangslink. \nEinlass ab 18.50 Uhr. Bitte kommen Sie zeitgerecht\, ab 19.00 Uhr kann es zu Wartezeiten kommen. \nMit der Teilnahme an unseren Veranstaltungen stimmen Sie der Veröffentlichung von Fotos\, Video- und Audioaufzeichnungen\, die im Rahmen der Veranstaltungen entstehen\, zu. \nAlle Informationen zu unseren Veranstaltungen finden Sie auf unserer Website unter: https://oefr.at/events/ \nDie Teilnahme ist natürlich kostenlos und an keinerlei Mitgliedschaft gebunden. \nWir freuen uns Sie online zu treffen! \nBild:\nWilliam-Adolphe Bouguereau artist QS:P170\,Q483992\, William Bouguereau – The Elder Sister – Google Art Project\, als gemeinfrei gekennzeichnet\, Details auf Wikimedia Commons \nteilen teilen teilen 
URL:https://oefr.at/event/verwandtschaftsbeziehungen-240-oefr-online-genealogiestammtisch/
LOCATION:Zoom
CATEGORIES:Vortrag,Workshop
ATTACH;FMTTYPE=image/jpeg:https://oefr.at/wp-content/uploads/William_Bouguereau_-_The_Elder_Sister_-_Google_Art_Project.jpg
END:VEVENT
END:VCALENDAR