BEGIN:VCALENDAR
VERSION:2.0
PRODID:-//ÖFR-Österreichische Gesellschaft für Familien- und regionalgeschichtliche Forschung - ECPv6.15.20//NONSGML v1.0//EN
CALSCALE:GREGORIAN
METHOD:PUBLISH
X-ORIGINAL-URL:https://oefr.at
X-WR-CALDESC:Veranstaltungen für ÖFR-Österreichische Gesellschaft für Familien- und regionalgeschichtliche Forschung
REFRESH-INTERVAL;VALUE=DURATION:PT1H
X-Robots-Tag:noindex
X-PUBLISHED-TTL:PT1H
BEGIN:VTIMEZONE
TZID:Europe/Vienna
BEGIN:DAYLIGHT
TZOFFSETFROM:+0100
TZOFFSETTO:+0200
TZNAME:CEST
DTSTART:20250330T010000
END:DAYLIGHT
BEGIN:STANDARD
TZOFFSETFROM:+0200
TZOFFSETTO:+0100
TZNAME:CET
DTSTART:20251026T010000
END:STANDARD
BEGIN:DAYLIGHT
TZOFFSETFROM:+0100
TZOFFSETTO:+0200
TZNAME:CEST
DTSTART:20260329T010000
END:DAYLIGHT
BEGIN:STANDARD
TZOFFSETFROM:+0200
TZOFFSETTO:+0100
TZNAME:CET
DTSTART:20261025T010000
END:STANDARD
BEGIN:DAYLIGHT
TZOFFSETFROM:+0100
TZOFFSETTO:+0200
TZNAME:CEST
DTSTART:20270328T010000
END:DAYLIGHT
BEGIN:STANDARD
TZOFFSETFROM:+0200
TZOFFSETTO:+0100
TZNAME:CET
DTSTART:20271031T010000
END:STANDARD
END:VTIMEZONE
BEGIN:VEVENT
DTSTART;TZID=Europe/Vienna:20260225T090000
DTEND;TZID=Europe/Vienna:20260225T103000
DTSTAMP:20260422T115512
CREATED:20260130T204143Z
LAST-MODIFIED:20260130T204143Z
UID:16450-1772010000-1772015400@oefr.at
SUMMARY:269. ÖFR-Ahnenforschungs-Café über Zoom
DESCRIPTION:Zum 8. Mal in diesem Jahr: Diskutieren über Familienforschung\, Neues erfahren\, Fragen klären\, Lesehilfe erhalten\, wieder Bekannte treffen\, und noch viel mehr. \nMittwoch\, 25. Februar 2026\, 09.00 bis 10.30 Uhr\, Einlass ab 08.55 Uhr \nWir freuen uns Euch zu treffen\, Teilnahme ist natürlich kostenlos und an keinerlei Mitgliedschaft gebunden. \nHier die Zugangsdaten: \nhttps://us02web.zoom.us/j/81302020900?pwd=UEtYaHNpbkJVTHp1LzZ0U082THcxQT09 \nMeeting-ID: 813 0202 0900 \nKenncode: 343002 \nteilen teilen teilen 
URL:https://oefr.at/event/269-oefr-ahnenforschungs-cafe-ueber-zoom/
LOCATION:Zoom
CATEGORIES:Workshop
ATTACH;FMTTYPE=image/jpeg:https://oefr.at/wp-content/uploads/laptop-6062423_1280.jpg
END:VEVENT
BEGIN:VEVENT
DTSTART;TZID=Europe/Vienna:20260225T190000
DTEND;TZID=Europe/Vienna:20260225T210000
DTSTAMP:20260422T115512
CREATED:20260130T202522Z
LAST-MODIFIED:20260130T202522Z
UID:16439-1772046000-1772053200@oefr.at
SUMMARY:FRANZI: Die Plattform für den Franziszeischen Kataster - 238. ÖFR-Online-Genealogiestammtisch
DESCRIPTION:FRANZI ist das Ergebnis eines mehrjährigen Projektes auf Basis einer Zusammenarbeit der Universität Innsbruck (Institut für Geschichtswissenschaften\, Österreichische Geschichte)\, mit READ-COOP SCE\, dem Bundesamt für Eich- und Vermessungswesen (BEV)\, dem Tiroler Landesarchiv und dem Tiroler Bildungsforum. Hier ist es erstmals gelungen\, alle Daten aus den Urmappen als auch aus den Parzellenprotokollen georeferenziert zusammenzuführen. Über eine Suchfunktion können gezielt Begriffe oder Familiennamen für das gesamte Bundesland abgefragt und auf der interaktiven Karte angezeigt oder heruntergeladen werden. \nFRANZI: Die Plattform für den Franziszeischen Kataster – 238. ÖFR-Online-Genealogiestammtisch \nMag. Dr. Günter Mühlberger (Universität Innsbruck) \nMittwoch\, 25. Februar 2026\, 19.00 Uhr \nIm Anschluss an die Präsentation wird es auch ausreichend Zeit für Diskussionen\, Fragen Ihrerseits und Erfahrungsaustausch geben. \nWieder eine Gelegenheit Neues zu erfahren\, Erfahrungen auszutauschen\, Bekannte\, Forscherkolleginnen und -kollegen zu treffen. \nHier kommen Sie zur Anmeldung:\nhttps://us02web.zoom.us/meeting/register/mRm7PvFbRbqurtfJjJ_MeA \nNach der Registrierung erhalten Sie ein Bestätigungs-E-Mail mit dem Zugangslink. \nEinlass ab 18.50 Uhr. Bitte kommen Sie zeitgerecht\, ab 19.00 Uhr kann es zu Wartezeiten kommen. \nMit der Teilnahme an unseren Veranstaltungen stimmen Sie der Veröffentlichung von Fotos\, Video- und Audioaufzeichnungen\, die im Rahmen der Veranstaltungen entstehen\, zu. \nSind Sie ungeduldig und möchten bereits jetzt mehr zum Thema wissen\, hier ein Beitrag von Ing. Wolfgang Zehetner BA zum Thema: https://oefr.at/2025/07/02/kati-franzi/ \nAlle Informationen zu unseren Veranstaltungen finden Sie auf unserer Website unter: https://oefr.at/events/ \nDie Teilnahme ist natürlich kostenlos und an keinerlei Mitgliedschaft gebunden. \nWir freuen uns Sie online zu treffen! \nBild:\nFriedrich von Amerling artist QS:P170\,Q452397\, Francis II\, Holy Roman Emperor by Friedrich von Amerling 003\, Wasserzeichen ergänzt von Ing. Wolfgang Zehetner\, BA.\, CC0 1.0 \nteilen teilen teilen 
URL:https://oefr.at/event/franzi-die-plattform-fuer-den-franziszeischen-kataster-238-oefr-online-genealogiestammtisch/
LOCATION:Zoom
CATEGORIES:Genealogenstammtisch,Vortrag
ATTACH;FMTTYPE=image/jpeg:https://oefr.at/wp-content/uploads/image5-2.jpg
END:VEVENT
END:VCALENDAR