BEGIN:VCALENDAR
VERSION:2.0
PRODID:-//ÖFR-Österreichische Gesellschaft für Familien- und regionalgeschichtliche Forschung - ECPv6.15.20//NONSGML v1.0//EN
CALSCALE:GREGORIAN
METHOD:PUBLISH
X-ORIGINAL-URL:https://oefr.at
X-WR-CALDESC:Veranstaltungen für ÖFR-Österreichische Gesellschaft für Familien- und regionalgeschichtliche Forschung
REFRESH-INTERVAL;VALUE=DURATION:PT1H
X-Robots-Tag:noindex
X-PUBLISHED-TTL:PT1H
BEGIN:VTIMEZONE
TZID:Europe/Vienna
BEGIN:DAYLIGHT
TZOFFSETFROM:+0100
TZOFFSETTO:+0200
TZNAME:CEST
DTSTART:20250330T010000
END:DAYLIGHT
BEGIN:STANDARD
TZOFFSETFROM:+0200
TZOFFSETTO:+0100
TZNAME:CET
DTSTART:20251026T010000
END:STANDARD
BEGIN:DAYLIGHT
TZOFFSETFROM:+0100
TZOFFSETTO:+0200
TZNAME:CEST
DTSTART:20260329T010000
END:DAYLIGHT
BEGIN:STANDARD
TZOFFSETFROM:+0200
TZOFFSETTO:+0100
TZNAME:CET
DTSTART:20261025T010000
END:STANDARD
BEGIN:DAYLIGHT
TZOFFSETFROM:+0100
TZOFFSETTO:+0200
TZNAME:CEST
DTSTART:20270328T010000
END:DAYLIGHT
BEGIN:STANDARD
TZOFFSETFROM:+0200
TZOFFSETTO:+0100
TZNAME:CET
DTSTART:20271031T010000
END:STANDARD
END:VTIMEZONE
BEGIN:VEVENT
DTSTART;TZID=Europe/Vienna:20260218T090000
DTEND;TZID=Europe/Vienna:20260218T103000
DTSTAMP:20260421T134714
CREATED:20260130T203844Z
LAST-MODIFIED:20260130T203844Z
UID:16448-1771405200-1771410600@oefr.at
SUMMARY:268. ÖFR-Ahnenforschungs-Café über Zoom
DESCRIPTION:Zum 7. Mal in diesem Jahr: Diskutieren über Familienforschung\, Neues erfahren\, Fragen klären\, Lesehilfe erhalten\, wieder Bekannte treffen\, und noch viel mehr. \nMittwoch\, 18. Februar 2026\, 09.00 bis 10.30 Uhr\, Einlass ab 08.55 Uhr \nWir freuen uns Euch zu treffen\, Teilnahme ist natürlich kostenlos und an keinerlei Mitgliedschaft gebunden. \nHier die Zugangsdaten: \nhttps://us02web.zoom.us/j/81302020900?pwd=UEtYaHNpbkJVTHp1LzZ0U082THcxQT09 \nMeeting-ID: 813 0202 0900 \nKenncode: 343002 \n  \nteilen teilen teilen 
URL:https://oefr.at/event/268-oefr-ahnenforschungs-cafe-ueber-zoom/
LOCATION:Zoom
CATEGORIES:Workshop
ATTACH;FMTTYPE=image/jpeg:https://oefr.at/wp-content/uploads/laptop-6062423_1280.jpg
END:VEVENT
BEGIN:VEVENT
DTSTART;TZID=Europe/Vienna:20260218T190000
DTEND;TZID=Europe/Vienna:20260218T210000
DTSTAMP:20260421T134714
CREATED:20260130T180823Z
LAST-MODIFIED:20260130T180823Z
UID:16432-1771441200-1771448400@oefr.at
SUMMARY:„Findelkinder“ – Gebär- und Findelhäuser - 237. ÖFR-Online-Genealogiestammtisch
DESCRIPTION:Seit dem Ende des 18. Jahrhunderts nahm in Europa die Anzahl der unehelichen Geburten zu. Diese Entwicklung hielt bis in die zweite Hälfte des 19. Jahrhunderts an\, regional gab es jedoch beachtliche Unterschiede: In Wien lag der Anteil der unehelichen Geburten 1800 bei knapp 30 %\, 1850-1860 in der Höhe von ca. 50 %. \n1784 wurde von Joseph II. das Gebär- und Findelhaus gemeinsam mit dem Allgemeinen Krankenhaus errichtet\, die zuständige Pfarre war die Alservorstadt. Weitere Gebär- und Findelanstalten wurden in der Folge in den Kronländern der Monarchie errichtet. \nFindelkinder – Gebär- und Findelhäuser\n(Dipl.-Ing. Leopold Strenn) \nMittwoch\, 18. Februar 2026\, 19.00 Uhr \nIm Anschluss wird es auch Zeit für Diskussionen\, Fragen Ihrerseits und Erfahrungsaustausch geben. \nWieder eine Gelegenheit Neues zu erfahren\, Erfahrungen auszutauschen\, Bekannte\, Forscherkolleginnen und -kollegen zu treffen. \nHier kommen Sie zur Anmeldung:\nhttps://us02web.zoom.us/meeting/register/7797kSDNRUm5bqWnRYDEIw \nNach der Registrierung erhalten Sie ein Bestätigungs-E-Mail mit dem Zugangslink. \nEinlass ab 18.50 Uhr. Bitte kommen Sie zeitgerecht\, ab 19.00 Uhr kann es zu Wartezeiten kommen. \nMit der Teilnahme an unseren Veranstaltungen stimmen Sie der Veröffentlichung von Fotos\, Video- und Audioaufzeichnungen\, die im Rahmen der Veranstaltungen entstehen\, zu. \nAlle Informationen zu unseren Veranstaltungen finden Sie auf unserer Website unter: https://oefr.at/events/ \nDie Teilnahme ist natürlich kostenlos und an keinerlei Mitgliedschaft gebunden. \nWir freuen uns Sie online zu treffen! \nBild:\nKinderabgabe in der Findelanstalt (Illustrirtes (sic!) Extrablatt\, Wien\, 8. Juni 1872) – Privatbesitz Dr. Gottfried Scholz \nteilen teilen teilen 
URL:https://oefr.at/event/findelkinder-gebaer-und-findelhaeuser-237-oefr-online-genealogiestammtisch/
LOCATION:Zoom
CATEGORIES:Genealogenstammtisch,Vortrag,Workshop
ATTACH;FMTTYPE=image/jpeg:https://oefr.at/wp-content/uploads/Findelhaus-Kinderuebergabe-Illustrirtes-Blatt-Scholz.jpg
END:VEVENT
END:VCALENDAR