BEGIN:VCALENDAR
VERSION:2.0
PRODID:-//ÖFR-Österreichische Gesellschaft für Familien- und regionalgeschichtliche Forschung - ECPv6.15.20//NONSGML v1.0//EN
CALSCALE:GREGORIAN
METHOD:PUBLISH
X-ORIGINAL-URL:https://oefr.at
X-WR-CALDESC:Veranstaltungen für ÖFR-Österreichische Gesellschaft für Familien- und regionalgeschichtliche Forschung
REFRESH-INTERVAL;VALUE=DURATION:PT1H
X-Robots-Tag:noindex
X-PUBLISHED-TTL:PT1H
BEGIN:VTIMEZONE
TZID:Europe/Vienna
BEGIN:DAYLIGHT
TZOFFSETFROM:+0100
TZOFFSETTO:+0200
TZNAME:CEST
DTSTART:20240331T010000
END:DAYLIGHT
BEGIN:STANDARD
TZOFFSETFROM:+0200
TZOFFSETTO:+0100
TZNAME:CET
DTSTART:20241027T010000
END:STANDARD
BEGIN:DAYLIGHT
TZOFFSETFROM:+0100
TZOFFSETTO:+0200
TZNAME:CEST
DTSTART:20250330T010000
END:DAYLIGHT
BEGIN:STANDARD
TZOFFSETFROM:+0200
TZOFFSETTO:+0100
TZNAME:CET
DTSTART:20251026T010000
END:STANDARD
BEGIN:DAYLIGHT
TZOFFSETFROM:+0100
TZOFFSETTO:+0200
TZNAME:CEST
DTSTART:20260329T010000
END:DAYLIGHT
BEGIN:STANDARD
TZOFFSETFROM:+0200
TZOFFSETTO:+0100
TZNAME:CET
DTSTART:20261025T010000
END:STANDARD
END:VTIMEZONE
BEGIN:VEVENT
DTSTART;TZID=Europe/Vienna:20251211T173000
DTEND;TZID=Europe/Vienna:20251211T210000
DTSTAMP:20260421T120432
CREATED:20251209T133816Z
LAST-MODIFIED:20251209T133816Z
UID:16273-1765474200-1765486800@oefr.at
SUMMARY:78. GENEALOGIESTAMMTISCH.IN.WIEN
DESCRIPTION:Zum letzten Mal in diesem Jahr wollen wir uns nach einigen Monaten wieder persönlich treffen. Neuigkeiten erfahren\, Erfahrungen austauschen und gemeinsam offene Fragen einer Lösung zuzuführen. \nDiesmal beginnen wir wieder um 17.30 Uhr.  Sollten Sie um diese Zeit noch nicht kommen können\, wir freuen uns auch\, wenn wir einander später sehen. \nReingruber „die Kantin“ Laudongasse 16 (Eingang Ecke Lange Gasse)\, 1080 Wien \nDonnerstag\, 11. Dezember 2025\, 17:30 Uhr \nUm für ausreichend Platz sorgen zu können\, ersuchen wir um Anmeldung  mit dem Betreff “Wien 77” an members@oefr.at \nteilen teilen teilen 
URL:https://oefr.at/event/78-genealogiestammtisch-in-wien/
LOCATION:Reingruber „die Kantin“\, Laudongasse 16 (Ecke Lange Gasse)\, Wien\, 1080\, Österreich
CATEGORIES:Genealogenstammtisch
ATTACH;FMTTYPE=image/jpeg:https://oefr.at/wp-content/uploads/Genealogenstammtisch-in-Wien-e1650725035156-1.jpg
END:VEVENT
END:VCALENDAR