BEGIN:VCALENDAR
VERSION:2.0
PRODID:-//ÖFR-Österreichische Gesellschaft für Familien- und regionalgeschichtliche Forschung - ECPv6.15.20//NONSGML v1.0//EN
CALSCALE:GREGORIAN
METHOD:PUBLISH
X-WR-CALNAME:ÖFR-Österreichische Gesellschaft für Familien- und regionalgeschichtliche Forschung
X-ORIGINAL-URL:https://oefr.at
X-WR-CALDESC:Veranstaltungen für ÖFR-Österreichische Gesellschaft für Familien- und regionalgeschichtliche Forschung
REFRESH-INTERVAL;VALUE=DURATION:PT1H
X-Robots-Tag:noindex
X-PUBLISHED-TTL:PT1H
BEGIN:VTIMEZONE
TZID:Europe/Helsinki
BEGIN:DAYLIGHT
TZOFFSETFROM:+0200
TZOFFSETTO:+0300
TZNAME:EEST
DTSTART:20240331T010000
END:DAYLIGHT
BEGIN:STANDARD
TZOFFSETFROM:+0300
TZOFFSETTO:+0200
TZNAME:EET
DTSTART:20241027T010000
END:STANDARD
BEGIN:DAYLIGHT
TZOFFSETFROM:+0200
TZOFFSETTO:+0300
TZNAME:EEST
DTSTART:20250330T010000
END:DAYLIGHT
BEGIN:STANDARD
TZOFFSETFROM:+0300
TZOFFSETTO:+0200
TZNAME:EET
DTSTART:20251026T010000
END:STANDARD
BEGIN:DAYLIGHT
TZOFFSETFROM:+0200
TZOFFSETTO:+0300
TZNAME:EEST
DTSTART:20260329T010000
END:DAYLIGHT
BEGIN:STANDARD
TZOFFSETFROM:+0300
TZOFFSETTO:+0200
TZNAME:EET
DTSTART:20261025T010000
END:STANDARD
END:VTIMEZONE
BEGIN:VEVENT
DTSTART;TZID=Europe/Helsinki:20251009T183000
DTEND;TZID=Europe/Helsinki:20251009T210000
DTSTAMP:20260420T005631
CREATED:20250922T103545Z
LAST-MODIFIED:20250922T103545Z
UID:15999-1760034600-1760043600@oefr.at
SUMMARY:52. ÖFR-Genealogenstammtisch in Mistelbach
DESCRIPTION:Nach längerer Zeit eine Gelegenheit zu einem persönlichen Erfahrungsaustausch. Diesmal nicht wie gewohnt in Mistelbach\, sondern  im benachbarten Siebenhirten. Eine gute Gelegenheit einander wieder zu sehen\, Neues zu erfahren\, offene Fragen einer Lösung zuzuführen und vieles mehr. \nUm für ausreichend Platz zu sorgen\, sind wir dankbar\, wenn Sie uns Ihr Kommen ankündigen. Wir ersuchen deshalb um Anmeldung mit dem Betreff “Mistelbach 52” an mailto:members@oefr.at \nWir freuen uns einander wieder zu sehen. \n  \n  \nteilen teilen teilen 
URL:https://oefr.at/event/52-oefr-genealogenstammtisch-in-mistelbach/
LOCATION:Siebenhirtnerhof\, Dorfstraße 11\, Siebenhirten\, Niederösterreich\, 2130\, Austria
CATEGORIES:Genealogenstammtisch
ATTACH;FMTTYPE=image/jpeg:https://oefr.at/wp-content/uploads/Mistelbach_2017-08-08_Strenn.jpg
END:VEVENT
END:VCALENDAR