BEGIN:VCALENDAR
VERSION:2.0
PRODID:-//ÖFR-Österreichische Gesellschaft für Familien- und regionalgeschichtliche Forschung - ECPv6.15.20//NONSGML v1.0//EN
CALSCALE:GREGORIAN
METHOD:PUBLISH
X-ORIGINAL-URL:https://oefr.at
X-WR-CALDESC:Veranstaltungen für ÖFR-Österreichische Gesellschaft für Familien- und regionalgeschichtliche Forschung
REFRESH-INTERVAL;VALUE=DURATION:PT1H
X-Robots-Tag:noindex
X-PUBLISHED-TTL:PT1H
BEGIN:VTIMEZONE
TZID:Europe/Helsinki
BEGIN:DAYLIGHT
TZOFFSETFROM:+0200
TZOFFSETTO:+0300
TZNAME:EEST
DTSTART:20240331T010000
END:DAYLIGHT
BEGIN:STANDARD
TZOFFSETFROM:+0300
TZOFFSETTO:+0200
TZNAME:EET
DTSTART:20241027T010000
END:STANDARD
BEGIN:DAYLIGHT
TZOFFSETFROM:+0200
TZOFFSETTO:+0300
TZNAME:EEST
DTSTART:20250330T010000
END:DAYLIGHT
BEGIN:STANDARD
TZOFFSETFROM:+0300
TZOFFSETTO:+0200
TZNAME:EET
DTSTART:20251026T010000
END:STANDARD
BEGIN:DAYLIGHT
TZOFFSETFROM:+0200
TZOFFSETTO:+0300
TZNAME:EEST
DTSTART:20260329T010000
END:DAYLIGHT
BEGIN:STANDARD
TZOFFSETFROM:+0300
TZOFFSETTO:+0200
TZNAME:EET
DTSTART:20261025T010000
END:STANDARD
END:VTIMEZONE
BEGIN:VEVENT
DTSTART;TZID=Europe/Helsinki:20250319T090000
DTEND;TZID=Europe/Helsinki:20250319T103000
DTSTAMP:20260422T115418
CREATED:20250228T144044Z
LAST-MODIFIED:20250228T144044Z
UID:15197-1742374800-1742380200@oefr.at
SUMMARY:221. ÖFR-Ahnenforschungs-Café über Zoom
DESCRIPTION:Zum 11. Mal in diesem Jahr: Diskutieren über Familienforschung\, Neues erfahren\, Fragen klären\, Lesehilfe erhalten\, wieder Bekannte treffen\, und noch viel mehr. \nMittwoch\, 19. März 2025\, 09.00 Uhr\, Einlass ab 08.55 Uhr \nWir freuen uns Euch zu treffen\, Teilnahme ist natürlich kostenlos und an keinerlei Mitgliedschaft gebunden. \nHier die Zugangsdaten: \nhttps://us02web.zoom.us/j/81302020900?pwd=UEtYaHNpbkJVTHp1LzZ0U082THcxQT09 \nMeeting-ID: 813 0202 0900 \nKenncode: 343002 \nteilen teilen teilen 
URL:https://oefr.at/event/221-oefr-ahnenforschungs-cafe-ueber-zoom/
LOCATION:Zoom
CATEGORIES:Genealogenstammtisch
ATTACH;FMTTYPE=image/jpeg:https://oefr.at/wp-content/uploads/brigitte-tohm-yRH0JI2S2KA-unsplash-scaled-e1735316901704.jpg
END:VEVENT
BEGIN:VEVENT
DTSTART;TZID=Europe/Helsinki:20250319T190000
DTEND;TZID=Europe/Helsinki:20250319T213000
DTSTAMP:20260422T115418
CREATED:20250228T142824Z
LAST-MODIFIED:20250228T142824Z
UID:15207-1742410800-1742419800@oefr.at
SUMMARY:Eine kleine Namenkunde – Mostviertler Familiennamen - 196. ÖFR-Online-Genealogiestammtisch
DESCRIPTION:Sie wollten schon immer wissen\, wie unsere Familiennamen entstanden sind und was sie bedeuten? Warum gibt es so viele unterschiedliche Schreibweisen zu manchen Namen? Am Beispiel des niederösterreichischen Mostviertels werden wir uns die Familiennamen vor über 200 Jahren ansehen. Wir werden uns mit verschiedenen Motiven hinter den Namen und auch regionalen Besonderheiten auseinandersetzen. Außerdem wird die historische Verbreitung einzelner Namen betrachtet und deren Bedeutung besprochen. \nTermin: 19.3.2025\, 19:00 Uhr  (Einlass etwa ab 18.50 Uhr)\nVortragender: Ing. Wolfgang Zehetner\, BA \nHier kommen Sie zur Anmeldung: \nRegistrieren Sie sich bitte hier:\nhttps://us02web.zoom.us/meeting/register/p3tJ_WESRaeVNKqHRNJs4A \nNach der Registrierung erhalten Sie eine Bestätigungs-E-Mail mit dem Zugangslink. \nBitte kommen Sie zeitgerecht\, Einlass ab 18.50 Uhr\, da es ab 19.00 Uhr zu Wartezeiten kommen kann! \nDie Teilnahme ist kostenlos und an keine Mitgliedschaft gebunden. Mit der Teilnahme an unseren Veranstaltungen stimmen Sie der Veröffentlichung von Fotos\, Video- und Audioaufzeichnungen\, die im Rahmen des Abends entstehen\, zu. \nAlle Informationen zu unseren Veranstaltungen finden Sie auf unserer Website unter: https://oefr.at/events/ \nWir freuen uns über Ihre Teilnahme. \nFoto von Wolfgang Zehetner \nteilen teilen teilen 
URL:https://oefr.at/event/eine-kleine-namenkunde-mostviertler-familiennamen-196-oefr-online-genealogiestammtisch/
LOCATION:Zoom
CATEGORIES:Genealogenstammtisch
ATTACH;FMTTYPE=image/jpeg:https://oefr.at/wp-content/uploads/IMG_20250224_211557-scaled.jpg
END:VEVENT
END:VCALENDAR