BEGIN:VCALENDAR
VERSION:2.0
PRODID:-//ÖFR-Österreichische Gesellschaft für Familien- und regionalgeschichtliche Forschung - ECPv6.15.20//NONSGML v1.0//EN
CALSCALE:GREGORIAN
METHOD:PUBLISH
X-WR-CALNAME:ÖFR-Österreichische Gesellschaft für Familien- und regionalgeschichtliche Forschung
X-ORIGINAL-URL:https://oefr.at
X-WR-CALDESC:Veranstaltungen für ÖFR-Österreichische Gesellschaft für Familien- und regionalgeschichtliche Forschung
REFRESH-INTERVAL;VALUE=DURATION:PT1H
X-Robots-Tag:noindex
X-PUBLISHED-TTL:PT1H
BEGIN:VTIMEZONE
TZID:Europe/Vienna
BEGIN:DAYLIGHT
TZOFFSETFROM:+0100
TZOFFSETTO:+0200
TZNAME:CEST
DTSTART:20240331T010000
END:DAYLIGHT
BEGIN:STANDARD
TZOFFSETFROM:+0200
TZOFFSETTO:+0100
TZNAME:CET
DTSTART:20241027T010000
END:STANDARD
BEGIN:DAYLIGHT
TZOFFSETFROM:+0100
TZOFFSETTO:+0200
TZNAME:CEST
DTSTART:20250330T010000
END:DAYLIGHT
BEGIN:STANDARD
TZOFFSETFROM:+0200
TZOFFSETTO:+0100
TZNAME:CET
DTSTART:20251026T010000
END:STANDARD
BEGIN:DAYLIGHT
TZOFFSETFROM:+0100
TZOFFSETTO:+0200
TZNAME:CEST
DTSTART:20260329T010000
END:DAYLIGHT
BEGIN:STANDARD
TZOFFSETFROM:+0200
TZOFFSETTO:+0100
TZNAME:CET
DTSTART:20261025T010000
END:STANDARD
END:VTIMEZONE
BEGIN:VEVENT
DTSTART;TZID=Europe/Vienna:20250313T190000
DTEND;TZID=Europe/Vienna:20250313T210000
DTSTAMP:20260422T114949
CREATED:20250301T143621Z
LAST-MODIFIED:20250301T143621Z
UID:15218-1741892400-1741899600@oefr.at
SUMMARY:KURRENT LESEN LERNEN für Anfängerinnen und Anfänger mit ÖFR online über Zoom  – Einführung (Teil 1)
DESCRIPTION:Donnerstag\, 13. März 2025\, 19.00 Uhr (Einlass etwa ab 18.50 Uhr) \nAlte Ansichtskarten\, Briefe\, Stammbucheinträge\, Dokumente oder Matriken: Immer diese Schrift – Kurrent. \n\n    Hilfe – Ich kann den Text nicht lesen!\n    Wir haben Kurrent nicht mehr in der Schule gelernt!\n    Diese Schrift ist für mich nicht lesbar!\n    Würde gern meine Vorfahren erforschen\, aber die Schrift!\n\nNichts einfacher als das! \nHier kommen Sie zur Anmeldung:\nRegistrieren Sie sich aufgrund beschränkter Teilnehmerzahl ehestmöglich : \nhttps://us02web.zoom.us/meeting/register/IFl_GNhRR9eRu5TNlH8-sA \nNach der Registrierung erhalten Sie ein Bestätigungs-E-Mail mit dem Zugangslink. \nWir ersuchen Sie um pünktliches Erscheinen\, ab 19.00 Uhr ist während des Workshops kein Zutritt möglich! \n  \nteilen teilen teilen 
URL:https://oefr.at/event/kurrent-lesen-lernen-fuer-anfaengerinnen-und-anfaenger-mit-oefr-online-ueber-zoom-einfuehrung-teil-1/
LOCATION:Zoom
CATEGORIES:Workshop
ATTACH;FMTTYPE=image/jpeg:https://oefr.at/wp-content/uploads/2017/10/IMG_1278-low2_Stammbucheintrag-1935.jpg
END:VEVENT
END:VCALENDAR