BEGIN:VCALENDAR
VERSION:2.0
PRODID:-//ÖFR-Österreichische Gesellschaft für Familien- und regionalgeschichtliche Forschung - ECPv6.15.20//NONSGML v1.0//EN
CALSCALE:GREGORIAN
METHOD:PUBLISH
X-WR-CALNAME:ÖFR-Österreichische Gesellschaft für Familien- und regionalgeschichtliche Forschung
X-ORIGINAL-URL:https://oefr.at
X-WR-CALDESC:Veranstaltungen für ÖFR-Österreichische Gesellschaft für Familien- und regionalgeschichtliche Forschung
REFRESH-INTERVAL;VALUE=DURATION:PT1H
X-Robots-Tag:noindex
X-PUBLISHED-TTL:PT1H
BEGIN:VTIMEZONE
TZID:Europe/Helsinki
BEGIN:DAYLIGHT
TZOFFSETFROM:+0200
TZOFFSETTO:+0300
TZNAME:EEST
DTSTART:20240331T010000
END:DAYLIGHT
BEGIN:STANDARD
TZOFFSETFROM:+0300
TZOFFSETTO:+0200
TZNAME:EET
DTSTART:20241027T010000
END:STANDARD
BEGIN:DAYLIGHT
TZOFFSETFROM:+0200
TZOFFSETTO:+0300
TZNAME:EEST
DTSTART:20250330T010000
END:DAYLIGHT
BEGIN:STANDARD
TZOFFSETFROM:+0300
TZOFFSETTO:+0200
TZNAME:EET
DTSTART:20251026T010000
END:STANDARD
BEGIN:DAYLIGHT
TZOFFSETFROM:+0200
TZOFFSETTO:+0300
TZNAME:EEST
DTSTART:20260329T010000
END:DAYLIGHT
BEGIN:STANDARD
TZOFFSETFROM:+0300
TZOFFSETTO:+0200
TZNAME:EET
DTSTART:20261025T010000
END:STANDARD
END:VTIMEZONE
BEGIN:VEVENT
DTSTART;TZID=Europe/Helsinki:20250226T090000
DTEND;TZID=Europe/Helsinki:20250226T103000
DTSTAMP:20260422T115007
CREATED:20250129T114233Z
LAST-MODIFIED:20250129T114233Z
UID:15009-1740560400-1740565800@oefr.at
SUMMARY:218. ÖFR-Ahnenforschungs-Café über Zoom
DESCRIPTION:Zum 8. Mal in diesem Jahr: Diskutieren über Familienforschung\, Neues erfahren\, Fragen klären\, Lesehilfe erhalten\, wieder Bekannte treffen\, und noch viel mehr. \nMittwoch\, 26. Februar 2025\, 09.00 Uhr\, Einlass ab 08.55 Uhr \nWir freuen uns Euch zu treffen\, Teilnahme ist natürlich kostenlos und an keinerlei Mitgliedschaft gebunden. \nHier die Zugangsdaten: \nhttps://us02web.zoom.us/j/81302020900?pwd=UEtYaHNpbkJVTHp1LzZ0U082THcxQT09 \nMeeting-ID: 813 0202 0900 \nKenncode: 343002 \nteilen teilen teilen 
URL:https://oefr.at/event/218-oefr-ahnenforschungs-cafe-ueber-zoom/
LOCATION:Zoom
CATEGORIES:Genealogenstammtisch
ATTACH;FMTTYPE=image/jpeg:https://oefr.at/wp-content/uploads/brigitte-tohm-yRH0JI2S2KA-unsplash-scaled-e1735316901704.jpg
END:VEVENT
BEGIN:VEVENT
DTSTART;TZID=Europe/Helsinki:20250226T190000
DTEND;TZID=Europe/Helsinki:20250226T213000
DTSTAMP:20260422T115007
CREATED:20250130T134324Z
LAST-MODIFIED:20250130T134324Z
UID:15036-1740596400-1740605400@oefr.at
SUMMARY:Ein Abend mit Heredis - 193. ÖFR-Online-Genealogiestammtisch
DESCRIPTION:Seit 1994 entwickelt die französische Firma Heredis eine innovative Genealogie-Software\, die Hobby- und Berufsgenealogen von A bis Z bei ihren Nachforschungen unterstützt. Heredis 2025 ist die Jubiläumsversion zum 30-jährigen Bestehen der Software und des Unternehmens! Mit mehr als 30 Neuerungen ist sie das bisher umfangreichste Software-Upgrade in der Geschichte von Heredis. Entdecken Sie in diesem Vortrag die wichtigsten der mehr als 30 Neuerungen. \nTermin: 26.2.2025\, 19:00 Uhr  (Einlass etwa ab 18.50 Uhr)\nVortragende: Matylda Tadrowski (Heredis) \nHier kommen Sie zur Anmeldung: \nRegistrieren Sie sich bitte hier:\nhttps://us02web.zoom.us/meeting/register/Kyrl2QroSwGEVVwW1F_lSQ \nNach der Registrierung erhalten Sie eine Bestätigungs-E-Mail mit dem Zugangslink. \nBitte kommen Sie zeitgerecht\, Einlass ab 18.50 Uhr\, da es ab 19.00 Uhr zu Wartezeiten kommen kann! \nDie Teilnahme ist kostenlos und an keine Mitgliedschaft gebunden. Mit der Teilnahme an unseren Veranstaltungen stimmen Sie der Veröffentlichung von Fotos\, Video- und Audioaufzeichnungen\, die im Rahmen des Abends entstehen\, zu. \nAlle Informationen zu unseren Veranstaltungen finden Sie auf unserer Website unter: https://oefr.at/events/ \nWir freuen uns über Ihre Teilnahme. \n  \nBeitragsbild zur Verfügung gestellt von Heredis. \nteilen teilen teilen 
URL:https://oefr.at/event/ein-abend-mit-heredis-193-oefr-online-genealogiestammtisch/
LOCATION:Zoom
CATEGORIES:Genealogenstammtisch
ATTACH;FMTTYPE=image/jpeg:https://oefr.at/wp-content/uploads/Banner-DE-2-1920.jpg
END:VEVENT
END:VCALENDAR