BEGIN:VCALENDAR
VERSION:2.0
PRODID:-//ÖFR-Österreichische Gesellschaft für Familien- und regionalgeschichtliche Forschung - ECPv6.15.20//NONSGML v1.0//EN
CALSCALE:GREGORIAN
METHOD:PUBLISH
X-ORIGINAL-URL:https://oefr.at
X-WR-CALDESC:Veranstaltungen für ÖFR-Österreichische Gesellschaft für Familien- und regionalgeschichtliche Forschung
REFRESH-INTERVAL;VALUE=DURATION:PT1H
X-Robots-Tag:noindex
X-PUBLISHED-TTL:PT1H
BEGIN:VTIMEZONE
TZID:Europe/Vienna
BEGIN:DAYLIGHT
TZOFFSETFROM:+0100
TZOFFSETTO:+0200
TZNAME:CEST
DTSTART:20240331T010000
END:DAYLIGHT
BEGIN:STANDARD
TZOFFSETFROM:+0200
TZOFFSETTO:+0100
TZNAME:CET
DTSTART:20241027T010000
END:STANDARD
BEGIN:DAYLIGHT
TZOFFSETFROM:+0100
TZOFFSETTO:+0200
TZNAME:CEST
DTSTART:20250330T010000
END:DAYLIGHT
BEGIN:STANDARD
TZOFFSETFROM:+0200
TZOFFSETTO:+0100
TZNAME:CET
DTSTART:20251026T010000
END:STANDARD
BEGIN:DAYLIGHT
TZOFFSETFROM:+0100
TZOFFSETTO:+0200
TZNAME:CEST
DTSTART:20260329T010000
END:DAYLIGHT
BEGIN:STANDARD
TZOFFSETFROM:+0200
TZOFFSETTO:+0100
TZNAME:CET
DTSTART:20261025T010000
END:STANDARD
END:VTIMEZONE
BEGIN:VEVENT
DTSTART;TZID=Europe/Vienna:20250225T180000
DTEND;TZID=Europe/Vienna:20250225T210000
DTSTAMP:20260422T115506
CREATED:20250215T172544Z
LAST-MODIFIED:20250215T172544Z
UID:15131-1740506400-1740517200@oefr.at
SUMMARY:76. GENEALOGIESTAMMTISCH.IN.WIEN - Standesamtsaufzeichnungen in Österreich – Erfahrungen aus der Praxis
DESCRIPTION:Nach einigen Monaten gibt es wieder eine Gelegenheit einander persönlich in Wien zu treffen. Vieles ist berichtenswert\, bei Ihnen gibt es sicher auch einige Neuigkeiten und offene Fragen\, die einer Lösung bedürfen. \nDiesmal unser Hauptthema: \nIng. Güner Zwickl \nStandesamtsaufzeichnungen in Österreich – Erfahrungen aus der Praxis \nDienstag\, 25. Februar 2025\, 18.00 Uhr \nReingruber „die Kantin“ Laudongasse 16 (Eingang Ecke Lange Gasse)\, 1080 Wien \nBereits ab 16.00 Uhr freuen wir uns auf Sie\, um 18.00 Uhr beginnt es offiziell. \nNatürlich auch eine Gelegenheit eigene Fragen in der Gruppe oder persönlich zu klären\, Lesehilfe zu erhalten\, Forscherkolleginnen und Forscherkollegen persönlich zu treffen etc. \nAufgrund des beschränkten Platzangebotes ersuchen wir um Anmeldung bis spätestens Montag\, 24. Februar 2025\, 12.00 Uhr  mit dem Betreff “Wien 76” an genealogenstammtisch.in.wien(at)gmx.at \nteilen teilen teilen 
URL:https://oefr.at/event/76-genealogiestammtisch-in-wien-standesamtsaufzeichnungen-in-oesterreich-erfahrungen-aus-der-praxis/
LOCATION:Reingruber „die Kantin“\, Laudongasse 16 (Ecke Lange Gasse)\, Wien\, 1080\, Österreich
CATEGORIES:Genealogenstammtisch,Vortrag
ATTACH;FMTTYPE=image/jpeg:https://oefr.at/wp-content/uploads/Genealogenstammtisch-DNA.jpg
END:VEVENT
END:VCALENDAR