BEGIN:VCALENDAR
VERSION:2.0
PRODID:-//ÖFR-Österreichische Gesellschaft für Familien- und regionalgeschichtliche Forschung - ECPv6.15.20//NONSGML v1.0//EN
CALSCALE:GREGORIAN
METHOD:PUBLISH
X-ORIGINAL-URL:https://oefr.at
X-WR-CALDESC:Veranstaltungen für ÖFR-Österreichische Gesellschaft für Familien- und regionalgeschichtliche Forschung
REFRESH-INTERVAL;VALUE=DURATION:PT1H
X-Robots-Tag:noindex
X-PUBLISHED-TTL:PT1H
BEGIN:VTIMEZONE
TZID:Europe/Helsinki
BEGIN:DAYLIGHT
TZOFFSETFROM:+0200
TZOFFSETTO:+0300
TZNAME:EEST
DTSTART:20240331T010000
END:DAYLIGHT
BEGIN:STANDARD
TZOFFSETFROM:+0300
TZOFFSETTO:+0200
TZNAME:EET
DTSTART:20241027T010000
END:STANDARD
BEGIN:DAYLIGHT
TZOFFSETFROM:+0200
TZOFFSETTO:+0300
TZNAME:EEST
DTSTART:20250330T010000
END:DAYLIGHT
BEGIN:STANDARD
TZOFFSETFROM:+0300
TZOFFSETTO:+0200
TZNAME:EET
DTSTART:20251026T010000
END:STANDARD
BEGIN:DAYLIGHT
TZOFFSETFROM:+0200
TZOFFSETTO:+0300
TZNAME:EEST
DTSTART:20260329T010000
END:DAYLIGHT
BEGIN:STANDARD
TZOFFSETFROM:+0300
TZOFFSETTO:+0200
TZNAME:EET
DTSTART:20261025T010000
END:STANDARD
END:VTIMEZONE
BEGIN:VEVENT
DTSTART;TZID=Europe/Helsinki:20250205T090000
DTEND;TZID=Europe/Helsinki:20250205T103000
DTSTAMP:20260422T190527
CREATED:20250129T113523Z
LAST-MODIFIED:20250129T113523Z
UID:15002-1738746000-1738751400@oefr.at
SUMMARY:215. ÖFR-Ahnenforschungs-Café über Zoom
DESCRIPTION:Zum 5. Mal in diesem Jahr: Diskutieren über Familienforschung\, Neues erfahren\, Fragen klären\, Lesehilfe erhalten\, wieder Bekannte treffen\, und noch viel mehr. \nMittwoch\, 5. Februar 2025\, 09.00 Uhr\, Einlass ab 08.55 Uhr \nWir freuen uns Euch zu treffen\, Teilnahme ist natürlich kostenlos und an keinerlei Mitgliedschaft gebunden. \nHier die Zugangsdaten: \nhttps://us02web.zoom.us/j/81302020900?pwd=UEtYaHNpbkJVTHp1LzZ0U082THcxQT09 \nMeeting-ID: 813 0202 0900 \nKenncode: 343002 \nteilen teilen teilen 
URL:https://oefr.at/event/215-oefr-ahnenforschungs-cafe-ueber-zoom/
LOCATION:Zoom
CATEGORIES:Genealogenstammtisch
ATTACH;FMTTYPE=image/jpeg:https://oefr.at/wp-content/uploads/Pixabay_coffee-gf932a9b39_1280.jpg
END:VEVENT
BEGIN:VEVENT
DTSTART;TZID=Europe/Helsinki:20250205T190000
DTEND;TZID=Europe/Helsinki:20250205T213000
DTSTAMP:20260422T190527
CREATED:20250130T132702Z
LAST-MODIFIED:20250130T132715Z
UID:15021-1738782000-1738791000@oefr.at
SUMMARY:Wie beginne ich mit der Ahnenforschung? - 190. ÖFR-Online-Genealogiestammtisch
DESCRIPTION:Sie stehen noch am Anfang Ihrer Ahnenforschung und fragen sich\, wie Sie am besten beginnen: Welche Informationen habe ich bereits und wie organisiere ich sie? Wo erfahre ich mehr über meine Vorfahren\, und wie gehe ich dabei vor? Um diese und viele weitere Fragen geht es im 190. Online-Stammtisch der ÖFR. Nach dem Vortrag\, der einen Überblick über die ersten Schritte in der Ahnenforschung gibt\, bleibt ausreichend Zeit für Ihre Fragen. \nTermin: 5.2.2025\, 19:00 Uhr  (Einlass etwa ab 18.50 Uhr)\nVortragende: Gabi Rudinger\n\nHier kommen Sie zur Anmeldung: \nRegistrieren Sie sich bitte hier:\nhttps://us02web.zoom.us/meeting/register/l9UXcDXhTgyW6mHXKM4UjQ \nNach der Registrierung erhalten Sie eine Bestätigungs-E-Mail mit dem Zugangslink. \nBitte kommen Sie zeitgerecht\, Einlass ab 18.50 Uhr\, da es ab 19.00 Uhr zu Wartezeiten kommen kann! \nDie Teilnahme ist kostenlos und an keine Mitgliedschaft gebunden. Mit der Teilnahme an unseren Veranstaltungen stimmen Sie der Veröffentlichung von Fotos\, Video- und Audioaufzeichnungen\, die im Rahmen des Abends entstehen\, zu. \nAlle Informationen zu unseren Veranstaltungen finden Sie auf unserer Website unter:https://oefr.at/events/ \nWir freuen uns über Ihre Teilnahme. \nteilen teilen teilen 
URL:https://oefr.at/event/wie-beginne-ich-mit-der-ahnenforschung-190-oefr-online-genealogiestammtisch/
LOCATION:Zoom
CATEGORIES:Genealogenstammtisch
ATTACH;FMTTYPE=image/jpeg:https://oefr.at/wp-content/uploads/190-quer.jpg
END:VEVENT
END:VCALENDAR