BEGIN:VCALENDAR
VERSION:2.0
PRODID:-//ÖFR-Österreichische Gesellschaft für Familien- und regionalgeschichtliche Forschung - ECPv6.15.20//NONSGML v1.0//EN
CALSCALE:GREGORIAN
METHOD:PUBLISH
X-ORIGINAL-URL:https://oefr.at
X-WR-CALDESC:Veranstaltungen für ÖFR-Österreichische Gesellschaft für Familien- und regionalgeschichtliche Forschung
REFRESH-INTERVAL;VALUE=DURATION:PT1H
X-Robots-Tag:noindex
X-PUBLISHED-TTL:PT1H
BEGIN:VTIMEZONE
TZID:Europe/Helsinki
BEGIN:DAYLIGHT
TZOFFSETFROM:+0200
TZOFFSETTO:+0300
TZNAME:EEST
DTSTART:20240331T010000
END:DAYLIGHT
BEGIN:STANDARD
TZOFFSETFROM:+0300
TZOFFSETTO:+0200
TZNAME:EET
DTSTART:20241027T010000
END:STANDARD
BEGIN:DAYLIGHT
TZOFFSETFROM:+0200
TZOFFSETTO:+0300
TZNAME:EEST
DTSTART:20250330T010000
END:DAYLIGHT
BEGIN:STANDARD
TZOFFSETFROM:+0300
TZOFFSETTO:+0200
TZNAME:EET
DTSTART:20251026T010000
END:STANDARD
BEGIN:DAYLIGHT
TZOFFSETFROM:+0200
TZOFFSETTO:+0300
TZNAME:EEST
DTSTART:20260329T010000
END:DAYLIGHT
BEGIN:STANDARD
TZOFFSETFROM:+0300
TZOFFSETTO:+0200
TZNAME:EET
DTSTART:20261025T010000
END:STANDARD
END:VTIMEZONE
BEGIN:VEVENT
DTSTART;TZID=Europe/Helsinki:20250108T090000
DTEND;TZID=Europe/Helsinki:20250108T103000
DTSTAMP:20260425T185202
CREATED:20241227T163814Z
LAST-MODIFIED:20241227T163814Z
UID:14732-1736326800-1736332200@oefr.at
SUMMARY:211. ÖFR-Ahnenforschungs-Café über Zoom
DESCRIPTION:Zum 1. Mal in diesem Jahr: Diskutieren über Familienforschung\, Neues erfahren\, Fragen klären\, Lesehilfe erhalten\, wieder Bekannte treffen und noch viel mehr. \nMittwoch\, 8. Jänner 2025\, 09.00 Uhr\, Einlass ab 08.55 Uhr \nWir freuen uns Euch zu treffen\, Teilnahme ist natürlich kostenlos und an keinerlei Mitgliedschaft gebunden. \nHier die Zugangsdaten: \nhttps://us02web.zoom.us/j/81302020900?pwd=UEtYaHNpbkJVTHp1LzZ0U082THcxQT09 \nMeeting-ID: 813 0202 0900 \nKenncode: 343002 \nteilen teilen teilen 
URL:https://oefr.at/event/211-oefr-ahnenforschungs-cafe-ueber-zoom/
LOCATION:Zoom
CATEGORIES:Genealogenstammtisch
ATTACH;FMTTYPE=image/jpeg:https://oefr.at/wp-content/uploads/woman-1851464_1280.jpg
END:VEVENT
BEGIN:VEVENT
DTSTART;TZID=Europe/Helsinki:20250108T190000
DTEND;TZID=Europe/Helsinki:20250108T210000
DTSTAMP:20260425T185202
CREATED:20241227T162133Z
LAST-MODIFIED:20241227T162953Z
UID:14721-1736362800-1736370000@oefr.at
SUMMARY:»Haus und Hof« in der Praxis (186. ÖFR-Online-Genealogiestammtisch)
DESCRIPTION:Das Projekt »Haus und Hof« beschäftigt sich mit Hausgeschichtsforschung in Niederösterreich. Vor mittlerweile über zwei Jahren wurde die Webseite dazu veröffentlicht. Seither hat sich das Projekt weiterentwickelt\, bietet zahlreiche neue Möglichkeiten und liefert Ansatzpunkte für die eigene Forschung. Anhand von Beispielen werden wir erarbeiten\, wie wir schnell tiefer in die Welt der Ahnen eintauchen können. \nVortragender: Wolfgang Zehetner  \nTermin: 8.1.2025\, 19:00 Uhr  (Einlass etwa ab 18.50 Uhr) \n  \nHier kommen Sie zur Anmeldung: \nRegistrieren Sie sich bitte hier \nhttps://us02web.zoom.us/meeting/register/xI57C4wITXqKb8JRA5f1Kw \nNach der Registrierung erhalten Sie eine Bestätigungs-E-Mail mit dem Zugangslink. \nBitte kommen Sie zeitgerecht\, Einlass ab 18.50 Uhr\, da es ab 19.00 Uhr zu Wartezeiten kommen kann! \nDie Teilnahme ist kostenlos und an keine Mitgliedschaft gebunden. Mit der Teilnahme an unseren Veranstaltungen stimmen Sie der Veröffentlichung von Fotos\, Video- und Audioaufzeichnungen\, die im Rahmen des Abends entstehen\, zu. \nAlle Informationen zu unseren Veranstaltungen finden Sie auf unserer Website unter: https://oefr.at/events/ \nWir freuen uns über Ihre Teilnahme. \n  \nteilen teilen teilen 
URL:https://oefr.at/event/haus-und-hof-in-der-praxis-186-oefr-online-genealogiestammtisch/
LOCATION:Zoom
CATEGORIES:Genealogenstammtisch
ATTACH;FMTTYPE=image/jpeg:https://oefr.at/wp-content/uploads/huh-202501-wide.jpg
END:VEVENT
END:VCALENDAR