BEGIN:VCALENDAR
VERSION:2.0
PRODID:-//ÖFR-Österreichische Gesellschaft für Familien- und regionalgeschichtliche Forschung - ECPv6.15.20//NONSGML v1.0//EN
CALSCALE:GREGORIAN
METHOD:PUBLISH
X-ORIGINAL-URL:https://oefr.at
X-WR-CALDESC:Veranstaltungen für ÖFR-Österreichische Gesellschaft für Familien- und regionalgeschichtliche Forschung
REFRESH-INTERVAL;VALUE=DURATION:PT1H
X-Robots-Tag:noindex
X-PUBLISHED-TTL:PT1H
BEGIN:VTIMEZONE
TZID:Europe/Vienna
BEGIN:DAYLIGHT
TZOFFSETFROM:+0100
TZOFFSETTO:+0200
TZNAME:CEST
DTSTART:20230326T010000
END:DAYLIGHT
BEGIN:STANDARD
TZOFFSETFROM:+0200
TZOFFSETTO:+0100
TZNAME:CET
DTSTART:20231029T010000
END:STANDARD
BEGIN:DAYLIGHT
TZOFFSETFROM:+0100
TZOFFSETTO:+0200
TZNAME:CEST
DTSTART:20240331T010000
END:DAYLIGHT
BEGIN:STANDARD
TZOFFSETFROM:+0200
TZOFFSETTO:+0100
TZNAME:CET
DTSTART:20241027T010000
END:STANDARD
BEGIN:DAYLIGHT
TZOFFSETFROM:+0100
TZOFFSETTO:+0200
TZNAME:CEST
DTSTART:20250330T010000
END:DAYLIGHT
BEGIN:STANDARD
TZOFFSETFROM:+0200
TZOFFSETTO:+0100
TZNAME:CET
DTSTART:20251026T010000
END:STANDARD
END:VTIMEZONE
BEGIN:VTIMEZONE
TZID:Europe/Helsinki
BEGIN:DAYLIGHT
TZOFFSETFROM:+0200
TZOFFSETTO:+0300
TZNAME:EEST
DTSTART:20230326T010000
END:DAYLIGHT
BEGIN:STANDARD
TZOFFSETFROM:+0300
TZOFFSETTO:+0200
TZNAME:EET
DTSTART:20231029T010000
END:STANDARD
BEGIN:DAYLIGHT
TZOFFSETFROM:+0200
TZOFFSETTO:+0300
TZNAME:EEST
DTSTART:20240331T010000
END:DAYLIGHT
BEGIN:STANDARD
TZOFFSETFROM:+0300
TZOFFSETTO:+0200
TZNAME:EET
DTSTART:20241027T010000
END:STANDARD
BEGIN:DAYLIGHT
TZOFFSETFROM:+0200
TZOFFSETTO:+0300
TZNAME:EEST
DTSTART:20250330T010000
END:DAYLIGHT
BEGIN:STANDARD
TZOFFSETFROM:+0300
TZOFFSETTO:+0200
TZNAME:EET
DTSTART:20251026T010000
END:STANDARD
END:VTIMEZONE
BEGIN:VEVENT
DTSTART;TZID=Europe/Vienna:20241218T090000
DTEND;TZID=Europe/Vienna:20241218T103000
DTSTAMP:20260423T040121
CREATED:20241130T143757Z
LAST-MODIFIED:20241130T143757Z
UID:14613-1734512400-1734517800@oefr.at
SUMMARY:210. ÖFR-Ahnenforschungs-Café über Zoom
DESCRIPTION:Zum 51. Mal in diesem Jahr: Diskutieren über Familienforschung\, Neues erfahren\, Fragen klären\, Lesehilfe erhalten\, wieder Bekannte treffen\, und noch viel mehr. \nMittwoch\, 18. Dezember 2024\, 09.00 Uhr\, Einlass ab 08.55 Uhr \nWir freuen uns Euch zu treffen\, Teilnahme ist natürlich kostenlos und an keinerlei Mitgliedschaft gebunden. \nHier die Zugangsdaten: \nhttps://us02web.zoom.us/j/81302020900?pwd=UEtYaHNpbkJVTHp1LzZ0U082THcxQT09 \nMeeting-ID: 813 0202 0900 \nKenncode: 343002 \n  \nteilen teilen teilen 
URL:https://oefr.at/event/210-oefr-ahnenforschungs-cafe-ueber-zoom/
LOCATION:Zoom
CATEGORIES:Genealogenstammtisch
ATTACH;FMTTYPE=image/jpeg:https://oefr.at/wp-content/uploads/woman-1851464_1280.jpg
END:VEVENT
BEGIN:VEVENT
DTSTART;TZID=Europe/Helsinki:20241218T190000
DTEND;TZID=Europe/Helsinki:20241218T210000
DTSTAMP:20260423T040121
CREATED:20241212T071459Z
LAST-MODIFIED:20241212T071459Z
UID:14660-1734548400-1734555600@oefr.at
SUMMARY:185. ÖFR-Online-Genealogiestammtisch: Rückschau - Ausblick - Leopold Strenn
DESCRIPTION:Beim 184. ÖFR-Genealogiestammtisch am 11. Dezember wurde das Jahrbuch 2025 vorgestellt\, diesmal wird uns Leopold Strenn einen Rückblick über die vergangenen Jahre geben.  \nVor bald zehn Jahren wurde der Genealogenstammtisch in Wien gegründet\, vor mehr als sechs Jahren die ÖFR. Das Jahr 2024 geht langsam seinem Ende entgegen: Zeit innezuhalten\, zurück und in die Zukunft zu blicken – einige Änderungen werden 2025 wirksam werden. \nTermin: 18.12.2024\, 19:00 Uhr  (Einlass etwa ab 18.50 Uhr) \n  \nHier kommen Sie zur Anmeldung: \nRegistrieren Sie sich bitte hier \nhttps://us02web.zoom.us/meeting/register/tZMvcemsrD0sGNTGFFFK1yjcolmIsqvJTsVs \nNach der Registrierung erhalten Sie ein Bestätigungs-E-Mail mit dem Zugangslink. \nBitte kommen Sie zeitgerecht\, Einlass ab 18.50 Uhr\, da es ab 19.00 Uhr zu Wartezeiten kommen kann! \nDie Teilnahme ist kostenlos und an keinerlei Mitgliedschaft gebunden. Mit der Teilnahme an unseren Veranstaltungen stimmen Sie der Veröffentlichung von Fotos\, Video- und Audioaufzeichnungen\, die im Rahmen des Abends entstehen\, zu. \nAlle Informationen zu unseren Veranstaltungen finden Sie auf unserer Website unter: https://oefr.at/events/ \nWir freuen uns über Ihre Teilnahme. \n  \nBeitragsbild: Kelly Sikkema (unsplash.com) \nteilen teilen teilen 
URL:https://oefr.at/event/185-oefr-online-genealogiestammtisch-rueckschau-ausblick-leopold-strenn/
LOCATION:Zoom
CATEGORIES:Genealogenstammtisch
ATTACH;FMTTYPE=image/jpeg:https://oefr.at/wp-content/uploads/oefr-185-web-kelly-sikkema-Y2pzmNYinu0-unsplash.jpg
END:VEVENT
END:VCALENDAR