BEGIN:VCALENDAR
VERSION:2.0
PRODID:-//ÖFR-Österreichische Gesellschaft für Familien- und regionalgeschichtliche Forschung - ECPv6.15.20//NONSGML v1.0//EN
CALSCALE:GREGORIAN
METHOD:PUBLISH
X-ORIGINAL-URL:https://oefr.at
X-WR-CALDESC:Veranstaltungen für ÖFR-Österreichische Gesellschaft für Familien- und regionalgeschichtliche Forschung
REFRESH-INTERVAL;VALUE=DURATION:PT1H
X-Robots-Tag:noindex
X-PUBLISHED-TTL:PT1H
BEGIN:VTIMEZONE
TZID:Europe/Helsinki
BEGIN:DAYLIGHT
TZOFFSETFROM:+0200
TZOFFSETTO:+0300
TZNAME:EEST
DTSTART:20230326T010000
END:DAYLIGHT
BEGIN:STANDARD
TZOFFSETFROM:+0300
TZOFFSETTO:+0200
TZNAME:EET
DTSTART:20231029T010000
END:STANDARD
BEGIN:DAYLIGHT
TZOFFSETFROM:+0200
TZOFFSETTO:+0300
TZNAME:EEST
DTSTART:20240331T010000
END:DAYLIGHT
BEGIN:STANDARD
TZOFFSETFROM:+0300
TZOFFSETTO:+0200
TZNAME:EET
DTSTART:20241027T010000
END:STANDARD
BEGIN:DAYLIGHT
TZOFFSETFROM:+0200
TZOFFSETTO:+0300
TZNAME:EEST
DTSTART:20250330T010000
END:DAYLIGHT
BEGIN:STANDARD
TZOFFSETFROM:+0300
TZOFFSETTO:+0200
TZNAME:EET
DTSTART:20251026T010000
END:STANDARD
END:VTIMEZONE
BEGIN:VEVENT
DTSTART;TZID=Europe/Helsinki:20241009T090000
DTEND;TZID=Europe/Helsinki:20241009T103000
DTSTAMP:20260425T225553
CREATED:20240929T170515Z
LAST-MODIFIED:20240929T170515Z
UID:14174-1728464400-1728469800@oefr.at
SUMMARY:200. ÖFR-Ahnenforschungs-Café über Zoom
DESCRIPTION:Zum 41. Mal in diesem Jahr: Diskutieren über Familienforschung\, Neues erfahren\, Fragen klären\, Lesehilfe erhalten\, wieder Bekannte treffen\, und noch viel mehr. \nMittwoch\, 9. Oktober 2024\, 09.00 Uhr\, Einlass ab 08.55 Uhr \nWir freuen uns Euch zu treffen\, Teilnahme ist natürlich kostenlos und an keinerlei Mitgliedschaft gebunden. \nHier die Zugangsdaten: \nhttps://us02web.zoom.us/j/81302020900?pwd=UEtYaHNpbkJVTHp1LzZ0U082THcxQT09 \nMeeting-ID: 813 0202 0900 \nKenncode: 343002 \nteilen teilen teilen 
URL:https://oefr.at/event/200-oefr-ahnenforschungs-cafe-ueber-zoom/
LOCATION:Zoom
CATEGORIES:Genealogenstammtisch
END:VEVENT
BEGIN:VEVENT
DTSTART;TZID=Europe/Helsinki:20241009T190000
DTEND;TZID=Europe/Helsinki:20241009T210000
DTSTAMP:20260425T225553
CREATED:20241004T143117Z
LAST-MODIFIED:20241004T143117Z
UID:14208-1728500400-1728507600@oefr.at
SUMMARY:Suche nach militärischer Laufbahn der Vorfahren in der k.u.k. Armee - 175. ÖFR-Online-Genealogenstammtisch
DESCRIPTION:Immer wieder stellt sich die Frage\, bei welcher Einheit ein Vorfahre seinen Militärdienst abgeleistet hat. Wo hat er seinen Dienst versehen\, welchen Dienstgrad hat er erreicht und wurde er vielleicht sogar auch ausgezeichnet? Manchmal sind auch Fotos vorhanden\, auf der wir die abgebildete Person nicht eindeutig zuordnen können. Militärische Aufzeichnungen aus den Beständen des Österreichischen Kriegsarchivs oder auch des Militärarchivs in Prag geben darüber meist Auskünfte. Viele der Bestände sind auf FamilySearch online verfügbar. \nDiesmal wollen wir uns diese Quellen und einige Behelfe sowie den Weg zu diesen näher anschauen. Sowohl Beispiele einfacher Soldaten als auch von Offizieren sollen dies veranschaulichen. \nDipl.-Ing. Leopold Strenn \nMilitärische Quellen der k.u.k. Armee \nMittwoch\, 9.10.2024\, 19.00 Uhr \nonline über Zoom \nEinlass ab 18.50 Uhr\, im Anschluss noch Diskussion\, Fragen klären und Erfahrungsaustausch. \nHier kommen Sie zur Anmeldung:\nRegistrieren Sie sich bitte hier \nhttps://us02web.zoom.us/meeting/register/tZMudemqrjItGdeUXdhClMbVP4mYHIPbt131 \nNach der Registrierung erhalten Sie ein Bestätigungs-E-Mail mit dem Zugangslink. \nBitte kommen Sie zeitgerecht\, Einlass ab 18.50 Uhr\, da es ab 19.00 Uhr zu Wartezeiten kommen kann! \nDie Teilnahme ist kostenlos und an keinerlei Mitgliedschaft gebunden. Mit der Teilnahme an unseren Veranstaltungen stimmen Sie der Veröffentlichung von Fotos\, Video- und Audioaufzeichnungen\, die im Rahmen des Abends entstehen\, zu. \nAlle Informationen zu unseren Veranstaltungen finden Sie auf unserer Website unter: https://oefr.at/events/ \nWir freuen uns über Ihre Teilnahme. \nteilen teilen teilen 
URL:https://oefr.at/event/suche-nach-militaerischer-laufbahn-der-vorfahren-in-der-k-u-k-armee-175-oefr-online-genealogenstammtisch/
LOCATION:Zoom
CATEGORIES:Genealogenstammtisch,Vortrag
ATTACH;FMTTYPE=image/jpeg:https://oefr.at/wp-content/uploads/P1180976-Kopie-Pfaller-Alois-Gefreiter-scaled-1.jpg
END:VEVENT
END:VCALENDAR