BEGIN:VCALENDAR
VERSION:2.0
PRODID:-//ÖFR-Österreichische Gesellschaft für Familien- und regionalgeschichtliche Forschung - ECPv6.15.20//NONSGML v1.0//EN
CALSCALE:GREGORIAN
METHOD:PUBLISH
X-WR-CALNAME:ÖFR-Österreichische Gesellschaft für Familien- und regionalgeschichtliche Forschung
X-ORIGINAL-URL:https://oefr.at
X-WR-CALDESC:Veranstaltungen für ÖFR-Österreichische Gesellschaft für Familien- und regionalgeschichtliche Forschung
REFRESH-INTERVAL;VALUE=DURATION:PT1H
X-Robots-Tag:noindex
X-PUBLISHED-TTL:PT1H
BEGIN:VTIMEZONE
TZID:Europe/Helsinki
BEGIN:DAYLIGHT
TZOFFSETFROM:+0200
TZOFFSETTO:+0300
TZNAME:EEST
DTSTART:20230326T010000
END:DAYLIGHT
BEGIN:STANDARD
TZOFFSETFROM:+0300
TZOFFSETTO:+0200
TZNAME:EET
DTSTART:20231029T010000
END:STANDARD
BEGIN:DAYLIGHT
TZOFFSETFROM:+0200
TZOFFSETTO:+0300
TZNAME:EEST
DTSTART:20240331T010000
END:DAYLIGHT
BEGIN:STANDARD
TZOFFSETFROM:+0300
TZOFFSETTO:+0200
TZNAME:EET
DTSTART:20241027T010000
END:STANDARD
BEGIN:DAYLIGHT
TZOFFSETFROM:+0200
TZOFFSETTO:+0300
TZNAME:EEST
DTSTART:20250330T010000
END:DAYLIGHT
BEGIN:STANDARD
TZOFFSETFROM:+0300
TZOFFSETTO:+0200
TZNAME:EET
DTSTART:20251026T010000
END:STANDARD
END:VTIMEZONE
BEGIN:VEVENT
DTSTART;TZID=Europe/Helsinki:20240925T090000
DTEND;TZID=Europe/Helsinki:20240925T103000
DTSTAMP:20260425T224814
CREATED:20240906T104802Z
LAST-MODIFIED:20240906T104802Z
UID:14064-1727254800-1727260200@oefr.at
SUMMARY:198. ÖFR-Ahnenforschungs-Café über Zoom
DESCRIPTION:Zum 39. Mal in diesem Jahr: Diskutieren über Familienforschung\, Neues erfahren\, Fragen klären\, Lesehilfe erhalten\, wieder Bekannte treffen\, und noch viel mehr. \nMittwoch\, 25. September 2024\, 09.00 Uhr\, Einlass ab 08.55 Uhr \nWir freuen uns Euch zu treffen\, Teilnahme ist natürlich kostenlos und an keinerlei Mitgliedschaft gebunden. \nHier die Zugangsdaten: \nhttps://us02web.zoom.us/j/81302020900?pwd=UEtYaHNpbkJVTHp1LzZ0U082THcxQT09 \nMeeting-ID: 813 0202 0900 \nKenncode: 343002 \n  \nteilen teilen teilen 
URL:https://oefr.at/event/198-oefr-ahnenforschungs-cafe-ueber-zoom/
LOCATION:Zoom
CATEGORIES:Genealogenstammtisch,Workshop
END:VEVENT
BEGIN:VEVENT
DTSTART;TZID=Europe/Helsinki:20240925T193000
DTEND;TZID=Europe/Helsinki:20240925T213000
DTSTAMP:20260425T224814
CREATED:20240906T103507Z
LAST-MODIFIED:20240906T131036Z
UID:14053-1727292600-1727299800@oefr.at
SUMMARY:Suche nach Soldaten des 2. Weltkriegs – 173. OFR-Online-Genealogiestammtisch
DESCRIPTION:Angehörige waren Soldaten im 2. Weltkrieg\, aber wir  wissen wenig sie und deren Schicksal. Wo diese Personen im Krieg alle waren und was sie genau gemacht hatten\, konnten meist oder wollten auch Familienangehörige und Verwandte nicht erzählen. Heute sind nahezu alle Wissensträger verstorben. Dokumente dazu gibt es ohnehin keine\, vielleicht noch ein paar alte Bilder. \nAnhand von mehreren Beispielen wird er uns Günter Zwickl die praktische Vorgangsweise erläutern und zeigen\, welche Informationen erhalten werden können. \nSuche nach Soldaten des 2. Weltkriegs – 173. OFR-Online-Genealogiestammtisch  \nIng. Günter Zwickl \nMittwoch\, 25. September 2024\, 19.30 Uhr – online über Zoom \nIm Anschluss an Vortrag und Diskussion haben wir unbeschränkt Zeit für Ihre Fragen\, Berichte\, natürlich auch Lesehilfe. Bereiten Sie Ihre Fragen einschließlich der erforderlichen Dokumente und Links vor. Wir können Ihnen sicher weiterhelfen. \nHier kommen Sie zur Anmeldung\nRegistrieren Sie sich bitte hier: \nhttps://us02web.zoom.us/meeting/register/tZYvfuihpz4vHNx6j-1UuVuiU1q8rcEphgSy \nNach der Registrierung erhalten Sie ein Bestätigungs-E-Mail mit dem Zugangslink. \nBitte kommen Sie zeitgerecht\, Einlass ab 19.15 Uhr\, da es ab 19.30 Uhr zu Wartezeiten kommen kann! \nDie Teilnahme ist kostenlos und an keinerlei Mitgliedschaft gebunden. Mit der Teilnahme an unseren Veranstaltungen stimmen Sie der Veröffentlichung von Fotos\, Video- und Audioaufzeichnungen\, die im Rahmen des Abends entstehen\, zu. \nAlle Informationen zu unseren Veranstaltungen finden Sie auf unserer Website unter: https://oefr.at/events/ \nWir freuen uns über Ihre Teilnahme. \n  \nteilen teilen teilen 
URL:https://oefr.at/event/suche-nach-soldaten-des-2-weltkriegs-173-ofr-online-genealogiestammtisch/
LOCATION:Zoom
CATEGORIES:Vortrag,Workshop
ATTACH;FMTTYPE=image/jpeg:https://oefr.at/wp-content/uploads/Strenn-Josef.jpg
END:VEVENT
END:VCALENDAR