BEGIN:VCALENDAR
VERSION:2.0
PRODID:-//ÖFR-Österreichische Gesellschaft für Familien- und regionalgeschichtliche Forschung - ECPv6.15.20//NONSGML v1.0//EN
CALSCALE:GREGORIAN
METHOD:PUBLISH
X-ORIGINAL-URL:https://oefr.at
X-WR-CALDESC:Veranstaltungen für ÖFR-Österreichische Gesellschaft für Familien- und regionalgeschichtliche Forschung
REFRESH-INTERVAL;VALUE=DURATION:PT1H
X-Robots-Tag:noindex
X-PUBLISHED-TTL:PT1H
BEGIN:VTIMEZONE
TZID:Europe/Helsinki
BEGIN:DAYLIGHT
TZOFFSETFROM:+0200
TZOFFSETTO:+0300
TZNAME:EEST
DTSTART:20230326T010000
END:DAYLIGHT
BEGIN:STANDARD
TZOFFSETFROM:+0300
TZOFFSETTO:+0200
TZNAME:EET
DTSTART:20231029T010000
END:STANDARD
BEGIN:DAYLIGHT
TZOFFSETFROM:+0200
TZOFFSETTO:+0300
TZNAME:EEST
DTSTART:20240331T010000
END:DAYLIGHT
BEGIN:STANDARD
TZOFFSETFROM:+0300
TZOFFSETTO:+0200
TZNAME:EET
DTSTART:20241027T010000
END:STANDARD
BEGIN:DAYLIGHT
TZOFFSETFROM:+0200
TZOFFSETTO:+0300
TZNAME:EEST
DTSTART:20250330T010000
END:DAYLIGHT
BEGIN:STANDARD
TZOFFSETFROM:+0300
TZOFFSETTO:+0200
TZNAME:EET
DTSTART:20251026T010000
END:STANDARD
END:VTIMEZONE
BEGIN:VEVENT
DTSTART;TZID=Europe/Helsinki:20240911T090000
DTEND;TZID=Europe/Helsinki:20240911T103000
DTSTAMP:20260426T013928
CREATED:20240906T104400Z
LAST-MODIFIED:20240906T104400Z
UID:14060-1726045200-1726050600@oefr.at
SUMMARY:196 ÖFR-Ahnenforschungs-Café über Zoom
DESCRIPTION:Zum 37. Mal in diesem Jahr: Diskutieren über Familienforschung\, Neues erfahren\, Fragen klären\, Lesehilfe erhalten\, wieder Bekannte treffen\, und noch viel mehr. \nMittwoch\, 11. September 2024\, 09.00 Uhr\, Einlass ab 08.55 Uhr \nWir freuen uns Euch zu treffen\, Teilnahme ist natürlich kostenlos und an keinerlei Mitgliedschaft gebunden. \nHier die Zugangsdaten: \nhttps://us02web.zoom.us/j/81302020900?pwd=UEtYaHNpbkJVTHp1LzZ0U082THcxQT09 \nMeeting-ID: 813 0202 0900 \nKenncode: 343002 \nteilen teilen teilen 
URL:https://oefr.at/event/196-oefr-ahnenforschungs-cafe-ueber-zoom/
LOCATION:Zoom
CATEGORIES:Genealogenstammtisch,Workshop
END:VEVENT
BEGIN:VEVENT
DTSTART;TZID=Europe/Helsinki:20240911T193000
DTEND;TZID=Europe/Helsinki:20240911T213000
DTSTAMP:20260426T013928
CREATED:20240904T102911Z
LAST-MODIFIED:20240904T102911Z
UID:14029-1726083000-1726090200@oefr.at
SUMMARY:„us Holz und Schtaa“ – ein neues GIS-Projekt - 171. Online-Genealogiestammtisch der ÖFR
DESCRIPTION:Vor Kurzem wurde ein neues GIS-Projekt zur Haus- und Hofgeschichte in Vorarlberg namens „us Holz und Schtaa“ veröffentlicht. Hinter dem Projekt stehen die beiden Vorarlberger Marcel Maister und Fabio Curman. Der Projektname ist ein Walgauer Dialektausdruck und nimmt Bezug auf die früher primär verwendeten Baumaterialien – Holz und Stein. \nNach „Hofnamen und Häusergeschichte“ Oberösterreichs\, Haus und Hof – Hausgeschichte digital (Niederösterreich) von Wolfgang Zehetner ist dies nun die dritte Online-Plattform zur Hausgeschichte. \nDiesmal werden uns die Projektleiter ihr Projekt vorstellen: \n„us Holz und Schtaa“ – ein neues GIS-Projekt \n 171. Online-Genealogiestammtisch der ÖFR \nFabio Curman und Marcel  Maister \nMittwoch\, 11. September 2024\, 19.30 Uhr – online über Zoom \nIm Anschluss an Vortrag und Diskussion haben wir unbeschränkt Zeit für Ihre Fragen\, Berichte\, natürlich auch Lesehilfe. Bereiten Sie Ihre Fragen einschließlich der erforderlichen Dokumente und Links vor. Wir können Ihnen sicher weiterhelfen. \nHier kommen Sie zur Anmeldung\nRegistrieren Sie sich bitte hier: \nhttps://us02web.zoom.us/meeting/register/tZEpcuCgrTsrHtD79K3B-XG903kJS1POR-PR \nNach der Registrierung erhalten Sie ein Bestätigungs-E-Mail mit dem Zugangslink. \nBitte kommen Sie zeitgerecht\, Einlass ab 19.15 Uhr\, da es ab 19.30 Uhr zu Wartezeiten kommen kann! \nDie Teilnahme ist kostenlos und an keinerlei Mitgliedschaft gebunden. Mit der Teilnahme an unseren Veranstaltungen stimmen Sie der Veröffentlichung von Fotos\, Video- und Audioaufzeichnungen\, die im Rahmen des Abends entstehen\, zu. \nAlle Informationen zu unseren Veranstaltungen finden Sie auf unserer Website unter: https://oefr.at/events/ \nWir freuen uns über Ihre Teilnahme. \n Bild:\nBludenz Nepomukbrunnen und Kirchgasse – C.m.b (https://commons.wikimedia.org/wiki/File:Bludenz_Nepomukbrunnen.JPG)\, „Bludenz Nepomukbrunnen“\, https://creativecommons.org/licenses/by-sa/3.0/legalcode \n  \n  \n  \nteilen teilen teilen 
URL:https://oefr.at/event/us-holz-und-schtaa-ein-neues-gis-projekt-171-online-genealogiestammtisch-der-oefr/
LOCATION:Zoom
CATEGORIES:Vortrag,Workshop
ATTACH;FMTTYPE=image/jpeg:https://oefr.at/wp-content/uploads/Bludenz_Nepomukbrunnen.jpg
END:VEVENT
END:VCALENDAR