BEGIN:VCALENDAR
VERSION:2.0
PRODID:-//ÖFR-Österreichische Gesellschaft für Familien- und regionalgeschichtliche Forschung - ECPv6.15.20//NONSGML v1.0//EN
CALSCALE:GREGORIAN
METHOD:PUBLISH
X-WR-CALNAME:ÖFR-Österreichische Gesellschaft für Familien- und regionalgeschichtliche Forschung
X-ORIGINAL-URL:https://oefr.at
X-WR-CALDESC:Veranstaltungen für ÖFR-Österreichische Gesellschaft für Familien- und regionalgeschichtliche Forschung
REFRESH-INTERVAL;VALUE=DURATION:PT1H
X-Robots-Tag:noindex
X-PUBLISHED-TTL:PT1H
BEGIN:VTIMEZONE
TZID:Europe/Paris
BEGIN:DAYLIGHT
TZOFFSETFROM:+0100
TZOFFSETTO:+0200
TZNAME:CEST
DTSTART:20200329T010000
END:DAYLIGHT
BEGIN:STANDARD
TZOFFSETFROM:+0200
TZOFFSETTO:+0100
TZNAME:CET
DTSTART:20201025T010000
END:STANDARD
BEGIN:DAYLIGHT
TZOFFSETFROM:+0100
TZOFFSETTO:+0200
TZNAME:CEST
DTSTART:20210328T010000
END:DAYLIGHT
BEGIN:STANDARD
TZOFFSETFROM:+0200
TZOFFSETTO:+0100
TZNAME:CET
DTSTART:20211031T010000
END:STANDARD
BEGIN:DAYLIGHT
TZOFFSETFROM:+0100
TZOFFSETTO:+0200
TZNAME:CEST
DTSTART:20220327T010000
END:DAYLIGHT
BEGIN:STANDARD
TZOFFSETFROM:+0200
TZOFFSETTO:+0100
TZNAME:CET
DTSTART:20221030T010000
END:STANDARD
END:VTIMEZONE
BEGIN:VEVENT
DTSTART;TZID=Europe/Paris:20210203T090000
DTEND;TZID=Europe/Paris:20210203T100000
DTSTAMP:20260426T031439
CREATED:20210131T144743Z
LAST-MODIFIED:20210131T144743Z
UID:6955-1612342800-1612346400@oefr.at
SUMMARY:12. ÖFR-Café über ZOOM
DESCRIPTION:Diesmal wieder wie gewohnt am Mittwoch – mit neuem Zugangscode! \nDiskutieren über Familienforschung\, Neues erfahren\, Fragen klären\, wieder Bekannte treffen und noch viel mehr.\nWir freuen uns auf Euch zu treffen\, Teilnahme ist natürlich kostenlos und an keinerlei Mitgliedschaft gebunden. \nDiesmal ersuchen wir Euch um Anmeldung mit Betreff “12. ÖFR-Cafe” unter Genealogenstammtisch@gmx.at bis spätestens Dienstag\, 2.2.2021\, 21.00 Uhr. Den Zugangslink erhaltet Ihr dann per Mail. \nDer Vorstand der ÖFR. \nteilen teilen teilen 
URL:https://oefr.at/event/12-oefr-cafe-ueber-zoom/
LOCATION:Zoom
CATEGORIES:Genealogenstammtisch
ATTACH;FMTTYPE=image/jpeg:https://oefr.at/wp-content/uploads/20200611_141156-Eggendorf-Winkelhofer.jpg
END:VEVENT
BEGIN:VEVENT
DTSTART;TZID=Europe/Paris:20210203T183000
DTEND;TZID=Europe/Paris:20210203T210000
DTSTAMP:20260426T031439
CREATED:20210131T153123Z
LAST-MODIFIED:20210131T153123Z
UID:6973-1612377000-1612386000@oefr.at
SUMMARY:7. Online-Stammtisch der ÖFR: Grundbücher als Quellen für Familien- und Hausgeschichtsforschung
DESCRIPTION:Nachdem bei unserem 3. Online-Stammtisch am 21. Juli 2020 aufgrund des großen Interesses viele nicht teilnehmen konnten\, das Interesse am Thema nach wie vor groß ist\, diesmal wieder das Thema Grundbücher mit Schwerpunkt Österreich\, aber auch Tschechien. \nGrundbücher als Quellen für Familien- und Hausgeschichtsforschung \nMittwoch\, 3. Februar 2021\, 18.30 – 21.00 Uhr \nDipl.-Ing. Leopold Strenn wird uns das Thema praxisbezogen näher bringen. Einlass ab 18.00 Uhr\, im Anschluss bis 21.00 Uhr noch Online-Plauderei und Erfahrungsaustausch. \nUm eine erfolgreiche Veranstaltung mit ausreichender Diskussionszeit abhalten zu können\, wird die Teilnehmerzahl beschränkt sein. Wir ersuchen Sie daher unter Angabe Ihres Familien- und Vornamens um Anmeldung mit Betreff “Online-7” bei genealogenstammtisch@gmx.at Sie erhalten dann ein Bestätigungsmail mit den Zugangsdaten. \nAnmeldeschluss: Dienstag\, 2. Februar 2021\, 21.00 Uhr\, sofern nicht vorher ausgebucht! \nMit der Teilnahme an unseren Veranstaltungen stimmen Sie der Veröffentlichung von Fotos\, Video- und Audioaufzeichnungen\, die im Rahmen der Veranstaltungen entstehen\, zu. \nDie Teilnahme ist natürlich kostenlos und an keinerlei Mitgliedschaft gebunden. \nWir freuen uns Sie online zu treffen! \n  \nP.S.: Alle Informationen zu unseren Veranstaltungen finden Sie auf unserer Website unter: https://oefr.at/events/ \nteilen teilen teilen 
URL:https://oefr.at/event/7-online-stammtisch-der-oefr-grundbuecher-als-quellen-fuer-familien-und-hausgeschichtsforschung/
LOCATION:online
CATEGORIES:Genealogenstammtisch,Vortrag
ATTACH;FMTTYPE=image/jpeg:https://oefr.at/wp-content/uploads/Grundbuch-P1000414_Ausschnitt.jpg
END:VEVENT
END:VCALENDAR