BEGIN:VCALENDAR
VERSION:2.0
PRODID:-//ÖFR-Österreichische Gesellschaft für Familien- und regionalgeschichtliche Forschung - ECPv6.15.20//NONSGML v1.0//EN
CALSCALE:GREGORIAN
METHOD:PUBLISH
X-ORIGINAL-URL:https://oefr.at
X-WR-CALDESC:Veranstaltungen für ÖFR-Österreichische Gesellschaft für Familien- und regionalgeschichtliche Forschung
REFRESH-INTERVAL;VALUE=DURATION:PT1H
X-Robots-Tag:noindex
X-PUBLISHED-TTL:PT1H
BEGIN:VTIMEZONE
TZID:Europe/Paris
BEGIN:DAYLIGHT
TZOFFSETFROM:+0100
TZOFFSETTO:+0200
TZNAME:CEST
DTSTART:20200329T010000
END:DAYLIGHT
BEGIN:STANDARD
TZOFFSETFROM:+0200
TZOFFSETTO:+0100
TZNAME:CET
DTSTART:20201025T010000
END:STANDARD
BEGIN:DAYLIGHT
TZOFFSETFROM:+0100
TZOFFSETTO:+0200
TZNAME:CEST
DTSTART:20210328T010000
END:DAYLIGHT
BEGIN:STANDARD
TZOFFSETFROM:+0200
TZOFFSETTO:+0100
TZNAME:CET
DTSTART:20211031T010000
END:STANDARD
BEGIN:DAYLIGHT
TZOFFSETFROM:+0100
TZOFFSETTO:+0200
TZNAME:CEST
DTSTART:20220327T010000
END:DAYLIGHT
BEGIN:STANDARD
TZOFFSETFROM:+0200
TZOFFSETTO:+0100
TZNAME:CET
DTSTART:20221030T010000
END:STANDARD
END:VTIMEZONE
BEGIN:VEVENT
DTSTART;TZID=Europe/Paris:20210126T090000
DTEND;TZID=Europe/Paris:20210126T100000
DTSTAMP:20260426T031021
CREATED:20210123T154655Z
LAST-MODIFIED:20210123T154655Z
UID:6939-1611651600-1611655200@oefr.at
SUMMARY:11. ÖFR-Café über ZOOM
DESCRIPTION:Diesmal ausnahmsweise am Dienstag\, auch mit neuem Zugangscode! \nDiskutieren über Familienforschung\, Neues erfahren\, Fragen klären\, wieder Bekannte treffen und noch viel mehr.\nWir freuen uns auf Euch zu treffen\, Teilnahme ist natürlich kostenlos und an keinerlei Mitgliedschaft gebunden. \nDiesmal ersuchen wir Euch um Anmeldung mit Betreff “11. ÖFR-Cafe” unter Genealogenstammtisch@gmx.at bis spätestens Montag\, 25.1.2021\, 21.00 Uhr. Den Zugangslink erhaltet Ihr dann per Mail. \nDer Vorstand der ÖFR. \nteilen teilen teilen 
URL:https://oefr.at/event/11-oefr-cafe-ueber-zoom/
LOCATION:Zoom
CATEGORIES:Genealogenstammtisch
ATTACH;FMTTYPE=image/jpeg:https://oefr.at/wp-content/uploads/20200611_141156-Eggendorf-Winkelhofer.jpg
END:VEVENT
END:VCALENDAR