BEGIN:VCALENDAR
VERSION:2.0
PRODID:-//ÖFR-Österreichische Gesellschaft für Familien- und regionalgeschichtliche Forschung - ECPv6.15.20//NONSGML v1.0//EN
CALSCALE:GREGORIAN
METHOD:PUBLISH
X-ORIGINAL-URL:https://oefr.at
X-WR-CALDESC:Veranstaltungen für ÖFR-Österreichische Gesellschaft für Familien- und regionalgeschichtliche Forschung
REFRESH-INTERVAL;VALUE=DURATION:PT1H
X-Robots-Tag:noindex
X-PUBLISHED-TTL:PT1H
BEGIN:VTIMEZONE
TZID:Europe/Paris
BEGIN:DAYLIGHT
TZOFFSETFROM:+0100
TZOFFSETTO:+0200
TZNAME:CEST
DTSTART:20190331T010000
END:DAYLIGHT
BEGIN:STANDARD
TZOFFSETFROM:+0200
TZOFFSETTO:+0100
TZNAME:CET
DTSTART:20191027T010000
END:STANDARD
BEGIN:DAYLIGHT
TZOFFSETFROM:+0100
TZOFFSETTO:+0200
TZNAME:CEST
DTSTART:20200329T010000
END:DAYLIGHT
BEGIN:STANDARD
TZOFFSETFROM:+0200
TZOFFSETTO:+0100
TZNAME:CET
DTSTART:20201025T010000
END:STANDARD
BEGIN:DAYLIGHT
TZOFFSETFROM:+0100
TZOFFSETTO:+0200
TZNAME:CEST
DTSTART:20210328T010000
END:DAYLIGHT
BEGIN:STANDARD
TZOFFSETFROM:+0200
TZOFFSETTO:+0100
TZNAME:CET
DTSTART:20211031T010000
END:STANDARD
END:VTIMEZONE
BEGIN:VEVENT
DTSTART;TZID=Europe/Paris:20201202T090000
DTEND;TZID=Europe/Paris:20201202T100000
DTSTAMP:20260425T213416
CREATED:20201129T105947Z
LAST-MODIFIED:20201129T105947Z
UID:6634-1606899600-1606903200@oefr.at
SUMMARY:3. ÖFR-Café
DESCRIPTION:Bereits zweimal erfolgreich stattgefunden\, nun zum dritten Mal. \nDiskutieren\, Neues erfahren\, Fragen klären und wieder Bekannte treffen\, die möglicherweise auch verwandt sind. \nWir freuen uns auf Euch\, Teilnahme ist natürlich kostenlos und an keinerlei Mitgliedschaft gebunden. \nDiesmal ersuchen wir Euch um Anmeldung mit Betreff “3. ÖFR-Cafe” unter Genealogenstammtisch@gmx.at bis spätestens Dienstag\, 1.12.2020\, 19.00 Uhr. \nDen Zugangslink erhaltet Ihr dann per Mail. \nDer Vorstand der ÖFR. \nteilen teilen teilen 
URL:https://oefr.at/event/3-oefr-cafe/
LOCATION:online
CATEGORIES:Genealogenstammtisch
ATTACH;FMTTYPE=image/jpeg:https://oefr.at/wp-content/uploads/Kaffeeservice-wien-1.jpg
END:VEVENT
END:VCALENDAR