BEGIN:VCALENDAR
VERSION:2.0
PRODID:-//ÖFR-Österreichische Gesellschaft für Familien- und regionalgeschichtliche Forschung - ECPv6.15.20//NONSGML v1.0//EN
CALSCALE:GREGORIAN
METHOD:PUBLISH
X-ORIGINAL-URL:https://oefr.at
X-WR-CALDESC:Veranstaltungen für ÖFR-Österreichische Gesellschaft für Familien- und regionalgeschichtliche Forschung
REFRESH-INTERVAL;VALUE=DURATION:PT1H
X-Robots-Tag:noindex
X-PUBLISHED-TTL:PT1H
BEGIN:VTIMEZONE
TZID:Europe/Helsinki
BEGIN:DAYLIGHT
TZOFFSETFROM:+0200
TZOFFSETTO:+0300
TZNAME:EEST
DTSTART:20190331T010000
END:DAYLIGHT
BEGIN:STANDARD
TZOFFSETFROM:+0300
TZOFFSETTO:+0200
TZNAME:EET
DTSTART:20191027T010000
END:STANDARD
BEGIN:DAYLIGHT
TZOFFSETFROM:+0200
TZOFFSETTO:+0300
TZNAME:EEST
DTSTART:20200329T010000
END:DAYLIGHT
BEGIN:STANDARD
TZOFFSETFROM:+0300
TZOFFSETTO:+0200
TZNAME:EET
DTSTART:20201025T010000
END:STANDARD
BEGIN:DAYLIGHT
TZOFFSETFROM:+0200
TZOFFSETTO:+0300
TZNAME:EEST
DTSTART:20210328T010000
END:DAYLIGHT
BEGIN:STANDARD
TZOFFSETFROM:+0300
TZOFFSETTO:+0200
TZNAME:EET
DTSTART:20211031T010000
END:STANDARD
END:VTIMEZONE
BEGIN:VEVENT
DTSTART;TZID=Europe/Helsinki:20200609T190000
DTEND;TZID=Europe/Helsinki:20200609T210000
DTSTAMP:20260421T053431
CREATED:20200604T175740Z
LAST-MODIFIED:20200604T183041Z
UID:6067-1591729200-1591736400@oefr.at
SUMMARY:Onlinestammtisch: Familienfotos datieren und interpretieren
DESCRIPTION:Sie besitzen Familienfotos und wissen nicht\, wie Sie diese datieren sollen? \nNicht nur der Fotograf\, das Papier\, sondern auch Uniform und Mode bieten dazu Möglichkeiten. Gabi Rudinger und Leopold Strenn bringen eine Einführung: \nFamilienfotos datieren und interpretieren \nAnschließend werden wir einige Bilder näher betrachten und analysieren. Wenn Sie auch Fotos haben\, die Sie nicht zuordnen können\, schicken Sie sie uns\, wir werden im Anschluss versuchen diese Fragen zu lösen. \nIm Anschluss wird es auch Zeit für Diskussionen und Erfahrungsaustausch geben. \nWieder eine Gelegenheit Neues zu erfahren\, Erfahrungen auszutauschen\, Bekannte\, Forscherkolleginnen und -kollegen – auch wenn nur online – zu treffen. \nDa die Teilnahmezahl beschränkt ist\, ersuchen wir Sie um Anmeldung mit dem Betreff “Familienfotos” an genealogenstammtisch(at)gmx.at \nSie erhalten dann ein Bestätigungsmail mit den Zugangsdaten. \nMit der Teilnahme an unseren Veranstaltungen stimmen Sie der Veröffentlichung von Fotos\, Video- und Audioaufzeichnungen\, die im Rahmen der Veranstaltungen entstehen\, zu. \nAlle Informationen zu unseren Veranstaltungen finden Sie auf unserer Website unter: https://oefr.at/events/ \n  \n  \nteilen teilen teilen 
URL:https://oefr.at/event/onlinestammtisch-familienfotos-datieren-und-interpretieren/
LOCATION:online
CATEGORIES:Genealogenstammtisch,Vortrag
ATTACH;FMTTYPE=image/jpeg:https://oefr.at/wp-content/uploads/Familienarchiv-Rudinger-Familienfotot.jpg
END:VEVENT
END:VCALENDAR