BEGIN:VCALENDAR
VERSION:2.0
PRODID:-//ÖFR-Österreichische Gesellschaft für Familien- und regionalgeschichtliche Forschung - ECPv6.15.20//NONSGML v1.0//EN
CALSCALE:GREGORIAN
METHOD:PUBLISH
X-WR-CALNAME:ÖFR-Österreichische Gesellschaft für Familien- und regionalgeschichtliche Forschung
X-ORIGINAL-URL:https://oefr.at
X-WR-CALDESC:Veranstaltungen für ÖFR-Österreichische Gesellschaft für Familien- und regionalgeschichtliche Forschung
REFRESH-INTERVAL;VALUE=DURATION:PT1H
X-Robots-Tag:noindex
X-PUBLISHED-TTL:PT1H
BEGIN:VTIMEZONE
TZID:Europe/Paris
BEGIN:DAYLIGHT
TZOFFSETFROM:+0100
TZOFFSETTO:+0200
TZNAME:CEST
DTSTART:20190331T010000
END:DAYLIGHT
BEGIN:STANDARD
TZOFFSETFROM:+0200
TZOFFSETTO:+0100
TZNAME:CET
DTSTART:20191027T010000
END:STANDARD
BEGIN:DAYLIGHT
TZOFFSETFROM:+0100
TZOFFSETTO:+0200
TZNAME:CEST
DTSTART:20200329T010000
END:DAYLIGHT
BEGIN:STANDARD
TZOFFSETFROM:+0200
TZOFFSETTO:+0100
TZNAME:CET
DTSTART:20201025T010000
END:STANDARD
BEGIN:DAYLIGHT
TZOFFSETFROM:+0100
TZOFFSETTO:+0200
TZNAME:CEST
DTSTART:20210328T010000
END:DAYLIGHT
BEGIN:STANDARD
TZOFFSETFROM:+0200
TZOFFSETTO:+0100
TZNAME:CET
DTSTART:20211031T010000
END:STANDARD
END:VTIMEZONE
BEGIN:VEVENT
DTSTART;TZID=Europe/Paris:20200317T183000
DTEND;TZID=Europe/Paris:20200317T203000
DTSTAMP:20260421T124710
CREATED:20200228T155452Z
LAST-MODIFIED:20200311T105546Z
UID:5558-1584469800-1584477000@oefr.at
SUMMARY:Abgesagt! 37. Genealogenstammtisch in Mistelbach
DESCRIPTION:Den aktuellen Empfehlungen der Bundesregierung folgend und zur Minimierung des Ansteckungsrisikos mit Covid-19 müssen die Stammtischtermine im März leider abgesagt werden. \nWir geben Ihnen Bescheid\, wann die Ersatztermine fixiert sind. \nSie besitzen Familienfotos und wissen nicht\, wie Sie diese datieren sollen? \nNicht nur der Fotograf\, das Papier\, sondern auch Uniform und Mode bieten dazu Möglichkeiten. Gabi Rudinger und Leopold Strenn bringen eine Einführung: \nFamilienfotos datieren \nAnschließend werden wir einige Bilder näher betrachten und analysieren. Wenn Sie auch Fotos haben\, die Sie nicht zuordnen können\, schicken Sie sie uns\, wir werden im Anschluss versuchen diese Fragen zu lösen. \nIm Anschluss wird es ausreichend Zeit für Diskussionen und Erfahrungsaustausch geben. \nWieder eine Gelegenheit Neues zu erfahren\, Erfahrungen auszutauschen\, Bekannte\, Forscherkolleginnen und -kollegen zu treffen.\nGanz besonders freuen wir uns\, wenn auch Anfängerinnen und Anfänger zu uns stoßen.Die Teilnahme ist natürlich kostenlos und an keinerlei Mitgliedschaft gebunden.\nUm für ausreichend Platz zu sorgen\, ersuchen wir Sie um Anmeldung mit dem Betreff “Mistelbach 37” an genealogenstammtisch(at)gmx.at \nWenn Sie jemanden kennen\, der an Familienforschung interessiert sein könnte\, nehmen Sie sie oder ihn ganz einfach mit! \nMit der Teilnahme an unseren Veranstaltungen stimmen Sie der Veröffentlichung von Fotos\, Video- und Audioaufzeichnungen\, die im Rahmen der Veranstaltungen entstehen\, zu. \nAlle Informationen zu unseren Veranstaltungen finden Sie auf unserer Website unter: https://oefr.at/events/ \n  \nBild: Familienfoto zur Jahrhundertwende\, Familienarchiv G. Rudinger \nteilen teilen teilen 
URL:https://oefr.at/event/37-genealogenstammtisch-in-mistelbach/
LOCATION:Hotel Restaurant zur Linde\, Bahnstraße 49\, Mistelbach\, Niederösterreich\, 2130\, Österreich
CATEGORIES:Genealogenstammtisch,Workshop
ATTACH;FMTTYPE=image/jpeg:https://oefr.at/wp-content/uploads/Familienarchiv-Rudinger-Familienfotot.jpg
END:VEVENT
END:VCALENDAR